![]() | Name | Last modified | Size | Description |
---|---|---|---|---|
![]() | Parent Directory | - | ||
![]() | checksrc-out.txt | 16-Oct-2021 04:06 | 4.1K | |
![]() | buildbin-out.txt | 16-Oct-2021 04:06 | 1.2K | |
![]() | install-out.txt | 16-Oct-2021 04:06 | 1.0K | |
![]() | buildsrc-out.txt | 16-Oct-2021 04:06 | 896 | |
![]() | buildbin-summary.dcf | 16-Oct-2021 04:06 | 547 | |
![]() | checksrc-summary.dcf | 16-Oct-2021 04:06 | 478 | |
![]() | buildsrc-summary.dcf | 16-Oct-2021 04:06 | 444 | |
![]() | install-summary.dcf | 16-Oct-2021 04:06 | 286 | |