Name | Last modified | Size | Description | |
---|---|---|---|---|
Parent Directory | - | |||
checksrc-summary.dcf | 16-Oct-2021 04:05 | 486 | ||
checksrc-out.txt | 16-Oct-2021 04:05 | 3.7K | ||
buildbin-summary.dcf | 16-Oct-2021 04:05 | 575 | ||
buildbin-out.txt | 16-Oct-2021 04:05 | 1.6K | ||
buildsrc-summary.dcf | 16-Oct-2021 04:05 | 482 | ||
buildsrc-out.txt | 16-Oct-2021 04:05 | 912 | ||
install-summary.dcf | 16-Oct-2021 04:05 | 694 | ||
install-out.txt | 16-Oct-2021 04:05 | 2.3K | ||