Name | Last modified | Size | Description | |
---|---|---|---|---|
Parent Directory | - | |||
buildbin-out.txt | 16-Oct-2021 04:05 | 1.6K | ||
buildbin-summary.dcf | 16-Oct-2021 04:05 | 521 | ||
buildsrc-out.txt | 16-Oct-2021 04:05 | 890 | ||
buildsrc-summary.dcf | 16-Oct-2021 04:05 | 447 | ||
checksrc-out.txt | 16-Oct-2021 04:05 | 4.5K | ||
checksrc-summary.dcf | 16-Oct-2021 04:05 | 450 | ||
install-out.txt | 16-Oct-2021 04:05 | 2.3K | ||
install-summary.dcf | 16-Oct-2021 04:05 | 613 | ||