Name | Last modified | Size | Description | |
---|---|---|---|---|
Parent Directory | - | |||
buildbin-out.txt | 16-Oct-2021 04:05 | 2.7K | ||
buildbin-summary.dcf | 16-Oct-2021 04:05 | 514 | ||
buildsrc-out.txt | 16-Oct-2021 04:05 | 917 | ||
buildsrc-summary.dcf | 16-Oct-2021 04:05 | 442 | ||
checksrc-out.txt | 16-Oct-2021 04:05 | 5.3K | ||
checksrc-summary.dcf | 16-Oct-2021 04:05 | 446 | ||
install-out.txt | 16-Oct-2021 04:05 | 3.4K | ||
install-summary.dcf | 16-Oct-2021 04:05 | 604 | ||