Index of /checkResults/3.13/bioc-LATEST/ArrayTools/raw-results/tokay2
Name
Last modified
Size
Description
Parent Directory
-
install-out.txt
16-Oct-2021 04:05
4.9K
buildsrc-out.txt
16-Oct-2021 04:05
2.9K
install-summary.dcf
16-Oct-2021 04:05
667
buildsrc-summary.dcf
16-Oct-2021 04:05
383