Index of /checkResults/3.13/bioc-LATEST/ArrayTools/raw-results/nebbiolo1
Name
Last modified
Size
Description
Parent Directory
-
install-summary.dcf
16-Oct-2021 04:05
265
buildsrc-summary.dcf
16-Oct-2021 04:05
339
install-out.txt
16-Oct-2021 04:05
1.1K
buildsrc-out.txt
16-Oct-2021 04:05
2.7K