Index of /checkResults/3.13/bioc-LATEST/AnnotationFuncs/raw-results/nebbiolo1
Name
Last modified
Size
Description
Parent Directory
-
buildsrc-out.txt
16-Oct-2021 04:05
2.8K
buildsrc-summary.dcf
16-Oct-2021 04:05
349
install-out.txt
16-Oct-2021 04:05
1.1K
install-summary.dcf
16-Oct-2021 04:05
275