![]() | Name | Last modified | Size | Description |
---|---|---|---|---|
![]() | Parent Directory | - | ||
![]() | install-summary.dcf | 16-Oct-2021 04:06 | 292 | |
![]() | install-out.txt | 16-Oct-2021 04:06 | 2.6K | |
![]() | checksrc-summary.dcf | 16-Oct-2021 04:06 | 490 | |
![]() | checksrc-out.txt | 16-Oct-2021 04:06 | 4.6K | |
![]() | buildsrc-summary.dcf | 16-Oct-2021 04:06 | 454 | |
![]() | buildsrc-out.txt | 16-Oct-2021 04:06 | 875 | |
![]() | buildbin-summary.dcf | 16-Oct-2021 04:06 | 565 | |
![]() | buildbin-out.txt | 16-Oct-2021 04:06 | 3.5K | |