Name | Last modified | Size | Description | |
---|---|---|---|---|
Parent Directory | - | |||
buildbin-out.txt | 16-Oct-2021 04:05 | 2.8K | ||
buildbin-summary.dcf | 16-Oct-2021 04:05 | 564 | ||
buildsrc-out.txt | 16-Oct-2021 04:05 | 925 | ||
buildsrc-summary.dcf | 16-Oct-2021 04:05 | 475 | ||
checksrc-out.txt | 16-Oct-2021 04:05 | 13K | ||
checksrc-summary.dcf | 16-Oct-2021 04:05 | 478 | ||
install-out.txt | 16-Oct-2021 04:05 | 3.5K | ||
install-summary.dcf | 16-Oct-2021 04:05 | 676 | ||