Index of /checkResults/3.13/bioc-LATEST/AffyExpress/raw-results/nebbiolo1
Name
Last modified
Size
Description
Parent Directory
-
install-summary.dcf
16-Oct-2021 04:05
266
install-out.txt
16-Oct-2021 04:05
1.1K
buildsrc-summary.dcf
16-Oct-2021 04:05
340
buildsrc-out.txt
16-Oct-2021 04:05
2.9K