Name | Last modified | Size | Description | |
---|---|---|---|---|
Parent Directory | - | |||
buildsrc-summary.dcf | 16-Oct-2021 04:05 | 487 | ||
checksrc-summary.dcf | 16-Oct-2021 04:05 | 490 | ||
buildbin-summary.dcf | 16-Oct-2021 04:05 | 581 | ||
install-summary.dcf | 16-Oct-2021 04:05 | 703 | ||
buildsrc-out.txt | 16-Oct-2021 04:05 | 940 | ||
buildbin-out.txt | 16-Oct-2021 04:05 | 2.1K | ||
install-out.txt | 16-Oct-2021 04:05 | 2.8K | ||
checksrc-out.txt | 16-Oct-2021 04:05 | 3.9K | ||