Name | Last modified | Size | Description | |
---|---|---|---|---|
Parent Directory | - | |||
install-summary.dcf | 16-Oct-2021 04:05 | 643 | ||
install-out.txt | 16-Oct-2021 04:05 | 3.3K | ||
checksrc-summary.dcf | 16-Oct-2021 04:05 | 463 | ||
checksrc-out.txt | 16-Oct-2021 04:05 | 4.5K | ||
buildsrc-summary.dcf | 16-Oct-2021 04:05 | 460 | ||
buildsrc-out.txt | 16-Oct-2021 04:05 | 941 | ||
buildbin-summary.dcf | 16-Oct-2021 04:05 | 542 | ||
buildbin-out.txt | 16-Oct-2021 04:05 | 2.6K | ||