![]() | Name | Last modified | Size | Description |
---|---|---|---|---|
![]() | Parent Directory | - | ||
![]() | install-summary.dcf | 16-Oct-2021 04:05 | 617 | |
![]() | install-out.txt | 16-Oct-2021 04:05 | 4.4K | |
![]() | checksrc-summary.dcf | 16-Oct-2021 04:05 | 453 | |
![]() | checksrc-out.txt | 16-Oct-2021 04:05 | 4.4K | |
![]() | buildsrc-summary.dcf | 16-Oct-2021 04:05 | 449 | |
![]() | buildsrc-out.txt | 16-Oct-2021 04:05 | 1.0K | |
![]() | buildbin-summary.dcf | 16-Oct-2021 04:05 | 524 | |
![]() | buildbin-out.txt | 16-Oct-2021 04:05 | 3.6K | |