Name | Last modified | Size | Description | |
---|---|---|---|---|
Parent Directory | - | |||
buildbin-out.txt | 16-Oct-2021 04:05 | 1.8K | ||
buildbin-summary.dcf | 16-Oct-2021 04:05 | 548 | ||
buildsrc-out.txt | 16-Oct-2021 04:05 | 914 | ||
buildsrc-summary.dcf | 16-Oct-2021 04:05 | 465 | ||
checksrc-out.txt | 16-Oct-2021 04:05 | 3.8K | ||
checksrc-summary.dcf | 16-Oct-2021 04:05 | 468 | ||
install-out.txt | 16-Oct-2021 04:05 | 2.6K | ||
install-summary.dcf | 16-Oct-2021 04:05 | 652 | ||