![]() | Name | Last modified | Size | Description |
---|---|---|---|---|
![]() | Parent Directory | - | ||
![]() | buildsrc-out.txt | 16-Oct-2021 04:05 | 876 | |
![]() | buildsrc-summary.dcf | 16-Oct-2021 04:05 | 422 | |
![]() | install-out.txt | 16-Oct-2021 04:05 | 1.0K | |
![]() | install-summary.dcf | 16-Oct-2021 04:05 | 262 | |
![]() | checksrc-out.txt | 16-Oct-2021 04:05 | 3.2K | |
![]() | checksrc-summary.dcf | 16-Oct-2021 04:05 | 430 | |