![]() | Name | Last modified | Size | Description |
---|---|---|---|---|
![]() | Parent Directory | - | ||
![]() | install-summary.dcf | 16-Oct-2021 04:06 | 289 | |
![]() | buildsrc-summary.dcf | 16-Oct-2021 04:06 | 449 | |
![]() | checksrc-summary.dcf | 16-Oct-2021 04:06 | 484 | |
![]() | buildbin-summary.dcf | 16-Oct-2021 04:06 | 556 | |
![]() | buildsrc-out.txt | 16-Oct-2021 04:06 | 903 | |
![]() | install-out.txt | 16-Oct-2021 04:06 | 1.1K | |
![]() | buildbin-out.txt | 16-Oct-2021 04:06 | 1.3K | |
![]() | checksrc-out.txt | 16-Oct-2021 04:06 | 3.6K | |