![]() | Name | Last modified | Size | Description |
---|---|---|---|---|
![]() | Parent Directory | - | ||
![]() | buildsrc-out.txt | 16-Oct-2021 04:05 | 790 | |
![]() | buildsrc-summary.dcf | 16-Oct-2021 04:05 | 404 | |
![]() | checksrc-out.txt | 16-Oct-2021 04:05 | 3.0K | |
![]() | checksrc-summary.dcf | 16-Oct-2021 04:05 | 408 | |
![]() | install-out.txt | 16-Oct-2021 04:05 | 935 | |
![]() | install-summary.dcf | 16-Oct-2021 04:05 | 251 | |