![]() | Name | Last modified | Size | Description |
---|---|---|---|---|
![]() | Parent Directory | - | ||
![]() | buildbin-out.txt | 16-Oct-2021 04:06 | 1.1K | |
![]() | buildbin-summary.dcf | 16-Oct-2021 04:06 | 523 | |
![]() | buildsrc-out.txt | 16-Oct-2021 04:06 | 817 | |
![]() | buildsrc-summary.dcf | 16-Oct-2021 04:06 | 431 | |
![]() | checksrc-out.txt | 16-Oct-2021 04:06 | 3.3K | |
![]() | checksrc-summary.dcf | 16-Oct-2021 04:06 | 462 | |
![]() | install-out.txt | 16-Oct-2021 04:06 | 1.0K | |
![]() | install-summary.dcf | 16-Oct-2021 04:06 | 278 | |