Index of /checkResults/3.13/bioc-LATEST/ALPS/raw-results/tokay2
Name
Last modified
Size
Description
Parent Directory
-
install-summary.dcf
16-Oct-2021 04:05
293
buildsrc-summary.dcf
16-Oct-2021 04:05
376
buildsrc-out.txt
16-Oct-2021 04:05
1.0K
install-out.txt
16-Oct-2021 04:05
1.9K