Name | Last modified | Size | Description | |
---|---|---|---|---|
Parent Directory | - | |||
buildsrc-out.txt | 16-Oct-2021 04:06 | 888 | ||
buildsrc-summary.dcf | 16-Oct-2021 04:06 | 438 | ||
install-out.txt | 16-Oct-2021 04:06 | 1.0K | ||
install-summary.dcf | 16-Oct-2021 04:06 | 282 | ||
checksrc-out.txt | 16-Oct-2021 04:06 | 5.9K | ||
checksrc-summary.dcf | 16-Oct-2021 04:06 | 470 | ||
buildbin-out.txt | 16-Oct-2021 04:06 | 1.2K | ||
buildbin-summary.dcf | 16-Oct-2021 04:06 | 535 | ||