Name | Last modified | Size | Description | |
---|---|---|---|---|
Parent Directory | - | |||
buildbin-out.txt | 16-Oct-2021 04:05 | 3.4K | ||
buildbin-summary.dcf | 16-Oct-2021 04:05 | 542 | ||
buildsrc-out.txt | 16-Oct-2021 04:05 | 849 | ||
buildsrc-summary.dcf | 16-Oct-2021 04:05 | 460 | ||
checksrc-out.txt | 16-Oct-2021 04:05 | 4.1K | ||
checksrc-summary.dcf | 16-Oct-2021 04:05 | 470 | ||
install-out.txt | 16-Oct-2021 04:05 | 4.1K | ||
install-summary.dcf | 16-Oct-2021 04:05 | 643 | ||