Name | Last modified | Size | Description | |
---|---|---|---|---|
Parent Directory | - | |||
checksrc-out.txt | 16-Oct-2021 04:06 | 4.2K | ||
buildbin-out.txt | 16-Oct-2021 04:06 | 2.8K | ||
install-out.txt | 16-Oct-2021 04:06 | 2.1K | ||
buildsrc-out.txt | 16-Oct-2021 04:06 | 850 | ||
buildbin-summary.dcf | 16-Oct-2021 04:06 | 526 | ||
checksrc-summary.dcf | 16-Oct-2021 04:06 | 464 | ||
buildsrc-summary.dcf | 16-Oct-2021 04:06 | 433 | ||
install-summary.dcf | 16-Oct-2021 04:06 | 279 | ||