Workflows build report for BioC 3.12

This page was generated on 2020-09-25 15:45:13 -0400 (Fri, 25 Sep 2020).

Approx. Package Snapshot Date (git pull): 2020-09-25 08:45:02 -0400 (Fri, 25 Sep 2020)

HostnameOSArch (*)Platform label (**)R versionInstalled pkgs
malbec1Linux (Ubuntu 18.04.4 LTS)x86_64x86_64-linux-gnu4.0.2 (2020-06-22) -- "Taking Off Again" 3912
nebbiolo1Linux (Ubuntu 20.04.1 LTS)x86_64x86_64-linux-gnu4.0.2 (2020-06-22) -- "Taking Off Again" 3902
riesling1Windows Server 2019 Standardx64mingw32 / x86_64-w64-mingw324.0.2 (2020-06-22) -- "Taking Off Again" 3863
Click on any hostname to see more info about the system (e.g. compilers)      (*) as reported by 'uname -p', except on Windows and Mac OS X      (**) as reported by 'gcc -v'

Package status is indicated by one of the following glyphs
 TIMEOUT  INSTALL or BUILD of package took more than 40 or 120 minutes, respectively Use the check boxes to show only packages with the selected status types.
 ERROR  Bad DESCRIPTION file or INSTALL or BUILD of package failed
 OK  INSTALL or BUILD of package was OK
 skipped  CHECK or BUILD BIN of package was skipped because the BUILD step failed
 NA  BUILD result is not available because of an anomaly in the Build System
Click on any glyph in the report below to access the detailed results.
Package propagation status is indicated by one of the following LEDs
YES YES: Package was propagated because it didn't previously exist or version was bumped
NO NO: Package was not propagated because of a problem (impossible dependencies, or version lower than what is already propagated)
UNNEEDED UNNEEDED: Package was not propagated because it is already in the repository with this version. A version bump is required in order to propagate it

A crossed-out package name indicates the package is deprecated


SUMMARYOS / ArchINSTALLBUILD
malbec1 Linux (Ubuntu 18.04.4 LTS) / x86_64 
0027
0225
nebbiolo1 Linux (Ubuntu 20.04.1 LTS) / x86_64 
0027
0225
riesling1 Windows Server 2019 Standard / x64 
0122
0419
Package 1/27HostnameOS / ArchINSTALLBUILD
annotation 1.13.0
Bioconductor Package Maintainer
Last Commit: 85aabf7
Last Changed Date: 2020-04-27 14:03:37 -0400
malbec1 Linux (Ubuntu 18.04.4 LTS) / x86_64  OK  OK UNNEEDED, same version exists in internal repository
nebbiolo1 Linux (Ubuntu 20.04.1 LTS) / x86_64  OK  OK 
riesling1 Windows Server 2019 Standard / x64  OK  OK 
Package 2/27HostnameOS / ArchINSTALLBUILD
arrays 1.15.0
Bioconductor Package Maintainer
Last Commit: 9505f95
Last Changed Date: 2020-04-27 14:03:41 -0400
malbec1 Linux (Ubuntu 18.04.4 LTS) / x86_64  OK  OK UNNEEDED, same version exists in internal repository
nebbiolo1 Linux (Ubuntu 20.04.1 LTS) / x86_64  OK  OK 
riesling1 Windows Server 2019 Standard / x64  OK  OK 
Package 3/27HostnameOS / ArchINSTALLBUILD
BiocMetaWorkflow 1.11.0
Mike Smith
Last Commit: 693b33b
Last Changed Date: 2020-04-27 14:05:20 -0400
malbec1 Linux (Ubuntu 18.04.4 LTS) / x86_64  OK  OK UNNEEDED, same version exists in internal repository
nebbiolo1 Linux (Ubuntu 20.04.1 LTS) / x86_64  OK  OK 
riesling1 Windows Server 2019 Standard / x64  OK  OK 
Package 4/27HostnameOS / ArchINSTALLBUILD
CAGEWorkflow 1.5.0
Malte Thodberg
Last Commit: 1692f76
Last Changed Date: 2020-04-27 14:05:42 -0400
malbec1 Linux (Ubuntu 18.04.4 LTS) / x86_64  OK  OK UNNEEDED, same version exists in internal repository
nebbiolo1 Linux (Ubuntu 20.04.1 LTS) / x86_64  OK  OK 
riesling1 Windows Server 2019 Standard / x64 ...NOT SUPPORTED...
Package 5/27HostnameOS / ArchINSTALLBUILD
chipseqDB 1.13.0
Aaron Lun
Last Commit: b11f6cf
Last Changed Date: 2020-04-27 14:03:46 -0400
malbec1 Linux (Ubuntu 18.04.4 LTS) / x86_64  OK  OK UNNEEDED, same version exists in internal repository
nebbiolo1 Linux (Ubuntu 20.04.1 LTS) / x86_64  OK  OK 
riesling1 Windows Server 2019 Standard / x64 ...NOT SUPPORTED...
Package 6/27HostnameOS / ArchINSTALLBUILD
csawUsersGuide 1.5.0
Aaron Lun
Last Commit: feabb04
Last Changed Date: 2020-04-27 14:05:34 -0400
malbec1 Linux (Ubuntu 18.04.4 LTS) / x86_64  OK  OK UNNEEDED, same version exists in internal repository
nebbiolo1 Linux (Ubuntu 20.04.1 LTS) / x86_64  OK  OK 
riesling1 Windows Server 2019 Standard / x64  OK  ERROR 
Package 7/27HostnameOS / ArchINSTALLBUILD
cytofWorkflow 1.13.1
Mark D. Robinson
Last Commit: 35879d0
Last Changed Date: 2020-04-29 04:55:22 -0400
malbec1 Linux (Ubuntu 18.04.4 LTS) / x86_64  OK  ERROR 
nebbiolo1 Linux (Ubuntu 20.04.1 LTS) / x86_64  OK  ERROR 
riesling1 Windows Server 2019 Standard / x64  OK  ERROR 
Package 8/27HostnameOS / ArchINSTALLBUILD
EGSEA123 1.13.0
Matthew Ritchie
Last Commit: 2da68d7
Last Changed Date: 2020-04-27 14:03:54 -0400
malbec1 Linux (Ubuntu 18.04.4 LTS) / x86_64  OK  OK UNNEEDED, same version exists in internal repository
nebbiolo1 Linux (Ubuntu 20.04.1 LTS) / x86_64  OK  OK 
riesling1 Windows Server 2019 Standard / x64  OK  OK 
Package 9/27HostnameOS / ArchINSTALLBUILD
eQTL 1.13.0
Vincent Carey
Last Commit: 9253a5c
Last Changed Date: 2020-04-27 14:03:58 -0400
malbec1 Linux (Ubuntu 18.04.4 LTS) / x86_64  OK  OK UNNEEDED, same version exists in internal repository
nebbiolo1 Linux (Ubuntu 20.04.1 LTS) / x86_64  OK  OK 
riesling1 Windows Server 2019 Standard / x64  OK  OK 
Package 10/27HostnameOS / ArchINSTALLBUILD
ExpressionNormalizationWorkflow 1.15.0
Karthikeyan Murugesan
Last Commit: 38a8149
Last Changed Date: 2020-04-27 14:04:06 -0400
malbec1 Linux (Ubuntu 18.04.4 LTS) / x86_64  OK  OK UNNEEDED, same version exists in internal repository
nebbiolo1 Linux (Ubuntu 20.04.1 LTS) / x86_64  OK  OK 
riesling1 Windows Server 2019 Standard / x64  OK  OK 
Package 11/27HostnameOS / ArchINSTALLBUILD
fluentGenomics 1.1.1
Stuart Lee
Last Commit: 75a8204
Last Changed Date: 2020-05-21 22:26:36 -0400
malbec1 Linux (Ubuntu 18.04.4 LTS) / x86_64  OK  OK UNNEEDED, same version exists in internal repository
nebbiolo1 Linux (Ubuntu 20.04.1 LTS) / x86_64  OK  OK 
riesling1 Windows Server 2019 Standard / x64  OK  OK 
Package 12/27HostnameOS / ArchINSTALLBUILD
generegulation 1.13.0
Bioconductor Package Maintainer
Last Commit: 4978bd7
Last Changed Date: 2020-04-27 14:04:10 -0400
malbec1 Linux (Ubuntu 18.04.4 LTS) / x86_64  OK  OK UNNEEDED, same version exists in internal repository
nebbiolo1 Linux (Ubuntu 20.04.1 LTS) / x86_64  OK  OK 
riesling1 Windows Server 2019 Standard / x64  OK  OK 
Package 13/27HostnameOS / ArchINSTALLBUILD
highthroughputassays 1.13.0
Bioconductor Package Maintainer
Last Commit: e2fc5c1
Last Changed Date: 2020-04-27 14:04:14 -0400
malbec1 Linux (Ubuntu 18.04.4 LTS) / x86_64  OK  OK UNNEEDED, same version exists in internal repository
nebbiolo1 Linux (Ubuntu 20.04.1 LTS) / x86_64  OK  OK 
riesling1 Windows Server 2019 Standard / x64 ...NOT SUPPORTED...
Package 14/27HostnameOS / ArchINSTALLBUILD
liftOver 1.13.0
Bioconductor Package Maintainer
Last Commit: 0c2f344
Last Changed Date: 2020-04-27 14:04:20 -0400
malbec1 Linux (Ubuntu 18.04.4 LTS) / x86_64  OK  OK UNNEEDED, same version exists in internal repository
nebbiolo1 Linux (Ubuntu 20.04.1 LTS) / x86_64  OK  OK 
riesling1 Windows Server 2019 Standard / x64  OK  OK 
Package 15/27HostnameOS / ArchINSTALLBUILD
maEndToEnd 2.9.0
Stefanie Reisenauer
Last Commit: 291bb91
Last Changed Date: 2020-04-27 14:05:25 -0400
malbec1 Linux (Ubuntu 18.04.4 LTS) / x86_64  OK  OK UNNEEDED, same version exists in internal repository
nebbiolo1 Linux (Ubuntu 20.04.1 LTS) / x86_64  OK  OK 
riesling1 Windows Server 2019 Standard / x64  OK  OK 
Package 16/27HostnameOS / ArchINSTALLBUILD
methylationArrayAnalysis 1.13.0
Jovana Maksimovic
Last Commit: c5d440d
Last Changed Date: 2020-04-27 14:04:25 -0400
malbec1 Linux (Ubuntu 18.04.4 LTS) / x86_64  OK  OK UNNEEDED, same version exists in internal repository
nebbiolo1 Linux (Ubuntu 20.04.1 LTS) / x86_64  OK  OK 
riesling1 Windows Server 2019 Standard / x64  OK  OK 
Package 17/27HostnameOS / ArchINSTALLBUILD
proteomics 1.13.1
Laurent Gatto
Last Commit: 4c81526
Last Changed Date: 2020-09-06 15:50:40 -0400
malbec1 Linux (Ubuntu 18.04.4 LTS) / x86_64  OK  OK UNNEEDED, same version exists in internal repository
nebbiolo1 Linux (Ubuntu 20.04.1 LTS) / x86_64  OK  OK 
riesling1 Windows Server 2019 Standard / x64  ERROR  ERROR 
Package 18/27HostnameOS / ArchINSTALLBUILD
recountWorkflow 1.13.1
Leonardo Collado-Torres
Last Commit: c1c205c
Last Changed Date: 2020-05-27 01:08:27 -0400
malbec1 Linux (Ubuntu 18.04.4 LTS) / x86_64  OK  OK UNNEEDED, same version exists in internal repository
nebbiolo1 Linux (Ubuntu 20.04.1 LTS) / x86_64  OK  OK 
riesling1 Windows Server 2019 Standard / x64  OK  OK 
Package 19/27HostnameOS / ArchINSTALLBUILD
RNAseq123 1.13.0
Matthew Ritchie
Last Commit: fabe5d9
Last Changed Date: 2020-04-27 14:04:50 -0400
malbec1 Linux (Ubuntu 18.04.4 LTS) / x86_64  OK  OK UNNEEDED, same version exists in internal repository
nebbiolo1 Linux (Ubuntu 20.04.1 LTS) / x86_64  OK  OK 
riesling1 Windows Server 2019 Standard / x64  OK  OK 
Package 20/27HostnameOS / ArchINSTALLBUILD
rnaseqDTU 1.9.0
Michael Love
Last Commit: 1f9ba79
Last Changed Date: 2020-04-27 14:05:31 -0400
malbec1 Linux (Ubuntu 18.04.4 LTS) / x86_64  OK  OK UNNEEDED, same version exists in internal repository
nebbiolo1 Linux (Ubuntu 20.04.1 LTS) / x86_64  OK  OK 
riesling1 Windows Server 2019 Standard / x64  OK  OK 
Package 21/27HostnameOS / ArchINSTALLBUILD
rnaseqGene 1.13.2
Michael Love
Last Commit: de39839
Last Changed Date: 2020-09-11 08:23:41 -0400
malbec1 Linux (Ubuntu 18.04.4 LTS) / x86_64  OK  OK UNNEEDED, same version exists in internal repository
nebbiolo1 Linux (Ubuntu 20.04.1 LTS) / x86_64  OK  OK 
riesling1 Windows Server 2019 Standard / x64  OK  OK 
Package 22/27HostnameOS / ArchINSTALLBUILD
RnaSeqGeneEdgeRQL 1.13.1
Yunshun Chen
Last Commit: 6eb338f
Last Changed Date: 2020-06-14 20:19:24 -0400
malbec1 Linux (Ubuntu 18.04.4 LTS) / x86_64  OK  OK UNNEEDED, same version exists in internal repository
nebbiolo1 Linux (Ubuntu 20.04.1 LTS) / x86_64  OK  OK 
riesling1 Windows Server 2019 Standard / x64  OK  OK 
Package 23/27HostnameOS / ArchINSTALLBUILD
sequencing 1.13.0
Bioconductor Package Maintainer
Last Commit: cab658b
Last Changed Date: 2020-04-27 14:05:03 -0400
malbec1 Linux (Ubuntu 18.04.4 LTS) / x86_64  OK  OK UNNEEDED, same version exists in internal repository
nebbiolo1 Linux (Ubuntu 20.04.1 LTS) / x86_64  OK  OK 
riesling1 Windows Server 2019 Standard / x64  OK  OK 
Package 24/27HostnameOS / ArchINSTALLBUILD
simpleSingleCell 1.13.18
Aaron Lun
Last Commit: 41c3afc
Last Changed Date: 2020-08-23 19:44:44 -0400
malbec1 Linux (Ubuntu 18.04.4 LTS) / x86_64  OK  OK UNNEEDED, same version exists in internal repository
nebbiolo1 Linux (Ubuntu 20.04.1 LTS) / x86_64  OK  OK 
riesling1 Windows Server 2019 Standard / x64 ...NOT SUPPORTED...
Package 25/27HostnameOS / ArchINSTALLBUILD
SingscoreAMLMutations 1.5.0
Dharmesh D. Bhuva
Last Commit: 504beb4
Last Changed Date: 2020-04-27 14:05:38 -0400
malbec1 Linux (Ubuntu 18.04.4 LTS) / x86_64  OK  OK UNNEEDED, same version exists in internal repository
nebbiolo1 Linux (Ubuntu 20.04.1 LTS) / x86_64  OK  OK 
riesling1 Windows Server 2019 Standard / x64  OK  OK 
Package 26/27HostnameOS / ArchINSTALLBUILD
TCGAWorkflow 1.13.0
Tiago Chedraoui Silva
Last Commit: 6979abc
Last Changed Date: 2020-04-27 14:05:11 -0400
malbec1 Linux (Ubuntu 18.04.4 LTS) / x86_64  OK  OK UNNEEDED, same version exists in internal repository
nebbiolo1 Linux (Ubuntu 20.04.1 LTS) / x86_64  OK  OK 
riesling1 Windows Server 2019 Standard / x64  OK  OK 
Package 27/27HostnameOS / ArchINSTALLBUILD
variants 1.13.0
Bioconductor Package Maintainer
Last Commit: 88e40a5
Last Changed Date: 2020-04-27 14:05:16 -0400
malbec1 Linux (Ubuntu 18.04.4 LTS) / x86_64  OK  ERROR 
nebbiolo1 Linux (Ubuntu 20.04.1 LTS) / x86_64  OK  ERROR 
riesling1 Windows Server 2019 Standard / x64  OK  ERROR