Back to Multiple platform build/check report for BioC 3.12 experimental data
ABCDEFGHIJKLMNOPQRS[T]UVWXYZ

BUILD report for tximportData on nebbiolo1

This page was generated on 2021-01-14 14:10:36 -0500 (Thu, 14 Jan 2021).

TO THE DEVELOPERS/MAINTAINERS OF THE tximportData PACKAGE: Please make sure to use the following settings in order to reproduce any error or warning you see on this page.
Package 384/398HostnameOS / ArchINSTALLBUILDCHECK
tximportData 1.18.0
Michael Love
Snapshot Date: 2021-01-14 09:00:17 -0500 (Thu, 14 Jan 2021)
URL: https://git.bioconductor.org/packages/tximportData
Branch: RELEASE_3_12
Last Commit: 24945f8
Last Changed Date: 2020-10-27 10:17:11 -0500 (Tue, 27 Oct 2020)
malbec1 Linux (Ubuntu 18.04.5 LTS) / x86_64  OK  OK  OK UNNEEDED, same version exists in internal repository
nebbiolo1 Linux (Ubuntu 20.04.1 LTS) / x86_64  OK [ OK ] OK 

Summary

Package: tximportData
Version: 1.18.0
Command: /home/biocbuild/bbs-3.12-bioc/R/bin/R CMD build --keep-empty-dirs --no-resave-data tximportData
StartedAt: 2021-01-14 10:41:30 -0500 (Thu, 14 Jan 2021)
EndedAt: 2021-01-14 10:42:24 -0500 (Thu, 14 Jan 2021)
EllapsedTime: 54.2 seconds
RetCode: 0
Status:  OK 
PackageFile: tximportData_1.18.0.tar.gz
PackageFileSize: 407 MiB

Command output

##############################################################################
##############################################################################
###
### Running command:
###
###   /home/biocbuild/bbs-3.12-bioc/R/bin/R CMD build --keep-empty-dirs --no-resave-data tximportData
###
##############################################################################
##############################################################################


* checking for file ‘tximportData/DESCRIPTION’ ... OK
* preparing ‘tximportData’:
* checking DESCRIPTION meta-information ... OK
* installing the package to build vignettes
* creating vignettes ... OK
* checking for LF line-endings in source and make files and shell scripts
* checking for empty or unneeded directories
* building ‘tximportData_1.18.0.tar.gz’