Back to Multiple platform build/check report for BioC 3.12 experimental data
ABCDEFGHIJKLMNOPQRS[T]UVWXYZ

Multiple platform build/check report for BioC 3.12 experimental data

Results for package tximportData

This page was generated on 2021-03-01 14:09:54 -0500 (Mon, 01 Mar 2021).

Package 384/398HostnameOS / ArchINSTALLBUILDCHECK
tximportData 1.18.0
Michael Love
Snapshot Date: 2021-03-01 09:00:10 -0500 (Mon, 01 Mar 2021)
URL: https://git.bioconductor.org/packages/tximportData
Branch: RELEASE_3_12
Last Commit: 24945f8
Last Changed Date: 2020-10-27 10:17:11 -0500 (Tue, 27 Oct 2020)
malbec1Linux (Ubuntu 18.04.5 LTS) / x86_64  OK    OK    OK  UNNEEDED, same version exists in internal repository
nebbiolo1Linux (Ubuntu 20.04.2 LTS) / x86_64  OK    NA    NA