Back to Multiple platform build/check report for BioC 3.12 experimental data
ABCDEFGHIJKLMNO[P]QRSTUVWXYZ

Multiple platform build/check report for BioC 3.12 experimental data

Results for package pathprintGEOData

This page was generated on 2021-03-01 14:09:54 -0500 (Mon, 01 Mar 2021).

Package 267/398HostnameOS / ArchINSTALLBUILDCHECK
pathprintGEOData 1.20.0
Sokratis Kariotis
Snapshot Date: 2021-03-01 09:00:10 -0500 (Mon, 01 Mar 2021)
URL: https://git.bioconductor.org/packages/pathprintGEOData
Branch: RELEASE_3_12
Last Commit: 545e7c7
Last Changed Date: 2020-10-27 10:22:44 -0500 (Tue, 27 Oct 2020)
malbec1Linux (Ubuntu 18.04.5 LTS) / x86_64  OK    OK    WARNINGS  UNNEEDED, same version exists in internal repository
nebbiolo1Linux (Ubuntu 20.04.2 LTS) / x86_64  OK    NA    NA