Back to Multiple platform build/check report for BioC 3.12 experimental data
ABCDEFGHIJKLMNO[P]QRSTUVWXYZ

Multiple platform build/check report for BioC 3.12 experimental data

Results for pasilla

This page was generated on 2020-11-30 14:10:13 -0500 (Mon, 30 Nov 2020).

Package 263/398HostnameOS / ArchINSTALLBUILDCHECK
pasilla 1.18.0
Alejandro Reyes
Snapshot Date: 2020-11-30 09:00:13 -0500 (Mon, 30 Nov 2020)
URL: https://git.bioconductor.org/packages/pasilla
Branch: RELEASE_3_12
Last Commit: ae82aea
Last Changed Date: 2020-10-27 09:53:30 -0500 (Tue, 27 Oct 2020)
malbec1 Linux (Ubuntu 18.04.4 LTS) / x86_64  OK  OK  OK UNNEEDED, same version exists in internal repository
nebbiolo1 Linux (Ubuntu 20.04.1 LTS) / x86_64  OK  OK  OK