Back to Build/check report for BioC 3.12 experimental data
ABCDEFGHIJKL[M]NOPQRSTUVWXYZ

Build/check report for BioC 3.12 experimental data

Results for mtbls2

This page was generated on 2020-10-29 15:36:04 -0400 (Thu, 29 Oct 2020).

Package 247/398HostnameOS / ArchINSTALLBUILDCHECK
mtbls2 1.20.0
Steffen Neumann
Snapshot Date: 2020-10-29 08:45:03 -0400 (Thu, 29 Oct 2020)
URL: https://git.bioconductor.org/packages/mtbls2
Branch: RELEASE_3_12
Last Commit: cbaf4dd
Last Changed Date: 2020-10-27 10:14:13 -0400 (Tue, 27 Oct 2020)
malbec1 Linux (Ubuntu 18.04.4 LTS) / x86_64  OK  ERROR  skipped