Back to Multiple platform build/check report for BioC 3.12 experimental data |
|
This page was generated on 2021-03-01 14:09:53 -0500 (Mon, 01 Mar 2021).
Package 86/398 | Hostname | OS / Arch | INSTALL | BUILD | CHECK | ||||||||
curatedOvarianData 1.28.0 Levi Waldron
| malbec1 | Linux (Ubuntu 18.04.5 LTS) / x86_64 | OK | OK | OK | ![]() | |||||||
nebbiolo1 | Linux (Ubuntu 20.04.2 LTS) / x86_64 | OK | OK | NA | |||||||||