Back to Multiple platform build/check report for BioC 3.12 experimental data
[A]BCDEFGHIJKLMNOPQRSTUVWXYZ

Multiple platform build/check report for BioC 3.12 experimental data

Results for airway

This page was generated on 2020-12-03 14:10:15 -0500 (Thu, 03 Dec 2020).

Package 10/398HostnameOS / ArchINSTALLBUILDCHECK
airway 1.10.0
Michael Love
Snapshot Date: 2020-12-03 09:00:10 -0500 (Thu, 03 Dec 2020)
URL: https://git.bioconductor.org/packages/airway
Branch: RELEASE_3_12
Last Commit: dd99f8e
Last Changed Date: 2020-10-27 10:09:39 -0500 (Tue, 27 Oct 2020)
malbec1 Linux (Ubuntu 18.04.4 LTS) / x86_64  OK  OK  WARNINGS UNNEEDED, same version exists in internal repository
nebbiolo1 Linux (Ubuntu 20.04.1 LTS) / x86_64  OK  OK  WARNINGS