Back to Build/check report for BioC 3.12 experimental data
ABCDEFGHIJK[L]MNOPQRSTUVWXYZ

Build/check report for BioC 3.12 experimental data

All results for package LungCancerACvsSCCGEO

This page was generated on 2021-04-15 14:08:14 -0400 (Thu, 15 Apr 2021).

Package 204/398HostnameOS / ArchINSTALLBUILDCHECK
LungCancerACvsSCCGEO 1.26.0  (landing page)
Adi Laurentiu Tarca
Snapshot Date: 2021-04-15 09:00:14 -0400 (Thu, 15 Apr 2021)
URL: https://git.bioconductor.org/packages/LungCancerACvsSCCGEO
Branch: RELEASE_3_12
Last Commit: 0bfc3ac
Last Changed Date: 2020-10-27 10:04:23 -0400 (Tue, 27 Oct 2020)
malbec1Linux (Ubuntu 18.04.5 LTS) / x86_64  OK    OK    OK  UNNEEDED, same version exists in internal repository