Multiple platform build/check report for BioC 3.12 experimental data

This page was generated on 2020-09-24 15:58:32 -0400 (Thu, 24 Sep 2020).

Approx. Package Snapshot Date (git pull): 2020-09-24 08:45:18 -0400 (Thu, 24 Sep 2020)

HostnameOSArch (*)Platform label (**)R versionInstalled pkgs
malbec1Linux (Ubuntu 18.04.4 LTS)x86_64x86_64-linux-gnu4.0.2 (2020-06-22) -- "Taking Off Again" 3912
nebbiolo1Linux (Ubuntu 20.04.1 LTS)x86_64x86_64-linux-gnu4.0.2 (2020-06-22) -- "Taking Off Again" 3902
riesling1Windows Server 2019 Standardx64mingw32 / x86_64-w64-mingw324.0.2 (2020-06-22) -- "Taking Off Again" 3863
Click on any hostname to see more info about the system (e.g. compilers)      (*) as reported by 'uname -p', except on Windows and Mac OS X      (**) as reported by 'gcc -v'

Package status is indicated by one of the following glyphs
 TIMEOUT  INSTALL, BUILD, CHECK or BUILD BIN of package took more than 40, 80, 80 or 40 minutes, respectively Use the check boxes to show only packages with the selected status types.
 ERROR  Bad DESCRIPTION file or INSTALL, BUILD or BUILD BIN of package failed, or CHECK produced errors
 WARNINGS  CHECK of package produced warnings
 OK  INSTALL, BUILD, CHECK or BUILD BIN of package was OK
 skipped  CHECK or BUILD BIN of package was skipped because the BUILD step failed
 NA  BUILD, CHECK or BUILD BIN result is not available because of an anomaly in the Build System
Click on any glyph in the report below to access the detailed results.
Package propagation status is indicated by one of the following LEDs
YES YES: Package was propagated because it didn't previously exist or version was bumped
NO NO: Package was not propagated because of a problem (impossible dependencies, or version lower than what is already propagated)
UNNEEDED UNNEEDED: Package was not propagated because it is already in the repository with this version. A version bump is required in order to propagate it

A crossed-out package name indicates the package is deprecated


SUMMARYOS / ArchINSTALLBUILDCHECK
malbec1 Linux (Ubuntu 18.04.4 LTS) / x86_64 
03392
080315
0182232
nebbiolo1 Linux (Ubuntu 20.04.1 LTS) / x86_64 
03392
080315
0182232
riesling1 Windows Server 2019 Standard / x64 
04390
082312
0698208
Package 1/395HostnameOS / ArchINSTALLBUILDCHECK
ABAData 1.19.0
Steffi Grote
Last Commit: 7fa5b01
Last Changed Date: 2020-04-27 15:37:05 -0400
malbec1 Linux (Ubuntu 18.04.4 LTS) / x86_64  OK  OK  OK UNNEEDED, same version exists in internal repository
nebbiolo1 Linux (Ubuntu 20.04.1 LTS) / x86_64  OK  OK  OK 
riesling1 Windows Server 2019 Standard / x64  OK  OK  OK 
Package 2/395HostnameOS / ArchINSTALLBUILDCHECK
adductData 1.5.0
Josie Hayes
Last Commit: 816da34
Last Changed Date: 2020-04-27 16:41:02 -0400
malbec1 Linux (Ubuntu 18.04.4 LTS) / x86_64  OK  OK  OK UNNEEDED, same version exists in internal repository
nebbiolo1 Linux (Ubuntu 20.04.1 LTS) / x86_64  OK  OK  OK 
riesling1 Windows Server 2019 Standard / x64  OK  OK  OK 
Package 3/395HostnameOS / ArchINSTALLBUILDCHECK
affycompData 1.27.0
Harris Jaffee
Last Commit: 2e6b3a6
Last Changed Date: 2020-04-27 15:04:37 -0400
malbec1 Linux (Ubuntu 18.04.4 LTS) / x86_64  OK  OK  OK UNNEEDED, same version exists in internal repository
nebbiolo1 Linux (Ubuntu 20.04.1 LTS) / x86_64  OK  OK  OK 
riesling1 Windows Server 2019 Standard / x64  OK  OK  WARNINGS 
Package 4/395HostnameOS / ArchINSTALLBUILDCHECK
affydata 1.37.0
Harris Jaffee
Last Commit: 6e8a462
Last Changed Date: 2020-08-12 13:52:39 -0400
malbec1 Linux (Ubuntu 18.04.4 LTS) / x86_64  OK  OK  WARNINGS UNNEEDED, same version exists in internal repository
nebbiolo1 Linux (Ubuntu 20.04.1 LTS) / x86_64  OK  OK  WARNINGS 
riesling1 Windows Server 2019 Standard / x64  OK  OK  WARNINGS 
Package 5/395HostnameOS / ArchINSTALLBUILDCHECK
Affyhgu133A2Expr 1.25.0
Zhicheng Ji
Last Commit: 5cbd96f
Last Changed Date: 2020-04-27 15:27:27 -0400
malbec1 Linux (Ubuntu 18.04.4 LTS) / x86_64  OK  OK  OK UNNEEDED, same version exists in internal repository
nebbiolo1 Linux (Ubuntu 20.04.1 LTS) / x86_64  OK  OK  OK 
riesling1 Windows Server 2019 Standard / x64  OK  OK  OK 
Package 6/395HostnameOS / ArchINSTALLBUILDCHECK
Affyhgu133aExpr 1.27.0
Zhicheng Ji
Last Commit: a75964f
Last Changed Date: 2020-04-27 15:26:02 -0400
malbec1 Linux (Ubuntu 18.04.4 LTS) / x86_64  OK  OK  OK UNNEEDED, same version exists in internal repository
nebbiolo1 Linux (Ubuntu 20.04.1 LTS) / x86_64  OK  OK  OK 
riesling1 Windows Server 2019 Standard / x64  OK  OK  OK 
Package 7/395HostnameOS / ArchINSTALLBUILDCHECK
Affyhgu133Plus2Expr 1.23.0
Zhicheng Ji
Last Commit: a7dd63a
Last Changed Date: 2020-04-27 15:27:39 -0400
malbec1 Linux (Ubuntu 18.04.4 LTS) / x86_64  OK  OK  OK UNNEEDED, same version exists in internal repository
nebbiolo1 Linux (Ubuntu 20.04.1 LTS) / x86_64  OK  OK  OK 
riesling1 Windows Server 2019 Standard / x64  OK  OK  OK 
Package 8/395HostnameOS / ArchINSTALLBUILDCHECK
AffymetrixDataTestFiles 0.27.0
Henrik Bengtsson
Last Commit: a48f742
Last Changed Date: 2020-04-27 14:51:53 -0400
malbec1 Linux (Ubuntu 18.04.4 LTS) / x86_64  OK  OK  OK UNNEEDED, same version exists in internal repository
nebbiolo1 Linux (Ubuntu 20.04.1 LTS) / x86_64  OK  OK  OK 
riesling1 Windows Server 2019 Standard / x64  OK  OK  OK 
Package 9/395HostnameOS / ArchINSTALLBUILDCHECK
Affymoe4302Expr 1.27.0
Zhicheng Ji
Last Commit: 0eb738f
Last Changed Date: 2020-04-27 15:26:35 -0400
malbec1 Linux (Ubuntu 18.04.4 LTS) / x86_64  OK  OK  OK UNNEEDED, same version exists in internal repository
nebbiolo1 Linux (Ubuntu 20.04.1 LTS) / x86_64  OK  OK  OK 
riesling1 Windows Server 2019 Standard / x64  OK  OK  OK 
Package 10/395HostnameOS / ArchINSTALLBUILDCHECK
airway 1.9.0
Michael Love
Last Commit: 3e9cbab
Last Changed Date: 2020-04-27 15:29:22 -0400
malbec1 Linux (Ubuntu 18.04.4 LTS) / x86_64  OK  OK  WARNINGS UNNEEDED, same version exists in internal repository
nebbiolo1 Linux (Ubuntu 20.04.1 LTS) / x86_64  OK  OK  WARNINGS 
riesling1 Windows Server 2019 Standard / x64  OK  OK  WARNINGS 
Package 11/395HostnameOS / ArchINSTALLBUILDCHECK
ALL 1.31.0
Robert Gentleman
Last Commit: 0d109ff
Last Changed Date: 2020-08-12 14:05:10 -0400
malbec1 Linux (Ubuntu 18.04.4 LTS) / x86_64  OK  OK  OK UNNEEDED, same version exists in internal repository
nebbiolo1 Linux (Ubuntu 20.04.1 LTS) / x86_64  OK  OK  OK 
riesling1 Windows Server 2019 Standard / x64  OK  OK  OK 
Package 12/395HostnameOS / ArchINSTALLBUILDCHECK
ALLMLL 1.29.0
B. M. Bolstad
Last Commit: 144ea02
Last Changed Date: 2020-04-27 14:52:12 -0400
malbec1 Linux (Ubuntu 18.04.4 LTS) / x86_64  OK  OK  OK UNNEEDED, same version exists in internal repository
nebbiolo1 Linux (Ubuntu 20.04.1 LTS) / x86_64  OK  OK  OK 
riesling1 Windows Server 2019 Standard / x64  OK  OK  OK 
Package 13/395HostnameOS / ArchINSTALLBUILDCHECK
alpineData 1.15.0
Michael Love
Last Commit: b26e602
Last Changed Date: 2020-04-27 16:19:26 -0400
malbec1 Linux (Ubuntu 18.04.4 LTS) / x86_64  OK  OK  OK UNNEEDED, same version exists in internal repository
nebbiolo1 Linux (Ubuntu 20.04.1 LTS) / x86_64  OK  OK  OK 
riesling1 Windows Server 2019 Standard / x64  OK  OK  OK 
Package 14/395HostnameOS / ArchINSTALLBUILDCHECK
AmpAffyExample 1.29.0
Rafael A. Irizarry
Last Commit: d487fee
Last Changed Date: 2020-04-27 14:52:17 -0400
malbec1 Linux (Ubuntu 18.04.4 LTS) / x86_64  OK  OK  WARNINGS UNNEEDED, same version exists in internal repository
nebbiolo1 Linux (Ubuntu 20.04.1 LTS) / x86_64  OK  OK  WARNINGS 
riesling1 Windows Server 2019 Standard / x64  OK  OK  WARNINGS 
Package 15/395HostnameOS / ArchINSTALLBUILDCHECK
AneuFinderData 1.17.0
Aaron Taudt
Last Commit: cca31af
Last Changed Date: 2020-04-27 16:15:17 -0400
malbec1 Linux (Ubuntu 18.04.4 LTS) / x86_64  OK  OK  WARNINGS UNNEEDED, same version exists in internal repository
nebbiolo1 Linux (Ubuntu 20.04.1 LTS) / x86_64  OK  OK  WARNINGS 
riesling1 Windows Server 2019 Standard / x64  OK  OK  WARNINGS 
Package 16/395HostnameOS / ArchINSTALLBUILDCHECK
antiProfilesData 1.25.0
Hector Corrada Bravo
Last Commit: 9e05b43
Last Changed Date: 2020-04-27 15:17:49 -0400
malbec1 Linux (Ubuntu 18.04.4 LTS) / x86_64  OK  OK  OK UNNEEDED, same version exists in internal repository
nebbiolo1 Linux (Ubuntu 20.04.1 LTS) / x86_64  OK  OK  OK 
riesling1 Windows Server 2019 Standard / x64  OK  OK  OK 
Package 17/395HostnameOS / ArchINSTALLBUILDCHECK
aracne.networks 1.15.0
Federico M. Giorgi , Mariano Alvarez
Last Commit: 41458d4
Last Changed Date: 2020-04-27 16:18:19 -0400
malbec1 Linux (Ubuntu 18.04.4 LTS) / x86_64  OK  OK  WARNINGS UNNEEDED, same version exists in internal repository
nebbiolo1 Linux (Ubuntu 20.04.1 LTS) / x86_64  OK  OK  WARNINGS 
riesling1 Windows Server 2019 Standard / x64  OK  OK  WARNINGS 
Package 18/395HostnameOS / ArchINSTALLBUILDCHECK
ARRmData 1.25.0
Jean-Philippe Fortin
Last Commit: 7e0e2f8
Last Changed Date: 2020-04-27 15:16:43 -0400
malbec1 Linux (Ubuntu 18.04.4 LTS) / x86_64  OK  OK  OK UNNEEDED, same version exists in internal repository
nebbiolo1 Linux (Ubuntu 20.04.1 LTS) / x86_64  OK  OK  OK 
riesling1 Windows Server 2019 Standard / x64  OK  OK  OK 
Package 19/395HostnameOS / ArchINSTALLBUILDCHECK
AshkenazimSonChr21 1.19.0
Who to complain to
Last Commit: a70dc32
Last Changed Date: 2020-04-27 15:36:10 -0400
malbec1 Linux (Ubuntu 18.04.4 LTS) / x86_64  OK  OK  OK UNNEEDED, same version exists in internal repository
nebbiolo1 Linux (Ubuntu 20.04.1 LTS) / x86_64  OK  OK  OK 
riesling1 Windows Server 2019 Standard / x64  OK  OK  OK 
Package 20/395HostnameOS / ArchINSTALLBUILDCHECK
ASICSdata 1.9.0
Gaëlle Lefort
Last Commit: 31c2427
Last Changed Date: 2020-04-27 16:37:39 -0400
malbec1 Linux (Ubuntu 18.04.4 LTS) / x86_64  OK  OK  OK UNNEEDED, same version exists in internal repository
nebbiolo1 Linux (Ubuntu 20.04.1 LTS) / x86_64  OK  OK  OK 
riesling1 Windows Server 2019 Standard / x64  OK  OK  OK 
Package 21/395HostnameOS / ArchINSTALLBUILDCHECK
AssessORFData 1.7.0
Deepank Korandla
Last Commit: fc69a23
Last Changed Date: 2020-04-27 16:40:24 -0400
malbec1 Linux (Ubuntu 18.04.4 LTS) / x86_64  OK  ERROR  skipped 
nebbiolo1 Linux (Ubuntu 20.04.1 LTS) / x86_64  OK  ERROR  skipped 
riesling1 Windows Server 2019 Standard / x64  OK  ERROR  skipped 
Package 22/395HostnameOS / ArchINSTALLBUILDCHECK
bcellViper 1.25.0
Mariano Javier Alvarez
Last Commit: 935b619
Last Changed Date: 2020-04-27 15:27:58 -0400
malbec1 Linux (Ubuntu 18.04.4 LTS) / x86_64  OK  OK  OK UNNEEDED, same version exists in internal repository
nebbiolo1 Linux (Ubuntu 20.04.1 LTS) / x86_64  OK  OK  OK 
riesling1 Windows Server 2019 Standard / x64  OK  OK  OK 
Package 23/395HostnameOS / ArchINSTALLBUILDCHECK
beadarrayExampleData 1.27.0
Mark Dunning
Last Commit: c9f339c
Last Changed Date: 2020-04-27 15:06:58 -0400
malbec1 Linux (Ubuntu 18.04.4 LTS) / x86_64  OK  OK  OK UNNEEDED, same version exists in internal repository
nebbiolo1 Linux (Ubuntu 20.04.1 LTS) / x86_64  OK  OK  OK 
riesling1 Windows Server 2019 Standard / x64  OK  OK  OK 
Package 24/395HostnameOS / ArchINSTALLBUILDCHECK
BeadArrayUseCases 1.27.0
Mike Smith
Last Commit: 1d14f93
Last Changed Date: 2020-04-27 15:07:16 -0400
malbec1 Linux (Ubuntu 18.04.4 LTS) / x86_64  OK  OK  OK UNNEEDED, same version exists in internal repository
nebbiolo1 Linux (Ubuntu 20.04.1 LTS) / x86_64  OK  OK  OK 
riesling1 Windows Server 2019 Standard / x64  OK  OK  OK 
Package 25/395HostnameOS / ArchINSTALLBUILDCHECK
benchmarkfdrData2019 1.3.0
Stephanie Hicks
Last Commit: 381fa39
Last Changed Date: 2020-04-27 16:43:16 -0400
malbec1 Linux (Ubuntu 18.04.4 LTS) / x86_64  OK  ERROR  skipped 
nebbiolo1 Linux (Ubuntu 20.04.1 LTS) / x86_64  OK  ERROR  skipped 
riesling1 Windows Server 2019 Standard / x64  OK  ERROR  skipped 
Package 26/395HostnameOS / ArchINSTALLBUILDCHECK
beta7 1.27.0
Jean Yang
Last Commit: 500c8a5
Last Changed Date: 2020-04-27 14:52:22 -0400
malbec1 Linux (Ubuntu 18.04.4 LTS) / x86_64  OK  OK  WARNINGS UNNEEDED, same version exists in internal repository
nebbiolo1 Linux (Ubuntu 20.04.1 LTS) / x86_64  OK  OK  WARNINGS 
riesling1 Windows Server 2019 Standard / x64  OK  OK  WARNINGS 
Package 27/395HostnameOS / ArchINSTALLBUILDCHECK
biotmleData 1.13.0
Nima Hejazi
Last Commit: 40c4f22
Last Changed Date: 2020-04-27 16:20:43 -0400
malbec1 Linux (Ubuntu 18.04.4 LTS) / x86_64  OK  OK  OK UNNEEDED, same version exists in internal repository
nebbiolo1 Linux (Ubuntu 20.04.1 LTS) / x86_64  OK  OK  OK 
riesling1 Windows Server 2019 Standard / x64  OK  OK  OK 
Package 28/395HostnameOS / ArchINSTALLBUILDCHECK
biscuiteerData 1.3.0
"Jacob Morrison"
Last Commit: f03ed8b
Last Changed Date: 2020-04-27 16:44:26 -0400
malbec1 Linux (Ubuntu 18.04.4 LTS) / x86_64  OK  ERROR  skipped 
nebbiolo1 Linux (Ubuntu 20.04.1 LTS) / x86_64  OK  ERROR  skipped 
riesling1 Windows Server 2019 Standard / x64  OK  ERROR  skipped 
Package 29/395HostnameOS / ArchINSTALLBUILDCHECK
bladderbatch 1.27.0
Jeffrey T. Leek
Last Commit: 8ba9d3f
Last Changed Date: 2020-04-27 15:06:48 -0400
malbec1 Linux (Ubuntu 18.04.4 LTS) / x86_64  OK  OK  WARNINGS UNNEEDED, same version exists in internal repository
nebbiolo1 Linux (Ubuntu 20.04.1 LTS) / x86_64  OK  OK  WARNINGS 
riesling1 Windows Server 2019 Standard / x64  OK  OK  WARNINGS 
Package 30/395HostnameOS / ArchINSTALLBUILDCHECK
blimaTestingData 1.9.0
Vojtech Kulvait
Last Commit: f5bf296
Last Changed Date: 2020-04-27 15:28:35 -0400
malbec1 Linux (Ubuntu 18.04.4 LTS) / x86_64  OK  OK  OK UNNEEDED, same version exists in internal repository
nebbiolo1 Linux (Ubuntu 20.04.1 LTS) / x86_64  OK  OK  OK 
riesling1 Windows Server 2019 Standard / x64  OK  OK  OK 
Package 31/395HostnameOS / ArchINSTALLBUILDCHECK
BloodCancerMultiOmics2017 1.9.0
Malgorzata Oles
Last Commit: 49e1a9f
Last Changed Date: 2020-04-27 16:31:58 -0400
malbec1 Linux (Ubuntu 18.04.4 LTS) / x86_64  OK  ERROR  skipped 
nebbiolo1 Linux (Ubuntu 20.04.1 LTS) / x86_64  OK  ERROR  skipped 
riesling1 Windows Server 2019 Standard / x64  OK  ERROR  skipped 
Package 32/395HostnameOS / ArchINSTALLBUILDCHECK
bodymapRat 1.5.0
Stephanie Hicks
Last Commit: 10fd86a
Last Changed Date: 2020-04-27 16:42:52 -0400
malbec1 Linux (Ubuntu 18.04.4 LTS) / x86_64  OK  ERROR  skipped 
nebbiolo1 Linux (Ubuntu 20.04.1 LTS) / x86_64  OK  ERROR  skipped 
riesling1 Windows Server 2019 Standard / x64  OK  ERROR  skipped 
Package 33/395HostnameOS / ArchINSTALLBUILDCHECK
brainImageRdata 1.7.0
Sara Linker
Last Commit: 0de9939
Last Changed Date: 2020-04-27 16:39:28 -0400
malbec1 Linux (Ubuntu 18.04.4 LTS) / x86_64  OK  OK  OK UNNEEDED, same version exists in internal repository
nebbiolo1 Linux (Ubuntu 20.04.1 LTS) / x86_64  OK  OK  OK 
riesling1 Windows Server 2019 Standard / x64  OK  OK  OK 
Package 34/395HostnameOS / ArchINSTALLBUILDCHECK
breakpointRdata 1.7.0
David Porubsky
Last Commit: 8c741fd
Last Changed Date: 2020-04-27 16:39:35 -0400
malbec1 Linux (Ubuntu 18.04.4 LTS) / x86_64  OK  ERROR  skipped 
nebbiolo1 Linux (Ubuntu 20.04.1 LTS) / x86_64  OK  ERROR  skipped 
riesling1 Windows Server 2019 Standard / x64  OK  ERROR  skipped 
Package 35/395HostnameOS / ArchINSTALLBUILDCHECK
breastCancerMAINZ 1.27.0
Markus Schroeder , Benjamin Haibe-Kains
Last Commit: a9e5e6c
Last Changed Date: 2020-04-27 15:04:47 -0400
malbec1 Linux (Ubuntu 18.04.4 LTS) / x86_64  OK  OK  WARNINGS UNNEEDED, same version exists in internal repository
nebbiolo1 Linux (Ubuntu 20.04.1 LTS) / x86_64  OK  OK  WARNINGS 
riesling1 Windows Server 2019 Standard / x64  OK  OK  WARNINGS 
Package 36/395HostnameOS / ArchINSTALLBUILDCHECK
breastCancerNKI 1.27.0
Markus Schroeder , Benjamin Haibe-Kains
Last Commit: d0c29f6
Last Changed Date: 2020-04-27 15:04:56 -0400
malbec1 Linux (Ubuntu 18.04.4 LTS) / x86_64  OK  OK  WARNINGS UNNEEDED, same version exists in internal repository
nebbiolo1 Linux (Ubuntu 20.04.1 LTS) / x86_64  OK  OK  WARNINGS 
riesling1 Windows Server 2019 Standard / x64  OK  OK  WARNINGS 
Package 37/395HostnameOS / ArchINSTALLBUILDCHECK
breastCancerTRANSBIG 1.27.0
Markus Schroeder , Benjamin Haibe-Kains
Last Commit: 188e92c
Last Changed Date: 2020-04-27 15:05:01 -0400
malbec1 Linux (Ubuntu 18.04.4 LTS) / x86_64  OK  OK  WARNINGS UNNEEDED, same version exists in internal repository
nebbiolo1 Linux (Ubuntu 20.04.1 LTS) / x86_64  OK  OK  WARNINGS 
riesling1 Windows Server 2019 Standard / x64  OK  OK  WARNINGS 
Package 38/395HostnameOS / ArchINSTALLBUILDCHECK
breastCancerUNT 1.27.0
Markus Schroeder , Benjamin Haibe-Kains
Last Commit: d6df9d9
Last Changed Date: 2020-04-27 15:05:09 -0400
malbec1 Linux (Ubuntu 18.04.4 LTS) / x86_64  OK  OK  WARNINGS UNNEEDED, same version exists in internal repository
nebbiolo1 Linux (Ubuntu 20.04.1 LTS) / x86_64  OK  OK  WARNINGS 
riesling1 Windows Server 2019 Standard / x64  OK  OK  WARNINGS 
Package 39/395HostnameOS / ArchINSTALLBUILDCHECK
breastCancerUPP 1.27.0
Markus Schroeder , Benjamin Haibe-Kains
Last Commit: 4a9d420
Last Changed Date: 2020-04-27 15:05:22 -0400
malbec1 Linux (Ubuntu 18.04.4 LTS) / x86_64  OK  OK  WARNINGS UNNEEDED, same version exists in internal repository
nebbiolo1 Linux (Ubuntu 20.04.1 LTS) / x86_64  OK  OK  WARNINGS 
riesling1 Windows Server 2019 Standard / x64  OK  OK  WARNINGS 
Package 40/395HostnameOS / ArchINSTALLBUILDCHECK
breastCancerVDX 1.27.0
Markus Schroeder , Benjamin Haibe-Kains
Last Commit: a618138
Last Changed Date: 2020-04-27 15:05:33 -0400
malbec1 Linux (Ubuntu 18.04.4 LTS) / x86_64  OK  OK  WARNINGS UNNEEDED, same version exists in internal repository
nebbiolo1 Linux (Ubuntu 20.04.1 LTS) / x86_64  OK  OK  WARNINGS 
riesling1 Windows Server 2019 Standard / x64  OK  OK  WARNINGS 
Package 41/395HostnameOS / ArchINSTALLBUILDCHECK
brgedata 1.11.0
Carlos Ruiz-Arenas
Last Commit: 73d4feb
Last Changed Date: 2020-04-27 16:21:23 -0400
malbec1 Linux (Ubuntu 18.04.4 LTS) / x86_64  OK  ERROR  skipped 
nebbiolo1 Linux (Ubuntu 20.04.1 LTS) / x86_64  OK  ERROR  skipped 
riesling1 Windows Server 2019 Standard / x64  OK  ERROR  skipped 
Package 42/395HostnameOS / ArchINSTALLBUILDCHECK
bronchialIL13 1.27.0
Vince Carey
Last Commit: 8bef16b
Last Changed Date: 2020-04-27 14:52:30 -0400
malbec1 Linux (Ubuntu 18.04.4 LTS) / x86_64  OK  OK  OK UNNEEDED, same version exists in internal repository
nebbiolo1 Linux (Ubuntu 20.04.1 LTS) / x86_64  OK  OK  OK 
riesling1 Windows Server 2019 Standard / x64  OK  OK  OK 
Package 43/395HostnameOS / ArchINSTALLBUILDCHECK
bsseqData 0.27.0
Kasper Daniel Hansen
Last Commit: 93b725c
Last Changed Date: 2020-04-27 15:11:08 -0400
malbec1 Linux (Ubuntu 18.04.4 LTS) / x86_64  OK  OK  OK UNNEEDED, same version exists in internal repository
nebbiolo1 Linux (Ubuntu 20.04.1 LTS) / x86_64  OK  OK  OK 
riesling1 Windows Server 2019 Standard / x64  OK  OK  OK 
Package 44/395HostnameOS / ArchINSTALLBUILDCHECK
cancerdata 1.27.0
Daniel Kosztyla
Last Commit: e89326f
Last Changed Date: 2020-04-27 15:10:01 -0400
malbec1 Linux (Ubuntu 18.04.4 LTS) / x86_64  OK  OK  OK UNNEEDED, same version exists in internal repository
nebbiolo1 Linux (Ubuntu 20.04.1 LTS) / x86_64  OK  OK  OK 
riesling1 Windows Server 2019 Standard / x64  OK  OK  OK 
Package 45/395HostnameOS / ArchINSTALLBUILDCHECK
CardinalWorkflows 1.21.0
Kylie A. Bemis
Last Commit: 99174c5
Last Changed Date: 2020-04-27 15:32:45 -0400
malbec1 Linux (Ubuntu 18.04.4 LTS) / x86_64  OK  ERROR  skipped 
nebbiolo1 Linux (Ubuntu 20.04.1 LTS) / x86_64  OK  ERROR  skipped 
riesling1 Windows Server 2019 Standard / x64  OK  ERROR  skipped 
Package 46/395HostnameOS / ArchINSTALLBUILDCHECK
ccdata 1.15.0
Alex Pickering
Last Commit: d7b2054
Last Changed Date: 2020-04-27 16:19:02 -0400
malbec1 Linux (Ubuntu 18.04.4 LTS) / x86_64  OK  OK  WARNINGS UNNEEDED, same version exists in internal repository
nebbiolo1 Linux (Ubuntu 20.04.1 LTS) / x86_64  OK  OK  WARNINGS 
riesling1 Windows Server 2019 Standard / x64  OK  OK  WARNINGS 
Package 47/395HostnameOS / ArchINSTALLBUILDCHECK
CCl4 1.27.0
Audrey Kauffmann
Last Commit: 8267f5b
Last Changed Date: 2020-04-27 14:56:12 -0400
malbec1 Linux (Ubuntu 18.04.4 LTS) / x86_64  OK  OK  WARNINGS UNNEEDED, same version exists in internal repository
nebbiolo1 Linux (Ubuntu 20.04.1 LTS) / x86_64  OK  OK  WARNINGS 
riesling1 Windows Server 2019 Standard / x64  OK  OK  WARNINGS 
Package 48/395HostnameOS / ArchINSTALLBUILDCHECK
ccTutorial 1.27.0
Joern Toedling
Last Commit: dd58015
Last Changed Date: 2020-04-27 14:59:42 -0400
malbec1 Linux (Ubuntu 18.04.4 LTS) / x86_64  OK  OK  OK UNNEEDED, same version exists in internal repository
nebbiolo1 Linux (Ubuntu 20.04.1 LTS) / x86_64  OK  OK  OK 
riesling1 Windows Server 2019 Standard / x64  OK  OK  OK 
Package 49/395HostnameOS / ArchINSTALLBUILDCHECK
celarefData 1.7.0
Sarah Williams
Last Commit: 3dcfeb8
Last Changed Date: 2020-04-27 16:39:08 -0400
malbec1 Linux (Ubuntu 18.04.4 LTS) / x86_64  OK  OK  OK UNNEEDED, same version exists in internal repository
nebbiolo1 Linux (Ubuntu 20.04.1 LTS) / x86_64  OK  OK  OK 
riesling1 Windows Server 2019 Standard / x64  OK  OK  OK 
Package 50/395HostnameOS / ArchINSTALLBUILDCHECK
celldex 0.99.1
Aaron Lun
Last Commit: ab95026
Last Changed Date: 2020-06-27 22:09:07 -0400
malbec1 Linux (Ubuntu 18.04.4 LTS) / x86_64  OK  ERROR  skipped 
nebbiolo1 Linux (Ubuntu 20.04.1 LTS) / x86_64  OK  ERROR  skipped 
riesling1 Windows Server 2019 Standard / x64  OK  ERROR  skipped 
Package 51/395HostnameOS / ArchINSTALLBUILDCHECK
CellMapperData 1.15.0
Brad Nelms
Last Commit: df25e90
Last Changed Date: 2020-04-27 16:19:29 -0400
malbec1 Linux (Ubuntu 18.04.4 LTS) / x86_64  OK  OK  OK UNNEEDED, same version exists in internal repository
nebbiolo1 Linux (Ubuntu 20.04.1 LTS) / x86_64  OK  OK  OK 
riesling1 Windows Server 2019 Standard / x64  OK  OK  OK 
Package 52/395HostnameOS / ArchINSTALLBUILDCHECK
ceu1kg 0.27.0
VJ Carey
Last Commit: 8359cb9
Last Changed Date: 2020-08-12 14:11:31 -0400
malbec1 Linux (Ubuntu 18.04.4 LTS) / x86_64  OK  OK  WARNINGS UNNEEDED, same version exists in internal repository
nebbiolo1 Linux (Ubuntu 20.04.1 LTS) / x86_64  OK  OK  WARNINGS 
riesling1 Windows Server 2019 Standard / x64  OK  OK  WARNINGS 
Package 53/395HostnameOS / ArchINSTALLBUILDCHECK
ceu1kgv 0.31.0
VJ Carey
Last Commit: d0cea7d
Last Changed Date: 2020-08-12 14:19:37 -0400
malbec1 Linux (Ubuntu 18.04.4 LTS) / x86_64  OK  OK  WARNINGS UNNEEDED, same version exists in internal repository
nebbiolo1 Linux (Ubuntu 20.04.1 LTS) / x86_64  OK  OK  WARNINGS 
riesling1 Windows Server 2019 Standard / x64  OK  OK  WARNINGS 
Package 54/395HostnameOS / ArchINSTALLBUILDCHECK
ceuhm3 0.27.0
VJ Carey
Last Commit: 6d4d5cd
Last Changed Date: 2020-04-27 15:03:49 -0400
malbec1 Linux (Ubuntu 18.04.4 LTS) / x86_64  OK  OK  WARNINGS UNNEEDED, same version exists in internal repository
nebbiolo1 Linux (Ubuntu 20.04.1 LTS) / x86_64  OK  OK  WARNINGS 
riesling1 Windows Server 2019 Standard / x64  OK  OK  WARNINGS 
Package 55/395HostnameOS / ArchINSTALLBUILDCHECK
cgdv17 0.27.0
VJ Carey
Last Commit: 6265f53
Last Changed Date: 2020-08-12 14:26:19 -0400
malbec1 Linux (Ubuntu 18.04.4 LTS) / x86_64  OK  OK  OK UNNEEDED, same version exists in internal repository
nebbiolo1 Linux (Ubuntu 20.04.1 LTS) / x86_64  OK  OK  OK 
riesling1 Windows Server 2019 Standard / x64  OK  OK  WARNINGS 
Package 56/395HostnameOS / ArchINSTALLBUILDCHECK
ChAMPdata 2.21.0
Yuan Tian
Last Commit: 20d32f8
Last Changed Date: 2020-04-27 15:23:32 -0400
malbec1 Linux (Ubuntu 18.04.4 LTS) / x86_64  OK  OK  OK UNNEEDED, same version exists in internal repository
nebbiolo1 Linux (Ubuntu 20.04.1 LTS) / x86_64  OK  OK  OK 
riesling1 Windows Server 2019 Standard / x64  OK  OK  OK 
Package 57/395HostnameOS / ArchINSTALLBUILDCHECK
ChIC.data 1.9.0
Carmen Maria Livi
Last Commit: 7f187d2
Last Changed Date: 2020-04-27 16:38:25 -0400
malbec1 Linux (Ubuntu 18.04.4 LTS) / x86_64  OK  OK  OK UNNEEDED, same version exists in internal repository
nebbiolo1 Linux (Ubuntu 20.04.1 LTS) / x86_64  OK  OK  OK 
riesling1 Windows Server 2019 Standard / x64  OK  OK  OK 
Package 58/395HostnameOS / ArchINSTALLBUILDCHECK
ChimpHumanBrainData 1.27.0
Sean Davis
Last Commit: 4558ffd
Last Changed Date: 2020-04-27 15:25:44 -0400
malbec1 Linux (Ubuntu 18.04.4 LTS) / x86_64  OK  OK  OK UNNEEDED, same version exists in internal repository
nebbiolo1 Linux (Ubuntu 20.04.1 LTS) / x86_64  OK  OK  OK 
riesling1 Windows Server 2019 Standard / x64  OK  OK  OK 
Package 59/395HostnameOS / ArchINSTALLBUILDCHECK
chipenrich.data 2.13.0
Raymond G. Cavalcante
Last Commit: a23cbc5
Last Changed Date: 2020-04-27 15:22:51 -0400
malbec1 Linux (Ubuntu 18.04.4 LTS) / x86_64  OK  ERROR  skipped 
nebbiolo1 Linux (Ubuntu 20.04.1 LTS) / x86_64  OK  ERROR  skipped 
riesling1 Windows Server 2019 Standard / x64  OK  ERROR  skipped 
Package 60/395HostnameOS / ArchINSTALLBUILDCHECK
ChIPexoQualExample 1.13.0
Rene Welch
Last Commit: cedc85c
Last Changed Date: 2020-04-27 16:20:25 -0400
malbec1 Linux (Ubuntu 18.04.4 LTS) / x86_64  OK  ERROR  skipped 
nebbiolo1 Linux (Ubuntu 20.04.1 LTS) / x86_64  OK  ERROR  skipped 
riesling1 Windows Server 2019 Standard / x64  OK  ERROR  skipped 
Package 61/395HostnameOS / ArchINSTALLBUILDCHECK
chipseqDBData 1.5.1
Aaron Lun
Last Commit: e88adb0
Last Changed Date: 2020-09-19 01:50:54 -0400
malbec1 Linux (Ubuntu 18.04.4 LTS) / x86_64  OK  ERROR  skipped 
nebbiolo1 Linux (Ubuntu 20.04.1 LTS) / x86_64  OK  ERROR  skipped 
riesling1 Windows Server 2019 Standard / x64  OK  ERROR  skipped 
Package 62/395HostnameOS / ArchINSTALLBUILDCHECK
ChIPXpressData 1.27.0
George Wu
Last Commit: dc1c45b
Last Changed Date: 2020-04-27 15:12:14 -0400
malbec1 Linux (Ubuntu 18.04.4 LTS) / x86_64  OK  OK  WARNINGS UNNEEDED, same version exists in internal repository
nebbiolo1 Linux (Ubuntu 20.04.1 LTS) / x86_64  OK  OK  WARNINGS 
riesling1 Windows Server 2019 Standard / x64 ...NOT SUPPORTED...
Package 63/395HostnameOS / ArchINSTALLBUILDCHECK
chromstaRData 1.15.0
Aaron Taudt
Last Commit: 6631ded
Last Changed Date: 2020-04-27 16:18:14 -0400
malbec1 Linux (Ubuntu 18.04.4 LTS) / x86_64  OK  OK  OK UNNEEDED, same version exists in internal repository
nebbiolo1 Linux (Ubuntu 20.04.1 LTS) / x86_64  OK  OK  OK 
riesling1 Windows Server 2019 Standard / x64  OK  OK  OK 
Package 64/395HostnameOS / ArchINSTALLBUILDCHECK
CLL 1.29.0
Robert Gentleman
Last Commit: c6c164e
Last Changed Date: 2020-04-27 14:52:35 -0400
malbec1 Linux (Ubuntu 18.04.4 LTS) / x86_64  OK  OK  OK UNNEEDED, same version exists in internal repository
nebbiolo1 Linux (Ubuntu 20.04.1 LTS) / x86_64  OK  OK  OK 
riesling1 Windows Server 2019 Standard / x64  OK  OK  OK 
Package 65/395HostnameOS / ArchINSTALLBUILDCHECK
CLLmethylation 1.9.0
Malgorzata Oles , Andreas Mock
Last Commit: fc166da
Last Changed Date: 2020-04-27 16:35:38 -0400
malbec1 Linux (Ubuntu 18.04.4 LTS) / x86_64  OK  ERROR  skipped 
nebbiolo1 Linux (Ubuntu 20.04.1 LTS) / x86_64  OK  ERROR  skipped 
riesling1 Windows Server 2019 Standard / x64  OK  ERROR  skipped 
Package 66/395HostnameOS / ArchINSTALLBUILDCHECK
CluMSIDdata 1.5.0
Tobias Depke
Last Commit: f149383
Last Changed Date: 2020-04-27 16:40:48 -0400
malbec1 Linux (Ubuntu 18.04.4 LTS) / x86_64  OK  OK  OK UNNEEDED, same version exists in internal repository
nebbiolo1 Linux (Ubuntu 20.04.1 LTS) / x86_64  OK  OK  OK 
riesling1 Windows Server 2019 Standard / x64  OK  OK  OK 
Package 67/395HostnameOS / ArchINSTALLBUILDCHECK
clustifyrdatahub 0.99.4
Rui Fu
Last Commit: 7726b99
Last Changed Date: 2020-09-10 15:13:42 -0400
malbec1 Linux (Ubuntu 18.04.4 LTS) / x86_64  OK  ERROR  skipped 
nebbiolo1 Linux (Ubuntu 20.04.1 LTS) / x86_64  OK  ERROR  skipped 
riesling1 Windows Server 2019 Standard / x64  OK  ERROR  skipped 
Package 68/395HostnameOS / ArchINSTALLBUILDCHECK
cMap2data 1.25.0
J. Saez-Rodriguez
Last Commit: 560a60e
Last Changed Date: 2020-04-27 15:16:52 -0400
malbec1 Linux (Ubuntu 18.04.4 LTS) / x86_64  OK  OK  OK UNNEEDED, same version exists in internal repository
nebbiolo1 Linux (Ubuntu 20.04.1 LTS) / x86_64  OK  OK  OK 
riesling1 Windows Server 2019 Standard / x64  OK  OK  OK 
Package 69/395HostnameOS / ArchINSTALLBUILDCHECK
cnvGSAdata 1.25.0
Joseph Lugo
Last Commit: 31ebe6c
Last Changed Date: 2020-04-27 15:09:54 -0400
malbec1 Linux (Ubuntu 18.04.4 LTS) / x86_64  OK  OK  WARNINGS UNNEEDED, same version exists in internal repository
nebbiolo1 Linux (Ubuntu 20.04.1 LTS) / x86_64  OK  OK  WARNINGS 
riesling1 Windows Server 2019 Standard / x64  OK  OK  WARNINGS 
Package 70/395HostnameOS / ArchINSTALLBUILDCHECK
COHCAPanno 1.25.0
Charles Warden
Last Commit: 83916cd
Last Changed Date: 2020-04-27 15:25:53 -0400
malbec1 Linux (Ubuntu 18.04.4 LTS) / x86_64  OK  OK  OK UNNEEDED, same version exists in internal repository
nebbiolo1 Linux (Ubuntu 20.04.1 LTS) / x86_64  OK  OK  OK 
riesling1 Windows Server 2019 Standard / x64  OK  OK  OK 
Package 71/395HostnameOS / ArchINSTALLBUILDCHECK
colonCA 1.31.0
W Sylvia Merk
Last Commit: 1b42b8a
Last Changed Date: 2020-04-27 14:52:38 -0400
malbec1 Linux (Ubuntu 18.04.4 LTS) / x86_64  OK  OK  WARNINGS UNNEEDED, same version exists in internal repository
nebbiolo1 Linux (Ubuntu 20.04.1 LTS) / x86_64  OK  OK  WARNINGS 
riesling1 Windows Server 2019 Standard / x64  OK  OK  WARNINGS 
Package 72/395HostnameOS / ArchINSTALLBUILDCHECK
CONFESSdata 1.17.0
Diana LOW
Last Commit: b0b66bd
Last Changed Date: 2020-04-27 16:15:42 -0400
malbec1 Linux (Ubuntu 18.04.4 LTS) / x86_64  OK  OK  OK UNNEEDED, same version exists in internal repository
nebbiolo1 Linux (Ubuntu 20.04.1 LTS) / x86_64  OK  OK  OK 
riesling1 Windows Server 2019 Standard / x64  OK  OK  OK 
Package 73/395HostnameOS / ArchINSTALLBUILDCHECK
ConnectivityMap 1.25.0
Paul Shannon
Last Commit: 2ee0f08
Last Changed Date: 2020-04-27 15:17:00 -0400
malbec1 Linux (Ubuntu 18.04.4 LTS) / x86_64  OK  OK  OK UNNEEDED, same version exists in internal repository
nebbiolo1 Linux (Ubuntu 20.04.1 LTS) / x86_64  OK  OK  OK 
riesling1 Windows Server 2019 Standard / x64  OK  OK  OK 
Package 74/395HostnameOS / ArchINSTALLBUILDCHECK
COPDSexualDimorphism.data 1.25.0
J Fah Sathirapongsasuti
Last Commit: c2f4de2
Last Changed Date: 2020-04-27 15:28:02 -0400
malbec1 Linux (Ubuntu 18.04.4 LTS) / x86_64  OK  OK  WARNINGS UNNEEDED, same version exists in internal repository
nebbiolo1 Linux (Ubuntu 20.04.1 LTS) / x86_64  OK  OK  WARNINGS 
riesling1 Windows Server 2019 Standard / x64  OK  OK  WARNINGS 
Package 75/395HostnameOS / ArchINSTALLBUILDCHECK
CopyhelpeR 1.21.0
Oscar Krijgsman
Last Commit: 89e441e
Last Changed Date: 2020-04-27 15:34:19 -0400
malbec1 Linux (Ubuntu 18.04.4 LTS) / x86_64  OK  OK  OK UNNEEDED, same version exists in internal repository
nebbiolo1 Linux (Ubuntu 20.04.1 LTS) / x86_64  OK  OK  OK 
riesling1 Windows Server 2019 Standard / x64  OK  OK  OK 
Package 76/395HostnameOS / ArchINSTALLBUILDCHECK
CopyNeutralIMA 1.7.0
Xavier Pastor Hostench
Last Commit: bbfbc62
Last Changed Date: 2020-04-27 16:39:05 -0400
malbec1 Linux (Ubuntu 18.04.4 LTS) / x86_64  OK  ERROR  skipped 
nebbiolo1 Linux (Ubuntu 20.04.1 LTS) / x86_64  OK  ERROR  skipped 
riesling1 Windows Server 2019 Standard / x64  OK  ERROR  skipped 
Package 77/395HostnameOS / ArchINSTALLBUILDCHECK
COSMIC.67 1.25.0
Julian Gehring
Last Commit: 787908b
Last Changed Date: 2020-04-27 15:24:39 -0400
malbec1 Linux (Ubuntu 18.04.4 LTS) / x86_64  OK  ERROR  skipped 
nebbiolo1 Linux (Ubuntu 20.04.1 LTS) / x86_64  OK  ERROR  skipped 
riesling1 Windows Server 2019 Standard / x64  OK  ERROR  skipped 
Package 78/395HostnameOS / ArchINSTALLBUILDCHECK
CRCL18 1.9.0
Claudio Isella
Last Commit: a64154b
Last Changed Date: 2020-04-27 15:29:28 -0400
malbec1 Linux (Ubuntu 18.04.4 LTS) / x86_64  OK  OK  OK UNNEEDED, same version exists in internal repository
nebbiolo1 Linux (Ubuntu 20.04.1 LTS) / x86_64  OK  OK  OK 
riesling1 Windows Server 2019 Standard / x64  OK  OK  OK 
Package 79/395HostnameOS / ArchINSTALLBUILDCHECK
curatedAdipoArray 1.1.0
Mahmoud Ahmed
Last Commit: 8294415
Last Changed Date: 2020-04-27 16:44:37 -0400
malbec1 Linux (Ubuntu 18.04.4 LTS) / x86_64  OK  OK  OK UNNEEDED, same version exists in internal repository
nebbiolo1 Linux (Ubuntu 20.04.1 LTS) / x86_64  OK  OK  OK 
riesling1 Windows Server 2019 Standard / x64  OK  OK  OK 
Package 80/395HostnameOS / ArchINSTALLBUILDCHECK
curatedAdipoChIP 1.5.0
Mahmoud Ahmed
Last Commit: 3928079
Last Changed Date: 2020-04-27 16:42:59 -0400
malbec1 Linux (Ubuntu 18.04.4 LTS) / x86_64  OK  OK  OK UNNEEDED, same version exists in internal repository
nebbiolo1 Linux (Ubuntu 20.04.1 LTS) / x86_64  OK  OK  OK 
riesling1 Windows Server 2019 Standard / x64  OK  OK  OK 
Package 81/395HostnameOS / ArchINSTALLBUILDCHECK
curatedAdipoRNA 1.5.0
Mahmoud Ahmed
Last Commit: cdb9c8b
Last Changed Date: 2020-04-27 16:42:45 -0400
malbec1 Linux (Ubuntu 18.04.4 LTS) / x86_64  OK  OK  OK UNNEEDED, same version exists in internal repository
nebbiolo1 Linux (Ubuntu 20.04.1 LTS) / x86_64  OK  OK  OK 
riesling1 Windows Server 2019 Standard / x64  OK  OK  OK 
Package 82/395HostnameOS / ArchINSTALLBUILDCHECK
curatedBladderData 1.25.0
Markus Riester
Last Commit: 77d7b26
Last Changed Date: 2020-04-27 15:22:45 -0400
malbec1 Linux (Ubuntu 18.04.4 LTS) / x86_64  OK  OK  OK UNNEEDED, same version exists in internal repository
nebbiolo1 Linux (Ubuntu 20.04.1 LTS) / x86_64  OK  OK  OK 
riesling1 Windows Server 2019 Standard / x64  OK  OK  OK 
Package 83/395HostnameOS / ArchINSTALLBUILDCHECK
curatedBreastData 2.17.0
Katie Planey
Last Commit: 5a7a210
Last Changed Date: 2020-04-27 15:33:23 -0400
malbec1 Linux (Ubuntu 18.04.4 LTS) / x86_64  OK  OK  OK UNNEEDED, same version exists in internal repository
nebbiolo1 Linux (Ubuntu 20.04.1 LTS) / x86_64  OK  OK  OK 
riesling1 Windows Server 2019 Standard / x64  OK  OK  OK 
Package 84/395HostnameOS / ArchINSTALLBUILDCHECK
curatedCRCData 2.21.0
Princy Parsana
Last Commit: 9868d4a
Last Changed Date: 2020-04-27 15:24:48 -0400
malbec1 Linux (Ubuntu 18.04.4 LTS) / x86_64  OK  OK  OK UNNEEDED, same version exists in internal repository
nebbiolo1 Linux (Ubuntu 20.04.1 LTS) / x86_64  OK  OK  OK 
riesling1 Windows Server 2019 Standard / x64  OK  OK  OK 
Package 85/395HostnameOS / ArchINSTALLBUILDCHECK
curatedMetagenomicData 1.19.3
Lucas Schiffer
Last Commit: 92cb19b
Last Changed Date: 2020-06-09 12:45:45 -0400
malbec1 Linux (Ubuntu 18.04.4 LTS) / x86_64  OK  ERROR  skipped 
nebbiolo1 Linux (Ubuntu 20.04.1 LTS) / x86_64  OK  ERROR  skipped 
riesling1 Windows Server 2019 Standard / x64  OK  ERROR  skipped 
Package 86/395HostnameOS / ArchINSTALLBUILDCHECK
curatedOvarianData 1.27.0
Levi Waldron
Last Commit: 3e2d070
Last Changed Date: 2020-04-27 15:15:45 -0400
malbec1 Linux (Ubuntu 18.04.4 LTS) / x86_64  OK  OK  OK UNNEEDED, same version exists in internal repository
nebbiolo1 Linux (Ubuntu 20.04.1 LTS) / x86_64  OK  OK  OK 
riesling1 Windows Server 2019 Standard / x64  OK  OK  OK 
Package 87/395HostnameOS / ArchINSTALLBUILDCHECK
curatedTCGAData 1.11.2
Marcel Ramos
Last Commit: ac92936
Last Changed Date: 2020-09-14 15:24:31 -0400
malbec1 Linux (Ubuntu 18.04.4 LTS) / x86_64  OK  ERROR  skipped 
nebbiolo1 Linux (Ubuntu 20.04.1 LTS) / x86_64  OK  ERROR  skipped 
riesling1 Windows Server 2019 Standard / x64  OK  ERROR  skipped 
Package 88/395HostnameOS / ArchINSTALLBUILDCHECK
DAPARdata 1.19.0
Samuel Wieczorek
Last Commit: 95b61b2
Last Changed Date: 2020-04-27 16:15:25 -0400
malbec1 Linux (Ubuntu 18.04.4 LTS) / x86_64  OK  OK  WARNINGS UNNEEDED, same version exists in internal repository
nebbiolo1 Linux (Ubuntu 20.04.1 LTS) / x86_64  OK  OK  WARNINGS 
riesling1 Windows Server 2019 Standard / x64  OK  OK  WARNINGS 
Package 89/395HostnameOS / ArchINSTALLBUILDCHECK
davidTiling 1.29.0
Wolfgang Huber
Last Commit: 85f00b2
Last Changed Date: 2020-04-27 14:52:44 -0400
malbec1 Linux (Ubuntu 18.04.4 LTS) / x86_64  OK  OK  WARNINGS UNNEEDED, same version exists in internal repository
nebbiolo1 Linux (Ubuntu 20.04.1 LTS) / x86_64  OK  OK  WARNINGS 
riesling1 Windows Server 2019 Standard / x64  OK  OK  WARNINGS 
Package 90/395HostnameOS / ArchINSTALLBUILDCHECK
depmap 1.3.1
Laurent Gatto
Last Commit: d4949c0
Last Changed Date: 2020-07-11 08:54:57 -0400
malbec1 Linux (Ubuntu 18.04.4 LTS) / x86_64  OK  ERROR  skipped 
nebbiolo1 Linux (Ubuntu 20.04.1 LTS) / x86_64  OK  ERROR  skipped 
riesling1 Windows Server 2019 Standard / x64  OK  ERROR  skipped 
Package 91/395HostnameOS / ArchINSTALLBUILDCHECK
derfinderData 2.7.1
Leonardo Collado-Torres
Last Commit: 6151615
Last Changed Date: 2020-05-27 01:05:45 -0400
malbec1 Linux (Ubuntu 18.04.4 LTS) / x86_64  OK  ERROR  skipped 
nebbiolo1 Linux (Ubuntu 20.04.1 LTS) / x86_64  OK  ERROR  skipped 
riesling1 Windows Server 2019 Standard / x64  OK  ERROR  skipped 
Package 92/395HostnameOS / ArchINSTALLBUILDCHECK
DeSousa2013 1.25.0
Xin Wang
Last Commit: c9e1aab
Last Changed Date: 2020-04-27 15:18:31 -0400
malbec1 Linux (Ubuntu 18.04.4 LTS) / x86_64  OK  OK  OK UNNEEDED, same version exists in internal repository
nebbiolo1 Linux (Ubuntu 20.04.1 LTS) / x86_64  OK  OK  OK 
riesling1 Windows Server 2019 Standard / x64  OK  OK  WARNINGS 
Package 93/395HostnameOS / ArchINSTALLBUILDCHECK
diffloopdata 1.17.0
Caleb Lareau
Last Commit: 1b642f7
Last Changed Date: 2020-04-27 16:16:15 -0400
malbec1 Linux (Ubuntu 18.04.4 LTS) / x86_64  OK  OK  OK UNNEEDED, same version exists in internal repository
nebbiolo1 Linux (Ubuntu 20.04.1 LTS) / x86_64  OK  OK  OK 
riesling1 Windows Server 2019 Standard / x64  OK  OK  OK 
Package 94/395HostnameOS / ArchINSTALLBUILDCHECK
diggitdata 1.21.0
Mariano Javier Alvarez
Last Commit: f4bc607
Last Changed Date: 2020-04-27 15:33:07 -0400
malbec1 Linux (Ubuntu 18.04.4 LTS) / x86_64  OK  OK  OK UNNEEDED, same version exists in internal repository
nebbiolo1 Linux (Ubuntu 20.04.1 LTS) / x86_64  OK  OK  OK 
riesling1 Windows Server 2019 Standard / x64  OK  OK  OK 
Package 95/395HostnameOS / ArchINSTALLBUILDCHECK
DLBCL 1.29.0
Marcus Dittrich
Last Commit: 9495b01
Last Changed Date: 2020-04-27 15:03:36 -0400
malbec1 Linux (Ubuntu 18.04.4 LTS) / x86_64  OK  OK  WARNINGS UNNEEDED, same version exists in internal repository
nebbiolo1 Linux (Ubuntu 20.04.1 LTS) / x86_64  OK  OK  WARNINGS 
riesling1 Windows Server 2019 Standard / x64  OK  OK  WARNINGS 
Package 96/395HostnameOS / ArchINSTALLBUILDCHECK
DmelSGI 1.21.0
Bernd Fischer
Last Commit: 88520b1
Last Changed Date: 2020-04-27 15:32:59 -0400
malbec1 Linux (Ubuntu 18.04.4 LTS) / x86_64  OK  ERROR  skipped 
nebbiolo1 Linux (Ubuntu 20.04.1 LTS) / x86_64  OK  ERROR  skipped 
riesling1 Windows Server 2019 Standard / x64  OK  ERROR  skipped 
Package 97/395HostnameOS / ArchINSTALLBUILDCHECK
DMRcatedata 2.7.0
Tim Peters
Last Commit: 5424f1b
Last Changed Date: 2020-04-27 15:27:16 -0400
malbec1 Linux (Ubuntu 18.04.4 LTS) / x86_64  OK  OK  OK UNNEEDED, same version exists in internal repository
nebbiolo1 Linux (Ubuntu 20.04.1 LTS) / x86_64  OK  OK  OK 
riesling1 Windows Server 2019 Standard / x64  OK  OK  OK 
Package 98/395HostnameOS / ArchINSTALLBUILDCHECK
DonaPLLP2013 1.27.0
Joseph D. Barry
Last Commit: 480f24f
Last Changed Date: 2020-04-27 15:21:26 -0400
malbec1 Linux (Ubuntu 18.04.4 LTS) / x86_64  OK  OK  OK UNNEEDED, same version exists in internal repository
nebbiolo1 Linux (Ubuntu 20.04.1 LTS) / x86_64  OK  OK  OK 
riesling1 Windows Server 2019 Standard / x64  OK  OK  OK 
Package 99/395HostnameOS / ArchINSTALLBUILDCHECK
dorothea 1.1.1
Christian H. Holland
Last Commit: af8c6d3
Last Changed Date: 2020-09-02 08:36:16 -0400
malbec1 Linux (Ubuntu 18.04.4 LTS) / x86_64  OK  ERROR  skipped 
nebbiolo1 Linux (Ubuntu 20.04.1 LTS) / x86_64  OK  ERROR  skipped 
riesling1 Windows Server 2019 Standard / x64  OK  ERROR  skipped 
Package 100/395HostnameOS / ArchINSTALLBUILDCHECK
DREAM4 1.25.0
Paul Shannon
Last Commit: f52854e
Last Changed Date: 2020-04-27 15:17:09 -0400
malbec1 Linux (Ubuntu 18.04.4 LTS) / x86_64  OK  OK  WARNINGS UNNEEDED, same version exists in internal repository
nebbiolo1 Linux (Ubuntu 20.04.1 LTS) / x86_64  OK  OK  WARNINGS 
riesling1 Windows Server 2019 Standard / x64  OK  OK  WARNINGS 
Package 101/395HostnameOS / ArchINSTALLBUILDCHECK
dressCheck 0.27.0
Vincent Carey
Last Commit: 0c48b44
Last Changed Date: 2020-08-12 14:29:17 -0400
malbec1 Linux (Ubuntu 18.04.4 LTS) / x86_64  OK  OK  OK UNNEEDED, same version exists in internal repository
nebbiolo1 Linux (Ubuntu 20.04.1 LTS) / x86_64  OK  OK  OK 
riesling1 Windows Server 2019 Standard / x64  OK  OK  OK 
Package 102/395HostnameOS / ArchINSTALLBUILDCHECK
DropletTestFiles 0.99.8
Aaron Lun
Last Commit: 46a3374
Last Changed Date: 2020-09-12 14:26:04 -0400
malbec1 Linux (Ubuntu 18.04.4 LTS) / x86_64  OK  ERROR  skipped 
nebbiolo1 Linux (Ubuntu 20.04.1 LTS) / x86_64  OK  ERROR  skipped 
riesling1 Windows Server 2019 Standard / x64  OK  ERROR  skipped 
Package 103/395HostnameOS / ArchINSTALLBUILDCHECK
DrugVsDiseasedata 1.25.0
J. Saez-Rodriguez
Last Commit: 6e99544
Last Changed Date: 2020-04-27 15:17:13 -0400
malbec1 Linux (Ubuntu 18.04.4 LTS) / x86_64  OK  OK  OK UNNEEDED, same version exists in internal repository
nebbiolo1 Linux (Ubuntu 20.04.1 LTS) / x86_64  OK  OK  OK 
riesling1 Windows Server 2019 Standard / x64  OK  OK  OK 
Package 104/395HostnameOS / ArchINSTALLBUILDCHECK
dsQTL 0.27.0
VJ Carey
Last Commit: d3abaa5
Last Changed Date: 2020-08-12 15:22:22 -0400
malbec1 Linux (Ubuntu 18.04.4 LTS) / x86_64  OK  OK  WARNINGS UNNEEDED, same version exists in internal repository
nebbiolo1 Linux (Ubuntu 20.04.1 LTS) / x86_64  OK  OK  WARNINGS 
riesling1 Windows Server 2019 Standard / x64  OK  OK  WARNINGS 
Package 105/395HostnameOS / ArchINSTALLBUILDCHECK
DuoClustering2018 1.7.0
Angelo Duò
Last Commit: 94b485e
Last Changed Date: 2020-04-27 16:39:12 -0400
malbec1 Linux (Ubuntu 18.04.4 LTS) / x86_64  OK  ERROR  skipped 
nebbiolo1 Linux (Ubuntu 20.04.1 LTS) / x86_64  OK  ERROR  skipped 
riesling1 Windows Server 2019 Standard / x64  OK  ERROR  skipped 
Package 106/395HostnameOS / ArchINSTALLBUILDCHECK
DvDdata 1.25.0
J. Saez-Rodriguez
Last Commit: 5999239
Last Changed Date: 2020-04-27 15:16:05 -0400
malbec1 Linux (Ubuntu 18.04.4 LTS) / x86_64  OK  OK  OK UNNEEDED, same version exists in internal repository
nebbiolo1 Linux (Ubuntu 20.04.1 LTS) / x86_64  OK  OK  OK 
riesling1 Windows Server 2019 Standard / x64  OK  OK  OK 
Package 107/395HostnameOS / ArchINSTALLBUILDCHECK
dyebiasexamples 1.29.0
Philip Lijnzaad
Last Commit: bb13574
Last Changed Date: 2020-04-27 15:02:26 -0400
malbec1 Linux (Ubuntu 18.04.4 LTS) / x86_64  OK  OK  WARNINGS UNNEEDED, same version exists in internal repository
nebbiolo1 Linux (Ubuntu 20.04.1 LTS) / x86_64  OK  OK  WARNINGS 
riesling1 Windows Server 2019 Standard / x64  OK  OK  WARNINGS 
Package 108/395HostnameOS / ArchINSTALLBUILDCHECK
EatonEtAlChIPseq 0.27.0
Patrick Aboyoun
Last Commit: b982441
Last Changed Date: 2020-04-27 15:03:31 -0400
malbec1 Linux (Ubuntu 18.04.4 LTS) / x86_64  OK  OK  WARNINGS UNNEEDED, same version exists in internal repository
nebbiolo1 Linux (Ubuntu 20.04.1 LTS) / x86_64  OK  OK  WARNINGS 
riesling1 Windows Server 2019 Standard / x64  OK  OK  WARNINGS 
Package 109/395HostnameOS / ArchINSTALLBUILDCHECK
ecoliLeucine 1.29.0
Laurent Gautier
Last Commit: b3033d8
Last Changed Date: 2020-04-27 14:53:00 -0400
malbec1 Linux (Ubuntu 18.04.4 LTS) / x86_64  OK  OK  WARNINGS UNNEEDED, same version exists in internal repository
nebbiolo1 Linux (Ubuntu 20.04.1 LTS) / x86_64  OK  OK  WARNINGS 
riesling1 Windows Server 2019 Standard / x64  OK  OK  WARNINGS 
Package 110/395HostnameOS / ArchINSTALLBUILDCHECK
EGSEAdata 1.17.0
Monther Alhamdoosh
Last Commit: ea064c0
Last Changed Date: 2020-04-27 16:16:23 -0400
malbec1 Linux (Ubuntu 18.04.4 LTS) / x86_64  OK  OK  OK UNNEEDED, same version exists in internal repository
nebbiolo1 Linux (Ubuntu 20.04.1 LTS) / x86_64  OK  OK  OK 
riesling1 Windows Server 2019 Standard / x64  OK  OK  OK 
Package 111/395HostnameOS / ArchINSTALLBUILDCHECK
ELMER.data 2.13.0
Tiago Chedraoui Silva
Last Commit: 4ab81b5
Last Changed Date: 2020-04-27 15:35:24 -0400
malbec1 Linux (Ubuntu 18.04.4 LTS) / x86_64  OK  ERROR  skipped 
nebbiolo1 Linux (Ubuntu 20.04.1 LTS) / x86_64  OK  ERROR  skipped 
riesling1 Windows Server 2019 Standard / x64  OK  ERROR  skipped 
Package 112/395HostnameOS / ArchINSTALLBUILDCHECK
estrogen 1.35.0
Wolfgang Huber
Last Commit: 86edb58
Last Changed Date: 2020-04-27 14:53:06 -0400
malbec1 Linux (Ubuntu 18.04.4 LTS) / x86_64  OK  OK  OK UNNEEDED, same version exists in internal repository
nebbiolo1 Linux (Ubuntu 20.04.1 LTS) / x86_64  OK  OK  OK 
riesling1 Windows Server 2019 Standard / x64  OK  OK  OK 
Package 113/395HostnameOS / ArchINSTALLBUILDCHECK
etec16s 1.17.0
Joseph N. Paulson
Last Commit: 4df2a90
Last Changed Date: 2020-04-27 16:16:06 -0400
malbec1 Linux (Ubuntu 18.04.4 LTS) / x86_64  OK  OK  OK UNNEEDED, same version exists in internal repository
nebbiolo1 Linux (Ubuntu 20.04.1 LTS) / x86_64  OK  OK  OK 
riesling1 Windows Server 2019 Standard / x64  OK  OK  OK 
Package 114/395HostnameOS / ArchINSTALLBUILDCHECK
faahKO 1.29.0
Steffen Neumann
Last Commit: 58ac07d
Last Changed Date: 2020-04-27 14:53:23 -0400
malbec1 Linux (Ubuntu 18.04.4 LTS) / x86_64  OK  OK  OK UNNEEDED, same version exists in internal repository
nebbiolo1 Linux (Ubuntu 20.04.1 LTS) / x86_64  OK  OK  OK 
riesling1 Windows Server 2019 Standard / x64  OK  OK  WARNINGS 
Package 115/395HostnameOS / ArchINSTALLBUILDCHECK
fabiaData 1.27.0
Sepp Hochreiter
Last Commit: 54b1021
Last Changed Date: 2020-04-27 15:15:10 -0400
malbec1 Linux (Ubuntu 18.04.4 LTS) / x86_64  OK  OK  OK UNNEEDED, same version exists in internal repository
nebbiolo1 Linux (Ubuntu 20.04.1 LTS) / x86_64  OK  OK  OK 
riesling1 Windows Server 2019 Standard / x64  OK  OK  OK 
Package 116/395HostnameOS / ArchINSTALLBUILDCHECK
facsDorit 1.31.0
Florian Hahne
Last Commit: dc45881
Last Changed Date: 2020-04-27 14:53:30 -0400
malbec1 Linux (Ubuntu 18.04.4 LTS) / x86_64  OK  OK  WARNINGS UNNEEDED, same version exists in internal repository
nebbiolo1 Linux (Ubuntu 20.04.1 LTS) / x86_64  OK  OK  WARNINGS 
riesling1 Windows Server 2019 Standard / x64  OK  OK  WARNINGS 
Package 117/395HostnameOS / ArchINSTALLBUILDCHECK
FANTOM3and4CAGE 1.25.0
Vanja Haberle
Last Commit: bffcd4f
Last Changed Date: 2020-04-27 15:16:33 -0400
malbec1 Linux (Ubuntu 18.04.4 LTS) / x86_64  OK  OK  OK UNNEEDED, same version exists in internal repository
nebbiolo1 Linux (Ubuntu 20.04.1 LTS) / x86_64  OK  OK  OK 
riesling1 Windows Server 2019 Standard / x64  OK  OK  OK 
Package 118/395HostnameOS / ArchINSTALLBUILDCHECK
ffpeExampleData 1.27.0
Levi Waldron
Last Commit: aea2619
Last Changed Date: 2020-04-27 15:09:46 -0400
malbec1 Linux (Ubuntu 18.04.4 LTS) / x86_64  OK  OK  OK UNNEEDED, same version exists in internal repository
nebbiolo1 Linux (Ubuntu 20.04.1 LTS) / x86_64  OK  OK  OK 
riesling1 Windows Server 2019 Standard / x64  OK  OK  OK 
Package 119/395HostnameOS / ArchINSTALLBUILDCHECK
fibroEset 1.31.0
Sylvia Merk
Last Commit: 6b296b6
Last Changed Date: 2020-04-27 14:53:35 -0400
malbec1 Linux (Ubuntu 18.04.4 LTS) / x86_64  OK  OK  WARNINGS UNNEEDED, same version exists in internal repository
nebbiolo1 Linux (Ubuntu 20.04.1 LTS) / x86_64  OK  OK  WARNINGS 
riesling1 Windows Server 2019 Standard / x64  OK  OK  WARNINGS 
Package 120/395HostnameOS / ArchINSTALLBUILDCHECK
FieldEffectCrc 0.99.2
Christopher Dampier
Last Commit: 1e8cba9
Last Changed Date: 2020-09-20 22:41:48 -0400
malbec1 Linux (Ubuntu 18.04.4 LTS) / x86_64  OK  ERROR  skipped 
nebbiolo1 Linux (Ubuntu 20.04.1 LTS) / x86_64  OK  ERROR  skipped 
riesling1 Windows Server 2019 Standard / x64  OK  ERROR  skipped 
Package 121/395HostnameOS / ArchINSTALLBUILDCHECK
FIs 1.17.0
Herbert Braselmann , Martin Selmansberger
Last Commit: 0d1af0c
Last Changed Date: 2020-04-27 15:39:58 -0400
malbec1 Linux (Ubuntu 18.04.4 LTS) / x86_64  OK  OK  OK UNNEEDED, same version exists in internal repository
nebbiolo1 Linux (Ubuntu 20.04.1 LTS) / x86_64  OK  OK  OK 
riesling1 Windows Server 2019 Standard / x64  OK  OK  OK 
Package 122/395HostnameOS / ArchINSTALLBUILDCHECK
fission 1.9.0
Michael Love
Last Commit: b727296
Last Changed Date: 2020-04-27 15:29:17 -0400
malbec1 Linux (Ubuntu 18.04.4 LTS) / x86_64  OK  OK  OK UNNEEDED, same version exists in internal repository
nebbiolo1 Linux (Ubuntu 20.04.1 LTS) / x86_64  OK  OK  OK 
riesling1 Windows Server 2019 Standard / x64  OK  OK  OK 
Package 123/395HostnameOS / ArchINSTALLBUILDCHECK
Fletcher2013a 1.25.0
Mauro Castro
Last Commit: 2adfe4d
Last Changed Date: 2020-04-27 15:22:07 -0400
malbec1 Linux (Ubuntu 18.04.4 LTS) / x86_64  OK  OK  OK UNNEEDED, same version exists in internal repository
nebbiolo1 Linux (Ubuntu 20.04.1 LTS) / x86_64  OK  OK  OK 
riesling1 Windows Server 2019 Standard / x64  OK  OK  WARNINGS 
Package 124/395HostnameOS / ArchINSTALLBUILDCHECK
Fletcher2013b 1.25.0
Mauro Castro
Last Commit: b976978
Last Changed Date: 2020-04-27 15:22:18 -0400
malbec1 Linux (Ubuntu 18.04.4 LTS) / x86_64  OK  OK  OK UNNEEDED, same version exists in internal repository
nebbiolo1 Linux (Ubuntu 20.04.1 LTS) / x86_64  OK  OK  OK 
riesling1 Windows Server 2019 Standard / x64  OK  OK  WARNINGS 
Package 125/395HostnameOS / ArchINSTALLBUILDCHECK
flowFitExampleData 1.25.0
Davide Rambaldi
Last Commit: 6cf8a2e
Last Changed Date: 2020-04-27 15:18:34 -0400
malbec1 Linux (Ubuntu 18.04.4 LTS) / x86_64  OK  OK  OK UNNEEDED, same version exists in internal repository
nebbiolo1 Linux (Ubuntu 20.04.1 LTS) / x86_64  OK  OK  OK 
riesling1 Windows Server 2019 Standard / x64  OK  OK  OK 
Package 126/395HostnameOS / ArchINSTALLBUILDCHECK
flowPloidyData 1.15.0
Tyler Smith
Last Commit: d610a0e
Last Changed Date: 2020-04-27 16:19:42 -0400
malbec1 Linux (Ubuntu 18.04.4 LTS) / x86_64  OK  OK  OK UNNEEDED, same version exists in internal repository
nebbiolo1 Linux (Ubuntu 20.04.1 LTS) / x86_64  OK  OK  OK 
riesling1 Windows Server 2019 Standard / x64  OK  OK  OK 
Package 127/395HostnameOS / ArchINSTALLBUILDCHECK
FlowSorted.Blood.450k 1.27.0
Andrew E Jaffe
Last Commit: dd0f4bf
Last Changed Date: 2020-04-27 15:22:59 -0400
malbec1 Linux (Ubuntu 18.04.4 LTS) / x86_64  OK  OK  OK UNNEEDED, same version exists in internal repository
nebbiolo1 Linux (Ubuntu 20.04.1 LTS) / x86_64  OK  OK  OK 
riesling1 Windows Server 2019 Standard / x64  OK  OK  OK 
Package 128/395HostnameOS / ArchINSTALLBUILDCHECK
FlowSorted.Blood.EPIC 1.7.0
Lucas A. Salas
Last Commit: 1e1da3e
Last Changed Date: 2020-04-27 16:38:29 -0400
malbec1 Linux (Ubuntu 18.04.4 LTS) / x86_64  OK  OK  OK UNNEEDED, same version exists in internal repository
nebbiolo1 Linux (Ubuntu 20.04.1 LTS) / x86_64  OK  OK  OK 
riesling1 Windows Server 2019 Standard / x64  OK  OK  ERROR 
Package 129/395HostnameOS / ArchINSTALLBUILDCHECK
FlowSorted.CordBlood.450k 1.17.0
Shan V. Andrews
Last Commit: 0647530
Last Changed Date: 2020-04-27 16:14:40 -0400
malbec1 Linux (Ubuntu 18.04.4 LTS) / x86_64  OK  OK  OK UNNEEDED, same version exists in internal repository
nebbiolo1 Linux (Ubuntu 20.04.1 LTS) / x86_64  OK  OK  OK 
riesling1 Windows Server 2019 Standard / x64  ERROR  OK  ERROR 
Package 130/395HostnameOS / ArchINSTALLBUILDCHECK
FlowSorted.CordBloodCombined.450k 1.5.0
Lucas A. Salas
Last Commit: 42c17c4
Last Changed Date: 2020-04-27 16:41:20 -0400
malbec1 Linux (Ubuntu 18.04.4 LTS) / x86_64  OK  OK  OK UNNEEDED, same version exists in internal repository
nebbiolo1 Linux (Ubuntu 20.04.1 LTS) / x86_64  OK  OK  OK 
riesling1 Windows Server 2019 Standard / x64  OK  OK  OK 
Package 131/395HostnameOS / ArchINSTALLBUILDCHECK
FlowSorted.CordBloodNorway.450k 1.15.0
kristina gervin
Last Commit: 7cd54de
Last Changed Date: 2020-04-27 16:20:13 -0400
malbec1 Linux (Ubuntu 18.04.4 LTS) / x86_64  OK  OK  OK UNNEEDED, same version exists in internal repository
nebbiolo1 Linux (Ubuntu 20.04.1 LTS) / x86_64  OK  OK  OK 
riesling1 Windows Server 2019 Standard / x64  OK  OK  OK 
Package 132/395HostnameOS / ArchINSTALLBUILDCHECK
FlowSorted.DLPFC.450k 1.25.0
Andrew E Jaffe
Last Commit: dabac5c
Last Changed Date: 2020-04-27 15:28:21 -0400
malbec1 Linux (Ubuntu 18.04.4 LTS) / x86_64  OK  OK  OK UNNEEDED, same version exists in internal repository
nebbiolo1 Linux (Ubuntu 20.04.1 LTS) / x86_64  OK  OK  OK 
riesling1 Windows Server 2019 Standard / x64  OK  OK  OK 
Package 133/395HostnameOS / ArchINSTALLBUILDCHECK
flowWorkspaceData 3.1.0
Mike Jiang
Last Commit: d3960b3
Last Changed Date: 2020-04-27 15:05:49 -0400
malbec1 Linux (Ubuntu 18.04.4 LTS) / x86_64  OK  OK  OK UNNEEDED, same version exists in internal repository
nebbiolo1 Linux (Ubuntu 20.04.1 LTS) / x86_64  OK  OK  OK 
riesling1 Windows Server 2019 Standard / x64  OK  OK  OK 
Package 134/395HostnameOS / ArchINSTALLBUILDCHECK
frmaExampleData 1.25.0
Matthew N. McCall
Last Commit: efaa2bf
Last Changed Date: 2020-04-27 15:02:57 -0400
malbec1 Linux (Ubuntu 18.04.4 LTS) / x86_64  OK  OK  WARNINGS UNNEEDED, same version exists in internal repository
nebbiolo1 Linux (Ubuntu 20.04.1 LTS) / x86_64  OK  OK  WARNINGS 
riesling1 Windows Server 2019 Standard / x64  OK  OK  WARNINGS 
Package 135/395HostnameOS / ArchINSTALLBUILDCHECK
FunciSNP.data 1.25.1
Simon G. Coetzee
Last Commit: 5ee8f56
Last Changed Date: 2020-06-03 08:36:15 -0400
malbec1 Linux (Ubuntu 18.04.4 LTS) / x86_64  OK  OK  ERROR 
nebbiolo1 Linux (Ubuntu 20.04.1 LTS) / x86_64  OK  OK  ERROR 
riesling1 Windows Server 2019 Standard / x64  OK  OK  ERROR 
Package 136/395HostnameOS / ArchINSTALLBUILDCHECK
furrowSeg 1.17.0
Joseph Barry
Last Commit: f32a204
Last Changed Date: 2020-04-27 15:40:04 -0400
malbec1 Linux (Ubuntu 18.04.4 LTS) / x86_64  OK  ERROR  skipped 
nebbiolo1 Linux (Ubuntu 20.04.1 LTS) / x86_64  OK  ERROR  skipped 
riesling1 Windows Server 2019 Standard / x64  OK  ERROR  skipped 
Package 137/395HostnameOS / ArchINSTALLBUILDCHECK
gageData 2.27.0
Weijun Luo
Last Commit: f685aea
Last Changed Date: 2020-04-27 15:04:03 -0400
malbec1 Linux (Ubuntu 18.04.4 LTS) / x86_64  OK  OK  OK UNNEEDED, same version exists in internal repository
nebbiolo1 Linux (Ubuntu 20.04.1 LTS) / x86_64  OK  OK  OK 
riesling1 Windows Server 2019 Standard / x64  OK  OK  OK 
Package 138/395HostnameOS / ArchINSTALLBUILDCHECK
gaschYHS 1.27.0
Vince Carey
Last Commit: 30e6acc
Last Changed Date: 2020-04-27 14:53:40 -0400
malbec1 Linux (Ubuntu 18.04.4 LTS) / x86_64  OK  OK  OK UNNEEDED, same version exists in internal repository
nebbiolo1 Linux (Ubuntu 20.04.1 LTS) / x86_64  OK  OK  OK 
riesling1 Windows Server 2019 Standard / x64  OK  OK  OK 
Package 139/395HostnameOS / ArchINSTALLBUILDCHECK
gatingMLData 2.29.0
J. Spidlen
Last Commit: 3d371af
Last Changed Date: 2020-04-27 14:53:45 -0400
malbec1 Linux (Ubuntu 18.04.4 LTS) / x86_64  OK  OK  OK UNNEEDED, same version exists in internal repository
nebbiolo1 Linux (Ubuntu 20.04.1 LTS) / x86_64  OK  OK  OK 
riesling1 Windows Server 2019 Standard / x64  OK  OK  OK 
Package 140/395HostnameOS / ArchINSTALLBUILDCHECK
gcspikelite 1.27.0
Mark Robinson
Last Commit: 972fa89
Last Changed Date: 2020-04-27 15:02:19 -0400
malbec1 Linux (Ubuntu 18.04.4 LTS) / x86_64  OK  OK  WARNINGS UNNEEDED, same version exists in internal repository
nebbiolo1 Linux (Ubuntu 20.04.1 LTS) / x86_64  OK  OK  WARNINGS 
riesling1 Windows Server 2019 Standard / x64  OK  OK  WARNINGS 
Package 141/395HostnameOS / ArchINSTALLBUILDCHECK
geneLenDataBase 1.25.0
Matthew Young , Nadia Davidson
Last Commit: f3e4edb
Last Changed Date: 2020-04-27 15:03:23 -0400
malbec1 Linux (Ubuntu 18.04.4 LTS) / x86_64  OK  OK  WARNINGS UNNEEDED, same version exists in internal repository
nebbiolo1 Linux (Ubuntu 20.04.1 LTS) / x86_64  OK  OK  WARNINGS 
riesling1 Windows Server 2019 Standard / x64  OK  OK  WARNINGS 
Package 142/395HostnameOS / ArchINSTALLBUILDCHECK
genomationData 1.21.0
Vedran Franke
Last Commit: 5a27714
Last Changed Date: 2020-04-27 15:31:25 -0400
malbec1 Linux (Ubuntu 18.04.4 LTS) / x86_64  OK  OK  OK UNNEEDED, same version exists in internal repository
nebbiolo1 Linux (Ubuntu 20.04.1 LTS) / x86_64  OK  OK  OK 
riesling1 Windows Server 2019 Standard / x64  OK  OK  OK 
Package 143/395HostnameOS / ArchINSTALLBUILDCHECK
GeuvadisTranscriptExpr 1.17.0
Malgorzata Nowicka
Last Commit: 08007bd
Last Changed Date: 2020-04-27 16:15:49 -0400
malbec1 Linux (Ubuntu 18.04.4 LTS) / x86_64  OK  ERROR  skipped 
nebbiolo1 Linux (Ubuntu 20.04.1 LTS) / x86_64  OK  ERROR  skipped 
riesling1 Windows Server 2019 Standard / x64  OK  ERROR  skipped 
Package 144/395HostnameOS / ArchINSTALLBUILDCHECK
geuvPack 1.21.0
VJ Carey
Last Commit: df15c43
Last Changed Date: 2020-04-27 15:31:33 -0400
malbec1 Linux (Ubuntu 18.04.4 LTS) / x86_64  OK  OK  OK UNNEEDED, same version exists in internal repository
nebbiolo1 Linux (Ubuntu 20.04.1 LTS) / x86_64  OK  OK  OK 
riesling1 Windows Server 2019 Standard / x64  OK  OK  OK 
Package 145/395HostnameOS / ArchINSTALLBUILDCHECK
geuvStore2 1.19.0
VJ Carey
Last Commit: 4630bcf
Last Changed Date: 2020-04-27 15:40:20 -0400
malbec1 Linux (Ubuntu 18.04.4 LTS) / x86_64  ERROR  ERROR  skipped 
nebbiolo1 Linux (Ubuntu 20.04.1 LTS) / x86_64  ERROR  ERROR  skipped 
riesling1 Windows Server 2019 Standard / x64  ERROR  ERROR  skipped 
Package 146/395HostnameOS / ArchINSTALLBUILDCHECK
GGdata 1.27.1
VJ Carey
Last Commit: fd9a2b3
Last Changed Date: 2020-08-17 10:15:11 -0400
malbec1 Linux (Ubuntu 18.04.4 LTS) / x86_64  OK  OK  WARNINGS UNNEEDED, same version exists in internal repository
nebbiolo1 Linux (Ubuntu 20.04.1 LTS) / x86_64  OK  OK  WARNINGS 
riesling1 Windows Server 2019 Standard / x64  OK  OK  WARNINGS 
Package 147/395HostnameOS / ArchINSTALLBUILDCHECK
GIGSEAdata 1.7.0
Shijia Zhu
Last Commit: 1b22edb
Last Changed Date: 2020-04-27 16:39:01 -0400
malbec1 Linux (Ubuntu 18.04.4 LTS) / x86_64  OK  OK  OK UNNEEDED, same version exists in internal repository
nebbiolo1 Linux (Ubuntu 20.04.1 LTS) / x86_64  OK  OK  OK 
riesling1 Windows Server 2019 Standard / x64  OK  OK  OK 
Package 148/395HostnameOS / ArchINSTALLBUILDCHECK
golubEsets 1.31.0
Vince Carey
Last Commit: 617482f
Last Changed Date: 2020-04-27 14:54:27 -0400
malbec1 Linux (Ubuntu 18.04.4 LTS) / x86_64  OK  OK  OK UNNEEDED, same version exists in internal repository
nebbiolo1 Linux (Ubuntu 20.04.1 LTS) / x86_64  OK  OK  OK 
riesling1 Windows Server 2019 Standard / x64  OK  OK  OK 
Package 149/395HostnameOS / ArchINSTALLBUILDCHECK
gpaExample 1.1.0
Dongjun Chung
Last Commit: f48b809
Last Changed Date: 2020-04-27 16:45:04 -0400
malbec1 Linux (Ubuntu 18.04.4 LTS) / x86_64  OK  OK  OK UNNEEDED, same version exists in internal repository
nebbiolo1 Linux (Ubuntu 20.04.1 LTS) / x86_64  OK  OK  OK 
riesling1 Windows Server 2019 Standard / x64  OK  OK  OK 
Package 150/395HostnameOS / ArchINSTALLBUILDCHECK
grndata 1.21.0
Pau Bellot
Last Commit: 6a6a297
Last Changed Date: 2020-04-27 15:33:14 -0400
malbec1 Linux (Ubuntu 18.04.4 LTS) / x86_64  OK  OK  OK UNNEEDED, same version exists in internal repository
nebbiolo1 Linux (Ubuntu 20.04.1 LTS) / x86_64  OK  OK  OK 
riesling1 Windows Server 2019 Standard / x64  OK  OK  OK 
Package 151/395HostnameOS / ArchINSTALLBUILDCHECK
GSBenchMark 1.9.0
Bahman Afsari
Last Commit: e13ef49
Last Changed Date: 2020-04-27 15:29:12 -0400
malbec1 Linux (Ubuntu 18.04.4 LTS) / x86_64  OK  OK  OK UNNEEDED, same version exists in internal repository
nebbiolo1 Linux (Ubuntu 20.04.1 LTS) / x86_64  OK  OK  OK 
riesling1 Windows Server 2019 Standard / x64  OK  OK  OK 
Package 152/395HostnameOS / ArchINSTALLBUILDCHECK
GSE62944 1.17.0
Bioconductor Package Maintainer
Last Commit: 8f64a99
Last Changed Date: 2020-04-27 16:14:48 -0400
malbec1 Linux (Ubuntu 18.04.4 LTS) / x86_64  OK  ERROR  skipped 
nebbiolo1 Linux (Ubuntu 20.04.1 LTS) / x86_64  OK  ERROR  skipped 
riesling1 Windows Server 2019 Standard / x64  OK  ERROR  skipped 
Package 153/395HostnameOS / ArchINSTALLBUILDCHECK
gskb 1.21.0
Valerie Bares
Last Commit: a8b876e
Last Changed Date: 2020-04-27 15:34:29 -0400
malbec1 Linux (Ubuntu 18.04.4 LTS) / x86_64  OK  OK  OK UNNEEDED, same version exists in internal repository
nebbiolo1 Linux (Ubuntu 20.04.1 LTS) / x86_64  OK  OK  OK 
riesling1 Windows Server 2019 Standard / x64  OK  OK  OK 
Package 154/395HostnameOS / ArchINSTALLBUILDCHECK
GSVAdata 1.25.0
Robert Castelo
Last Commit: 5831c33
Last Changed Date: 2020-04-27 15:05:43 -0400
malbec1 Linux (Ubuntu 18.04.4 LTS) / x86_64  OK  OK  OK UNNEEDED, same version exists in internal repository
nebbiolo1 Linux (Ubuntu 20.04.1 LTS) / x86_64  OK  OK  OK 
riesling1 Windows Server 2019 Standard / x64  OK  OK  OK 
Package 155/395HostnameOS / ArchINSTALLBUILDCHECK
GWASdata 1.27.0
Stephanie Gogarten , Adrienne Stilp
Last Commit: e52c22a
Last Changed Date: 2020-04-27 15:06:53 -0400
malbec1 Linux (Ubuntu 18.04.4 LTS) / x86_64  OK  OK  OK UNNEEDED, same version exists in internal repository
nebbiolo1 Linux (Ubuntu 20.04.1 LTS) / x86_64  OK  OK  OK 
riesling1 Windows Server 2019 Standard / x64  OK  OK  OK 
Package 156/395HostnameOS / ArchINSTALLBUILDCHECK
h5vcData 2.9.0
Paul Theodor Pyl
Last Commit: 0c3e655
Last Changed Date: 2020-04-27 15:24:33 -0400
malbec1 Linux (Ubuntu 18.04.4 LTS) / x86_64  OK  OK  OK UNNEEDED, same version exists in internal repository
nebbiolo1 Linux (Ubuntu 20.04.1 LTS) / x86_64  OK  OK  OK 
riesling1 Windows Server 2019 Standard / x64  OK  OK  WARNINGS 
Package 157/395HostnameOS / ArchINSTALLBUILDCHECK
hapmap100khind 1.31.0
Benilton Carvalho
Last Commit: e269039
Last Changed Date: 2020-04-27 14:56:46 -0400
malbec1 Linux (Ubuntu 18.04.4 LTS) / x86_64  OK  OK  OK UNNEEDED, same version exists in internal repository
nebbiolo1 Linux (Ubuntu 20.04.1 LTS) / x86_64  OK  OK  OK 
riesling1 Windows Server 2019 Standard / x64  OK  OK  OK 
Package 158/395HostnameOS / ArchINSTALLBUILDCHECK
hapmap100kxba 1.31.0
Benilton Carvalho
Last Commit: 9ea7fdf
Last Changed Date: 2020-04-27 14:55:55 -0400
malbec1 Linux (Ubuntu 18.04.4 LTS) / x86_64  OK  OK  OK UNNEEDED, same version exists in internal repository
nebbiolo1 Linux (Ubuntu 20.04.1 LTS) / x86_64  OK  OK  OK 
riesling1 Windows Server 2019 Standard / x64  OK  OK  OK 
Package 159/395HostnameOS / ArchINSTALLBUILDCHECK
hapmap500knsp 1.31.0
Benilton Carvalho
Last Commit: 66f256f
Last Changed Date: 2020-04-27 14:56:52 -0400
malbec1 Linux (Ubuntu 18.04.4 LTS) / x86_64  OK  OK  OK UNNEEDED, same version exists in internal repository
nebbiolo1 Linux (Ubuntu 20.04.1 LTS) / x86_64  OK  OK  OK 
riesling1 Windows Server 2019 Standard / x64  OK  OK  OK 
Package 160/395HostnameOS / ArchINSTALLBUILDCHECK
hapmap500ksty 1.31.0
Benilton Carvalho
Last Commit: d7133ba
Last Changed Date: 2020-04-27 14:57:06 -0400
malbec1 Linux (Ubuntu 18.04.4 LTS) / x86_64  OK  OK  OK UNNEEDED, same version exists in internal repository
nebbiolo1 Linux (Ubuntu 20.04.1 LTS) / x86_64  OK  OK  OK 
riesling1 Windows Server 2019 Standard / x64  OK  OK  OK 
Package 161/395HostnameOS / ArchINSTALLBUILDCHECK
hapmapsnp5 1.31.0
Benilton Carvalho
Last Commit: 4f7fc18
Last Changed Date: 2020-04-27 14:58:41 -0400
malbec1 Linux (Ubuntu 18.04.4 LTS) / x86_64  OK  OK  OK UNNEEDED, same version exists in internal repository
nebbiolo1 Linux (Ubuntu 20.04.1 LTS) / x86_64  OK  OK  OK 
riesling1 Windows Server 2019 Standard / x64  OK  OK  OK 
Package 162/395HostnameOS / ArchINSTALLBUILDCHECK
hapmapsnp6 1.31.0
Benilton Carvalho
Last Commit: 346f600
Last Changed Date: 2020-04-27 14:59:01 -0400
malbec1 Linux (Ubuntu 18.04.4 LTS) / x86_64  OK  OK  OK UNNEEDED, same version exists in internal repository
nebbiolo1 Linux (Ubuntu 20.04.1 LTS) / x86_64  OK  OK  OK 
riesling1 Windows Server 2019 Standard / x64  OK  OK  OK 
Package 163/395HostnameOS / ArchINSTALLBUILDCHECK
harbChIP 1.27.0
VJ Carey
Last Commit: bb592d4
Last Changed Date: 2020-08-12 15:28:17 -0400
malbec1 Linux (Ubuntu 18.04.4 LTS) / x86_64  OK  OK  OK UNNEEDED, same version exists in internal repository
nebbiolo1 Linux (Ubuntu 20.04.1 LTS) / x86_64  OK  OK  OK 
riesling1 Windows Server 2019 Standard / x64  OK  OK  OK 
Package 164/395HostnameOS / ArchINSTALLBUILDCHECK
HarmanData 1.17.0
Jason Ross
Last Commit: 844989f
Last Changed Date: 2020-04-27 16:16:09 -0400
malbec1 Linux (Ubuntu 18.04.4 LTS) / x86_64  OK  OK  OK UNNEEDED, same version exists in internal repository
nebbiolo1 Linux (Ubuntu 20.04.1 LTS) / x86_64  OK  OK  OK 
riesling1 Windows Server 2019 Standard / x64  OK  OK  OK 
Package 165/395HostnameOS / ArchINSTALLBUILDCHECK
HarmonizedTCGAData 1.11.0
Tianle Ma
Last Commit: 4ee50a1
Last Changed Date: 2020-04-27 16:22:05 -0400
malbec1 Linux (Ubuntu 18.04.4 LTS) / x86_64  OK  OK  OK UNNEEDED, same version exists in internal repository
nebbiolo1 Linux (Ubuntu 20.04.1 LTS) / x86_64  OK  OK  OK 
riesling1 Windows Server 2019 Standard / x64  OK  OK  OK 
Package 166/395HostnameOS / ArchINSTALLBUILDCHECK
HCAData 1.5.1
Federico Marini
Last Commit: 37fe858
Last Changed Date: 2020-06-11 17:17:20 -0400
malbec1 Linux (Ubuntu 18.04.4 LTS) / x86_64  OK  ERROR  skipped 
nebbiolo1 Linux (Ubuntu 20.04.1 LTS) / x86_64  OK  ERROR  skipped 
riesling1 Windows Server 2019 Standard / x64  OK  ERROR  skipped 
Package 167/395HostnameOS / ArchINSTALLBUILDCHECK
HD2013SGI 1.29.0
Bernd Fischer
Last Commit: 9065ce4
Last Changed Date: 2020-04-27 15:17:22 -0400
malbec1 Linux (Ubuntu 18.04.4 LTS) / x86_64  OK  OK  OK UNNEEDED, same version exists in internal repository
nebbiolo1 Linux (Ubuntu 20.04.1 LTS) / x86_64  OK  OK  OK 
riesling1 Windows Server 2019 Standard / x64  OK  OK  OK 
Package 168/395HostnameOS / ArchINSTALLBUILDCHECK
HDCytoData 1.9.0
Lukas M. Weber
Last Commit: 71b1d33
Last Changed Date: 2020-04-27 16:37:47 -0400
malbec1 Linux (Ubuntu 18.04.4 LTS) / x86_64  OK  ERROR  skipped 
nebbiolo1 Linux (Ubuntu 20.04.1 LTS) / x86_64  OK  ERROR  skipped 
riesling1 Windows Server 2019 Standard / x64  OK  ERROR  skipped 
Package 169/395HostnameOS / ArchINSTALLBUILDCHECK
healthyFlowData 1.27.0
Ariful Azad
Last Commit: d0d45b2
Last Changed Date: 2020-04-27 15:25:48 -0400
malbec1 Linux (Ubuntu 18.04.4 LTS) / x86_64  OK  OK  OK UNNEEDED, same version exists in internal repository
nebbiolo1 Linux (Ubuntu 20.04.1 LTS) / x86_64  OK  OK  OK 
riesling1 Windows Server 2019 Standard / x64  OK  OK  OK 
Package 170/395HostnameOS / ArchINSTALLBUILDCHECK
HEEBOdata 1.27.0
Agnes Paquet
Last Commit: a6b9fc7
Last Changed Date: 2020-04-27 14:54:34 -0400
malbec1 Linux (Ubuntu 18.04.4 LTS) / x86_64  OK  OK  WARNINGS UNNEEDED, same version exists in internal repository
nebbiolo1 Linux (Ubuntu 20.04.1 LTS) / x86_64  OK  OK  WARNINGS 
riesling1 Windows Server 2019 Standard / x64  OK  OK  WARNINGS 
Package 171/395HostnameOS / ArchINSTALLBUILDCHECK
HelloRangesData 1.15.0
Michael Lawrence
Last Commit: c6633f2
Last Changed Date: 2020-04-27 16:19:46 -0400
malbec1 Linux (Ubuntu 18.04.4 LTS) / x86_64  OK  OK  OK UNNEEDED, same version exists in internal repository
nebbiolo1 Linux (Ubuntu 20.04.1 LTS) / x86_64  OK  OK  OK 
riesling1 Windows Server 2019 Standard / x64  OK  OK  OK 
Package 172/395HostnameOS / ArchINSTALLBUILDCHECK
hgu133abarcodevecs 1.27.0
Matthew N. McCall
Last Commit: ed8d23a
Last Changed Date: 2020-04-27 15:03:11 -0400
malbec1 Linux (Ubuntu 18.04.4 LTS) / x86_64  OK  OK  OK UNNEEDED, same version exists in internal repository
nebbiolo1 Linux (Ubuntu 20.04.1 LTS) / x86_64  OK  OK  OK 
riesling1 Windows Server 2019 Standard / x64  OK  OK  OK 
Package 173/395HostnameOS / ArchINSTALLBUILDCHECK
hgu133plus2barcodevecs 1.27.0
Matthew N. McCall
Last Commit: c51178c
Last Changed Date: 2020-04-27 15:03:06 -0400
malbec1 Linux (Ubuntu 18.04.4 LTS) / x86_64  OK  OK  OK UNNEEDED, same version exists in internal repository
nebbiolo1 Linux (Ubuntu 20.04.1 LTS) / x86_64  OK  OK  OK 
riesling1 Windows Server 2019 Standard / x64  OK  OK  OK 
Package 174/395HostnameOS / ArchINSTALLBUILDCHECK
hgu133plus2CellScore 1.9.0
Nancy Mah
Last Commit: ceb340c
Last Changed Date: 2020-04-27 16:31:55 -0400
malbec1 Linux (Ubuntu 18.04.4 LTS) / x86_64  OK  OK  OK UNNEEDED, same version exists in internal repository
nebbiolo1 Linux (Ubuntu 20.04.1 LTS) / x86_64  OK  OK  OK 
riesling1 Windows Server 2019 Standard / x64  OK  OK  OK 
Package 175/395HostnameOS / ArchINSTALLBUILDCHECK
hgu2beta7 1.29.0
Bioconductor Package Maintainer
Last Commit: 4ba0841
Last Changed Date: 2020-04-27 14:54:38 -0400
malbec1 Linux (Ubuntu 18.04.4 LTS) / x86_64  OK  OK  WARNINGS UNNEEDED, same version exists in internal repository
nebbiolo1 Linux (Ubuntu 20.04.1 LTS) / x86_64  OK  OK  WARNINGS 
riesling1 Windows Server 2019 Standard / x64  OK  OK  WARNINGS 
Package 176/395HostnameOS / ArchINSTALLBUILDCHECK
HiCDataHumanIMR90 1.9.0
Nicolas Servant
Last Commit: 5b8c60b
Last Changed Date: 2020-04-27 15:29:33 -0400
malbec1 Linux (Ubuntu 18.04.4 LTS) / x86_64  OK  OK  OK UNNEEDED, same version exists in internal repository
nebbiolo1 Linux (Ubuntu 20.04.1 LTS) / x86_64  OK  OK  OK 
riesling1 Windows Server 2019 Standard / x64  OK  OK  OK 
Package 177/395HostnameOS / ArchINSTALLBUILDCHECK
HiCDataLymphoblast 1.25.0
Borbala Mifsud
Last Commit: 2d0cd79
Last Changed Date: 2020-04-27 15:25:04 -0400
malbec1 Linux (Ubuntu 18.04.4 LTS) / x86_64  OK  OK  OK UNNEEDED, same version exists in internal repository
nebbiolo1 Linux (Ubuntu 20.04.1 LTS) / x86_64  OK  OK  OK 
riesling1 Windows Server 2019 Standard / x64  OK  OK  OK 
Package 178/395HostnameOS / ArchINSTALLBUILDCHECK
HighlyReplicatedRNASeq 1.1.0
Constantin Ahlmann-Eltze
Last Commit: dac39da
Last Changed Date: 2020-04-27 16:44:55 -0400
malbec1 Linux (Ubuntu 18.04.4 LTS) / x86_64  OK  ERROR  skipped 
nebbiolo1 Linux (Ubuntu 20.04.1 LTS) / x86_64  OK  ERROR  skipped 
riesling1 Windows Server 2019 Standard / x64  OK  ERROR  skipped 
Package 179/395HostnameOS / ArchINSTALLBUILDCHECK
Hiiragi2013 1.25.0
Andrzej Oles
Last Commit: 4fb1a1f
Last Changed Date: 2020-04-27 15:17:41 -0400
malbec1 Linux (Ubuntu 18.04.4 LTS) / x86_64  OK  OK  OK UNNEEDED, same version exists in internal repository
nebbiolo1 Linux (Ubuntu 20.04.1 LTS) / x86_64  OK  OK  OK 
riesling1 Windows Server 2019 Standard / x64  OK  OK  OK 
Package 180/395HostnameOS / ArchINSTALLBUILDCHECK
HIVcDNAvantWout03 1.29.0
Chris Fraley
Last Commit: 470113f
Last Changed Date: 2020-04-27 14:54:42 -0400
malbec1 Linux (Ubuntu 18.04.4 LTS) / x86_64  OK  OK  WARNINGS UNNEEDED, same version exists in internal repository
nebbiolo1 Linux (Ubuntu 20.04.1 LTS) / x86_64  OK  OK  WARNINGS 
riesling1 Windows Server 2019 Standard / x64  OK  OK  WARNINGS 
Package 181/395HostnameOS / ArchINSTALLBUILDCHECK
HMP16SData 1.9.3
Lucas Schiffer
Last Commit: c43e996
Last Changed Date: 2020-08-11 12:13:35 -0400
malbec1 Linux (Ubuntu 18.04.4 LTS) / x86_64  OK  ERROR  skipped 
nebbiolo1 Linux (Ubuntu 20.04.1 LTS) / x86_64  OK  ERROR  skipped 
riesling1 Windows Server 2019 Standard / x64  OK  ERROR  skipped 
Package 182/395HostnameOS / ArchINSTALLBUILDCHECK
HMP2Data 1.3.0
John Stansfield , Ekaterina Smirnova
Last Commit: c0c1283
Last Changed Date: 2020-09-03 14:24:42 -0400
malbec1 Linux (Ubuntu 18.04.4 LTS) / x86_64  OK  ERROR  skipped 
nebbiolo1 Linux (Ubuntu 20.04.1 LTS) / x86_64  OK  ERROR  skipped 
riesling1 Windows Server 2019 Standard / x64  OK  ERROR  skipped 
Package 183/395HostnameOS / ArchINSTALLBUILDCHECK
hmyriB36 1.25.0
Vincent Carey
Last Commit: 3f8b632
Last Changed Date: 2020-04-27 15:02:08 -0400
malbec1 Linux (Ubuntu 18.04.4 LTS) / x86_64  OK  OK  WARNINGS UNNEEDED, same version exists in internal repository
nebbiolo1 Linux (Ubuntu 20.04.1 LTS) / x86_64  OK  OK  WARNINGS 
riesling1 Windows Server 2019 Standard / x64  OK  OK  WARNINGS 
Package 184/395HostnameOS / ArchINSTALLBUILDCHECK
HSMMSingleCell 1.9.0
Cole Trapnell
Last Commit: a5a1406
Last Changed Date: 2020-04-27 15:28:29 -0400
malbec1 Linux (Ubuntu 18.04.4 LTS) / x86_64  OK  OK  WARNINGS UNNEEDED, same version exists in internal repository
nebbiolo1 Linux (Ubuntu 20.04.1 LTS) / x86_64  OK  OK  WARNINGS 
riesling1 Windows Server 2019 Standard / x64  OK  OK  WARNINGS 
Package 185/395HostnameOS / ArchINSTALLBUILDCHECK
HumanAffyData 1.15.0
Brad Nelms
Last Commit: 0b91c00
Last Changed Date: 2020-04-27 16:19:32 -0400
malbec1 Linux (Ubuntu 18.04.4 LTS) / x86_64  OK  OK  OK UNNEEDED, same version exists in internal repository
nebbiolo1 Linux (Ubuntu 20.04.1 LTS) / x86_64  OK  OK  OK 
riesling1 Windows Server 2019 Standard / x64  OK  OK  OK 
Package 186/395HostnameOS / ArchINSTALLBUILDCHECK
humanStemCell 0.29.0
R. Gentleman
Last Commit: f34c52d
Last Changed Date: 2020-04-27 15:01:58 -0400
malbec1 Linux (Ubuntu 18.04.4 LTS) / x86_64  OK  OK  WARNINGS UNNEEDED, same version exists in internal repository
nebbiolo1 Linux (Ubuntu 20.04.1 LTS) / x86_64  OK  OK  WARNINGS 
riesling1 Windows Server 2019 Standard / x64  OK  OK  WARNINGS 
Package 187/395HostnameOS / ArchINSTALLBUILDCHECK
IHWpaper 1.17.2
Nikos Ignatiadis
Last Commit: d767c66
Last Changed Date: 2020-07-21 01:52:31 -0400
malbec1 Linux (Ubuntu 18.04.4 LTS) / x86_64  OK  ERROR  skipped 
nebbiolo1 Linux (Ubuntu 20.04.1 LTS) / x86_64  OK  ERROR  skipped 
riesling1 Windows Server 2019 Standard / x64  OK  ERROR  skipped 
Package 188/395HostnameOS / ArchINSTALLBUILDCHECK
Illumina450ProbeVariants.db 1.25.0
Tiffany Morris
Last Commit: ac13c5c
Last Changed Date: 2020-04-27 15:24:26 -0400
malbec1 Linux (Ubuntu 18.04.4 LTS) / x86_64  OK  OK  OK UNNEEDED, same version exists in internal repository
nebbiolo1 Linux (Ubuntu 20.04.1 LTS) / x86_64  OK  OK  OK 
riesling1 Windows Server 2019 Standard / x64  OK  OK  OK 
Package 189/395HostnameOS / ArchINSTALLBUILDCHECK
IlluminaDataTestFiles 1.27.0
Kasper Daniel Hansen
Last Commit: fb2befe
Last Changed Date: 2020-04-27 15:21:38 -0400
malbec1 Linux (Ubuntu 18.04.4 LTS) / x86_64  OK  OK  OK UNNEEDED, same version exists in internal repository
nebbiolo1 Linux (Ubuntu 20.04.1 LTS) / x86_64  OK  OK  OK 
riesling1 Windows Server 2019 Standard / x64  OK  OK  OK 
Package 190/395HostnameOS / ArchINSTALLBUILDCHECK
ITALICSData 2.27.0
Guillem Rigaill
Last Commit: 6e36d48
Last Changed Date: 2020-04-27 15:01:27 -0400
malbec1 Linux (Ubuntu 18.04.4 LTS) / x86_64  OK  OK  WARNINGS UNNEEDED, same version exists in internal repository
nebbiolo1 Linux (Ubuntu 20.04.1 LTS) / x86_64  OK  OK  WARNINGS 
riesling1 Windows Server 2019 Standard / x64  OK  OK  WARNINGS 
Package 191/395HostnameOS / ArchINSTALLBUILDCHECK
Iyer517 1.31.0
Vince Carey
Last Commit: 71c0ae5
Last Changed Date: 2020-08-12 15:31:37 -0400
malbec1 Linux (Ubuntu 18.04.4 LTS) / x86_64  OK  OK  OK UNNEEDED, same version exists in internal repository
nebbiolo1 Linux (Ubuntu 20.04.1 LTS) / x86_64  OK  OK  OK 
riesling1 Windows Server 2019 Standard / x64  OK  OK  OK 
Package 192/395HostnameOS / ArchINSTALLBUILDCHECK
JASPAR2014 1.25.0
Ge Tan
Last Commit: 8537130
Last Changed Date: 2020-04-27 15:23:22 -0400
malbec1 Linux (Ubuntu 18.04.4 LTS) / x86_64  OK  OK  OK UNNEEDED, same version exists in internal repository
nebbiolo1 Linux (Ubuntu 20.04.1 LTS) / x86_64  OK  OK  OK 
riesling1 Windows Server 2019 Standard / x64  OK  OK  OK 
Package 193/395HostnameOS / ArchINSTALLBUILDCHECK
JASPAR2016 1.17.0
Ge Tan
Last Commit: 4c89ac1
Last Changed Date: 2020-04-27 15:40:15 -0400
malbec1 Linux (Ubuntu 18.04.4 LTS) / x86_64  OK  OK  OK UNNEEDED, same version exists in internal repository
nebbiolo1 Linux (Ubuntu 20.04.1 LTS) / x86_64  OK  OK  OK 
riesling1 Windows Server 2019 Standard / x64  OK  OK  OK 
Package 194/395HostnameOS / ArchINSTALLBUILDCHECK
JctSeqData 1.19.0
Stephen Hartley
Last Commit: b8f4a4a
Last Changed Date: 2020-04-27 15:40:30 -0400
malbec1 Linux (Ubuntu 18.04.4 LTS) / x86_64  OK  OK  OK UNNEEDED, same version exists in internal repository
nebbiolo1 Linux (Ubuntu 20.04.1 LTS) / x86_64  OK  OK  OK 
riesling1 Windows Server 2019 Standard / x64  OK  OK  OK 
Package 195/395HostnameOS / ArchINSTALLBUILDCHECK
KEGGandMetacoreDzPathwaysGEO 1.9.0
Gaurav Bhatti
Last Commit: 267af76
Last Changed Date: 2020-04-27 15:28:41 -0400
malbec1 Linux (Ubuntu 18.04.4 LTS) / x86_64  OK  OK  OK UNNEEDED, same version exists in internal repository
nebbiolo1 Linux (Ubuntu 20.04.1 LTS) / x86_64  OK  OK  OK 
riesling1 Windows Server 2019 Standard / x64  OK  OK  OK 
Package 196/395HostnameOS / ArchINSTALLBUILDCHECK
KEGGdzPathwaysGEO 1.27.0
Gaurav Bhatti
Last Commit: f0a224a
Last Changed Date: 2020-04-27 15:11:51 -0400
malbec1 Linux (Ubuntu 18.04.4 LTS) / x86_64  OK  OK  OK UNNEEDED, same version exists in internal repository
nebbiolo1 Linux (Ubuntu 20.04.1 LTS) / x86_64  OK  OK  OK 
riesling1 Windows Server 2019 Standard / x64  OK  OK  OK 
Package 197/395HostnameOS / ArchINSTALLBUILDCHECK
kidpack 1.31.0
Wolfgang Huber
Last Commit: 938dfb2
Last Changed Date: 2020-04-27 14:54:49 -0400
malbec1 Linux (Ubuntu 18.04.4 LTS) / x86_64  OK  OK  WARNINGS UNNEEDED, same version exists in internal repository
nebbiolo1 Linux (Ubuntu 20.04.1 LTS) / x86_64  OK  OK  WARNINGS 
riesling1 Windows Server 2019 Standard / x64  OK  OK  WARNINGS 
Package 198/395HostnameOS / ArchINSTALLBUILDCHECK
KOdata 1.15.0
Shana White
Last Commit: 0ad56bc
Last Changed Date: 2020-04-27 16:19:38 -0400
malbec1 Linux (Ubuntu 18.04.4 LTS) / x86_64  OK  OK  OK UNNEEDED, same version exists in internal repository
nebbiolo1 Linux (Ubuntu 20.04.1 LTS) / x86_64  OK  OK  OK 
riesling1 Windows Server 2019 Standard / x64  OK  OK  OK 
Package 199/395HostnameOS / ArchINSTALLBUILDCHECK
leeBamViews 1.25.0
VJ Carey
Last Commit: 3b3f186
Last Changed Date: 2020-04-27 15:03:16 -0400
malbec1 Linux (Ubuntu 18.04.4 LTS) / x86_64  OK  OK  OK UNNEEDED, same version exists in internal repository
nebbiolo1 Linux (Ubuntu 20.04.1 LTS) / x86_64  OK  OK  OK 
riesling1 Windows Server 2019 Standard / x64  OK  OK  OK 
Package 200/395HostnameOS / ArchINSTALLBUILDCHECK
leukemiasEset 1.25.0
Sara Aibar
Last Commit: e0b089f
Last Changed Date: 2020-04-27 15:17:53 -0400
malbec1 Linux (Ubuntu 18.04.4 LTS) / x86_64  OK  OK  OK UNNEEDED, same version exists in internal repository
nebbiolo1 Linux (Ubuntu 20.04.1 LTS) / x86_64  OK  OK  OK 
riesling1 Windows Server 2019 Standard / x64  OK  OK  WARNINGS 
Package 201/395HostnameOS / ArchINSTALLBUILDCHECK
LiebermanAidenHiC2009 0.27.0
Felix Klein
Last Commit: ba780d7
Last Changed Date: 2020-04-27 15:06:19 -0400
malbec1 Linux (Ubuntu 18.04.4 LTS) / x86_64  OK  OK  WARNINGS UNNEEDED, same version exists in internal repository
nebbiolo1 Linux (Ubuntu 20.04.1 LTS) / x86_64  OK  OK  WARNINGS 
riesling1 Windows Server 2019 Standard / x64  OK  OK  WARNINGS 
Package 202/395HostnameOS / ArchINSTALLBUILDCHECK
ListerEtAlBSseq 1.21.0
Kamal Kishore
Last Commit: 6c2d69d
Last Changed Date: 2020-04-27 15:29:55 -0400
malbec1 Linux (Ubuntu 18.04.4 LTS) / x86_64  OK  OK  WARNINGS UNNEEDED, same version exists in internal repository
nebbiolo1 Linux (Ubuntu 20.04.1 LTS) / x86_64  OK  OK  WARNINGS 
riesling1 Windows Server 2019 Standard / x64  OK  OK  WARNINGS 
Package 203/395HostnameOS / ArchINSTALLBUILDCHECK
lumiBarnes 1.29.0
Pan Du
Last Commit: 425c011
Last Changed Date: 2020-04-27 14:55:46 -0400
malbec1 Linux (Ubuntu 18.04.4 LTS) / x86_64  OK  OK  WARNINGS UNNEEDED, same version exists in internal repository
nebbiolo1 Linux (Ubuntu 20.04.1 LTS) / x86_64  OK  OK  WARNINGS 
riesling1 Windows Server 2019 Standard / x64  OK  OK  WARNINGS 
Package 204/395HostnameOS / ArchINSTALLBUILDCHECK
LungCancerACvsSCCGEO 1.25.0
Adi Laurentiu Tarca
Last Commit: b2c1ee7
Last Changed Date: 2020-04-27 15:21:12 -0400
malbec1 Linux (Ubuntu 18.04.4 LTS) / x86_64  OK  OK  OK UNNEEDED, same version exists in internal repository
nebbiolo1 Linux (Ubuntu 20.04.1 LTS) / x86_64  OK  OK  OK 
riesling1 Windows Server 2019 Standard / x64  OK  OK  OK 
Package 205/395HostnameOS / ArchINSTALLBUILDCHECK
LungCancerLines 0.27.0
Cory Barr
Last Commit: 63f4bc8
Last Changed Date: 2020-04-27 15:15:19 -0400
malbec1 Linux (Ubuntu 18.04.4 LTS) / x86_64  OK  OK  OK UNNEEDED, same version exists in internal repository
nebbiolo1 Linux (Ubuntu 20.04.1 LTS) / x86_64  OK  OK  OK 
riesling1 Windows Server 2019 Standard / x64  OK  OK  OK 
Package 206/395HostnameOS / ArchINSTALLBUILDCHECK
lungExpression 0.27.0
Robert Scharpf
Last Commit: ea89afe
Last Changed Date: 2020-04-27 14:55:42 -0400
malbec1 Linux (Ubuntu 18.04.4 LTS) / x86_64  OK  OK  OK UNNEEDED, same version exists in internal repository
nebbiolo1 Linux (Ubuntu 20.04.1 LTS) / x86_64  OK  OK  OK 
riesling1 Windows Server 2019 Standard / x64  OK  OK  OK 
Package 207/395HostnameOS / ArchINSTALLBUILDCHECK
lydata 1.15.0
Alex Pickering
Last Commit: e7d4197
Last Changed Date: 2020-04-27 16:17:34 -0400
malbec1 Linux (Ubuntu 18.04.4 LTS) / x86_64  OK  OK  OK UNNEEDED, same version exists in internal repository
nebbiolo1 Linux (Ubuntu 20.04.1 LTS) / x86_64  OK  OK  OK 
riesling1 Windows Server 2019 Standard / x64  OK  OK  OK 
Package 208/395HostnameOS / ArchINSTALLBUILDCHECK
M3DExampleData 1.15.0
Tallulah Andrews
Last Commit: 6359970
Last Changed Date: 2020-04-27 16:19:35 -0400
malbec1 Linux (Ubuntu 18.04.4 LTS) / x86_64  OK  OK  WARNINGS UNNEEDED, same version exists in internal repository
nebbiolo1 Linux (Ubuntu 20.04.1 LTS) / x86_64  OK  OK  WARNINGS 
riesling1 Windows Server 2019 Standard / x64  OK  OK  WARNINGS 
Package 209/395HostnameOS / ArchINSTALLBUILDCHECK
macrophage 1.5.0
Michael Love
Last Commit: 2591ae2
Last Changed Date: 2020-04-27 16:41:06 -0400
malbec1 Linux (Ubuntu 18.04.4 LTS) / x86_64  OK  OK  OK UNNEEDED, same version exists in internal repository
nebbiolo1 Linux (Ubuntu 20.04.1 LTS) / x86_64  OK  OK  OK 
riesling1 Windows Server 2019 Standard / x64  OK  OK  OK 
Package 210/395HostnameOS / ArchINSTALLBUILDCHECK
mammaPrintData 1.25.0
Luigi Marchionni
Last Commit: 91d785d
Last Changed Date: 2020-04-27 15:18:59 -0400
malbec1 Linux (Ubuntu 18.04.4 LTS) / x86_64  OK  OK  OK UNNEEDED, same version exists in internal repository
nebbiolo1 Linux (Ubuntu 20.04.1 LTS) / x86_64  OK  OK  OK 
riesling1 Windows Server 2019 Standard / x64  OK  OK  WARNINGS 
Package 211/395HostnameOS / ArchINSTALLBUILDCHECK
mAPKLData 1.21.0
Argiris Sakellariou
Last Commit: 9a69bb4
Last Changed Date: 2020-04-27 15:32:24 -0400
malbec1 Linux (Ubuntu 18.04.4 LTS) / x86_64  OK  OK  WARNINGS UNNEEDED, same version exists in internal repository
nebbiolo1 Linux (Ubuntu 20.04.1 LTS) / x86_64  OK  OK  WARNINGS 
riesling1 Windows Server 2019 Standard / x64  OK  OK  WARNINGS 
Package 212/395HostnameOS / ArchINSTALLBUILDCHECK
maqcExpression4plex 1.33.0
Benilton Carvalho
Last Commit: bf649da
Last Changed Date: 2020-04-27 14:56:39 -0400
malbec1 Linux (Ubuntu 18.04.4 LTS) / x86_64  OK  OK  OK UNNEEDED, same version exists in internal repository
nebbiolo1 Linux (Ubuntu 20.04.1 LTS) / x86_64  OK  OK  OK 
riesling1 Windows Server 2019 Standard / x64  OK  OK  OK 
Package 213/395HostnameOS / ArchINSTALLBUILDCHECK
MAQCsubset 1.27.0
VJ Carey
Last Commit: a0a607e
Last Changed Date: 2020-08-12 15:41:05 -0400
malbec1 Linux (Ubuntu 18.04.4 LTS) / x86_64  OK  OK  OK UNNEEDED, same version exists in internal repository
nebbiolo1 Linux (Ubuntu 20.04.1 LTS) / x86_64  OK  OK  OK 
riesling1 Windows Server 2019 Standard / x64  OK  OK  OK 
Package 214/395HostnameOS / ArchINSTALLBUILDCHECK
MAQCsubsetAFX 1.27.0
Laurent Gatto
Last Commit: bb32d67
Last Changed Date: 2020-08-12 15:36:16 -0400
malbec1 Linux (Ubuntu 18.04.4 LTS) / x86_64  OK  OK  OK UNNEEDED, same version exists in internal repository
nebbiolo1 Linux (Ubuntu 20.04.1 LTS) / x86_64  OK  OK  OK 
riesling1 Windows Server 2019 Standard / x64  OK  OK  OK 
Package 215/395HostnameOS / ArchINSTALLBUILDCHECK
MAQCsubsetILM 1.27.0
Laurent Gatto
Last Commit: 782f552
Last Changed Date: 2020-04-27 14:59:27 -0400
malbec1 Linux (Ubuntu 18.04.4 LTS) / x86_64  OK  OK  OK UNNEEDED, same version exists in internal repository
nebbiolo1 Linux (Ubuntu 20.04.1 LTS) / x86_64  OK  OK  OK 
riesling1 Windows Server 2019 Standard / x64  OK  OK  OK 
Package 216/395HostnameOS / ArchINSTALLBUILDCHECK
mCSEAdata 1.9.0
Jordi Martorell Marugán
Last Commit: d5079c2
Last Changed Date: 2020-04-27 16:31:40 -0400
malbec1 Linux (Ubuntu 18.04.4 LTS) / x86_64  OK  ERROR  skipped 
nebbiolo1 Linux (Ubuntu 20.04.1 LTS) / x86_64  OK  ERROR  skipped 
riesling1 Windows Server 2019 Standard / x64  OK  ERROR  skipped 
Package 217/395HostnameOS / ArchINSTALLBUILDCHECK
mcsurvdata 1.7.0
Adria Caballe Mestres
Last Commit: c6777f1
Last Changed Date: 2020-04-27 16:39:22 -0400
malbec1 Linux (Ubuntu 18.04.4 LTS) / x86_64  OK  ERROR  skipped 
nebbiolo1 Linux (Ubuntu 20.04.1 LTS) / x86_64  OK  ERROR  skipped 
riesling1 Windows Server 2019 Standard / x64  OK  ERROR  skipped 
Package 218/395HostnameOS / ArchINSTALLBUILDCHECK
MEDIPSData 1.25.0
Lukas Chavez
Last Commit: d4cfea9
Last Changed Date: 2020-04-27 15:11:22 -0400
malbec1 Linux (Ubuntu 18.04.4 LTS) / x86_64  OK  OK  WARNINGS UNNEEDED, same version exists in internal repository
nebbiolo1 Linux (Ubuntu 20.04.1 LTS) / x86_64  OK  OK  WARNINGS 
riesling1 Windows Server 2019 Standard / x64  OK  OK  WARNINGS 
Package 219/395HostnameOS / ArchINSTALLBUILDCHECK
MEEBOdata 1.27.0
Agnes Paquet
Last Commit: abbdc5a
Last Changed Date: 2020-04-27 14:54:58 -0400
malbec1 Linux (Ubuntu 18.04.4 LTS) / x86_64  OK  OK  WARNINGS UNNEEDED, same version exists in internal repository
nebbiolo1 Linux (Ubuntu 20.04.1 LTS) / x86_64  OK  OK  WARNINGS 
riesling1 Windows Server 2019 Standard / x64  OK  OK  WARNINGS 
Package 220/395HostnameOS / ArchINSTALLBUILDCHECK
MetaGxBreast 1.9.0
Michael Zon
Last Commit: 01df709
Last Changed Date: 2020-04-27 16:37:36 -0400
malbec1 Linux (Ubuntu 18.04.4 LTS) / x86_64  OK  OK  OK UNNEEDED, same version exists in internal repository
nebbiolo1 Linux (Ubuntu 20.04.1 LTS) / x86_64  OK  OK  OK 
riesling1 Windows Server 2019 Standard / x64  OK  OK  ERROR 
Package 221/395HostnameOS / ArchINSTALLBUILDCHECK
MetaGxOvarian 1.9.0
Michael Zon
Last Commit: ebee228
Last Changed Date: 2020-04-27 16:37:20 -0400
malbec1 Linux (Ubuntu 18.04.4 LTS) / x86_64  OK  OK  WARNINGS UNNEEDED, same version exists in internal repository
nebbiolo1 Linux (Ubuntu 20.04.1 LTS) / x86_64  OK  OK  WARNINGS 
riesling1 Windows Server 2019 Standard / x64  OK  ERROR  skipped 
Package 222/395HostnameOS / ArchINSTALLBUILDCHECK
MetaGxPancreas 1.9.2
Michael Zon
Last Commit: e4dab2a
Last Changed Date: 2020-07-27 14:52:15 -0400
malbec1 Linux (Ubuntu 18.04.4 LTS) / x86_64  OK  OK  OK UNNEEDED, same version exists in internal repository
nebbiolo1 Linux (Ubuntu 20.04.1 LTS) / x86_64  OK  OK  OK 
riesling1 Windows Server 2019 Standard / x64  OK  ERROR  skipped 
Package 223/395HostnameOS / ArchINSTALLBUILDCHECK
metaMSdata 1.25.0
Yann Guitton
Last Commit: d28042b
Last Changed Date: 2020-04-27 15:28:08 -0400
malbec1 Linux (Ubuntu 18.04.4 LTS) / x86_64  OK  OK  OK UNNEEDED, same version exists in internal repository
nebbiolo1 Linux (Ubuntu 20.04.1 LTS) / x86_64  OK  OK  OK 
riesling1 Windows Server 2019 Standard / x64  OK  OK  OK 
Package 224/395HostnameOS / ArchINSTALLBUILDCHECK
MethylAidData 1.21.0
M. van Iterson
Last Commit: df70f58
Last Changed Date: 2020-04-27 15:33:47 -0400
malbec1 Linux (Ubuntu 18.04.4 LTS) / x86_64  OK  ERROR  skipped 
nebbiolo1 Linux (Ubuntu 20.04.1 LTS) / x86_64  OK  ERROR  skipped 
riesling1 Windows Server 2019 Standard / x64  OK  ERROR  skipped 
Package 225/395HostnameOS / ArchINSTALLBUILDCHECK
methyvimData 1.11.0
Nima Hejazi
Last Commit: a1462ba
Last Changed Date: 2020-04-27 16:21:16 -0400
malbec1 Linux (Ubuntu 18.04.4 LTS) / x86_64  OK  ERROR  skipped 
nebbiolo1 Linux (Ubuntu 20.04.1 LTS) / x86_64  OK  ERROR  skipped 
riesling1 Windows Server 2019 Standard / x64  OK  ERROR  skipped 
Package 226/395HostnameOS / ArchINSTALLBUILDCHECK
microRNAome 1.11.0
Matthew N. McCall
Last Commit: b7a89b2
Last Changed Date: 2020-04-27 16:20:58 -0400
malbec1 Linux (Ubuntu 18.04.4 LTS) / x86_64  OK  OK  OK UNNEEDED, same version exists in internal repository
nebbiolo1 Linux (Ubuntu 20.04.1 LTS) / x86_64  OK  OK  OK 
riesling1 Windows Server 2019 Standard / x64  OK  OK  OK 
Package 227/395HostnameOS / ArchINSTALLBUILDCHECK
MIGSAdata 1.13.0
Juan C. Rodriguez
Last Commit: f660f91
Last Changed Date: 2020-04-27 16:20:33 -0400
malbec1 Linux (Ubuntu 18.04.4 LTS) / x86_64  OK  OK  OK UNNEEDED, same version exists in internal repository
nebbiolo1 Linux (Ubuntu 20.04.1 LTS) / x86_64  OK  OK  OK 
riesling1 Windows Server 2019 Standard / x64  OK  OK  OK 
Package 228/395HostnameOS / ArchINSTALLBUILDCHECK
minfiData 0.35.0
Kasper Daniel Hansen
Last Commit: 816a42c
Last Changed Date: 2020-04-27 15:06:41 -0400
malbec1 Linux (Ubuntu 18.04.4 LTS) / x86_64  OK  OK  OK UNNEEDED, same version exists in internal repository
nebbiolo1 Linux (Ubuntu 20.04.1 LTS) / x86_64  OK  OK  OK 
riesling1 Windows Server 2019 Standard / x64  OK  OK  WARNINGS 
Package 229/395HostnameOS / ArchINSTALLBUILDCHECK
minfiDataEPIC 1.15.0
Kasper Daniel Hansen
Last Commit: bcbaa73
Last Changed Date: 2020-04-27 16:17:28 -0400
malbec1 Linux (Ubuntu 18.04.4 LTS) / x86_64  OK  OK  OK UNNEEDED, same version exists in internal repository
nebbiolo1 Linux (Ubuntu 20.04.1 LTS) / x86_64  OK  OK  OK 
riesling1 Windows Server 2019 Standard / x64  OK  OK  WARNINGS 
Package 230/395HostnameOS / ArchINSTALLBUILDCHECK
minionSummaryData 1.19.0
Mike Smith
Last Commit: 8034fe9
Last Changed Date: 2020-04-27 15:36:27 -0400
malbec1 Linux (Ubuntu 18.04.4 LTS) / x86_64  OK  ERROR  skipped 
nebbiolo1 Linux (Ubuntu 20.04.1 LTS) / x86_64  OK  ERROR  skipped 
riesling1 Windows Server 2019 Standard / x64  OK  ERROR  skipped 
Package 231/395HostnameOS / ArchINSTALLBUILDCHECK
miRcompData 1.19.0
Matthew N. McCall
Last Commit: cb34d31
Last Changed Date: 2020-04-27 15:39:17 -0400
malbec1 Linux (Ubuntu 18.04.4 LTS) / x86_64  OK  OK  OK UNNEEDED, same version exists in internal repository
nebbiolo1 Linux (Ubuntu 20.04.1 LTS) / x86_64  OK  OK  OK 
riesling1 Windows Server 2019 Standard / x64  OK  OK  OK 
Package 232/395HostnameOS / ArchINSTALLBUILDCHECK
miRNATarget 1.27.0
Y-h. Taguchi
Last Commit: 3436482
Last Changed Date: 2020-04-27 15:10:05 -0400
malbec1 Linux (Ubuntu 18.04.4 LTS) / x86_64  OK  OK  OK UNNEEDED, same version exists in internal repository
nebbiolo1 Linux (Ubuntu 20.04.1 LTS) / x86_64  OK  OK  OK 
riesling1 Windows Server 2019 Standard / x64  OK  OK  OK 
Package 233/395HostnameOS / ArchINSTALLBUILDCHECK
mitoODEdata 1.25.2
Gregoire Pau
Last Commit: 1003086
Last Changed Date: 2020-08-10 05:59:55 -0400
malbec1 Linux (Ubuntu 18.04.4 LTS) / x86_64  OK  OK  WARNINGS UNNEEDED, same version exists in internal repository
nebbiolo1 Linux (Ubuntu 20.04.1 LTS) / x86_64  OK  OK  WARNINGS 
riesling1 Windows Server 2019 Standard / x64  OK  OK  WARNINGS 
Package 234/395HostnameOS / ArchINSTALLBUILDCHECK
MMAPPR2data 1.3.0
Jonathon Hill
Last Commit: 9cea0ea
Last Changed Date: 2020-04-27 16:43:56 -0400
malbec1 Linux (Ubuntu 18.04.4 LTS) / x86_64  OK  ERROR  skipped 
nebbiolo1 Linux (Ubuntu 20.04.1 LTS) / x86_64  OK  ERROR  skipped 
riesling1 Windows Server 2019 Standard / x64  OK  ERROR  skipped 
Package 235/395HostnameOS / ArchINSTALLBUILDCHECK
MMDiffBamSubset 1.25.0
Gabriele Schweikert
Last Commit: 5b557a4
Last Changed Date: 2020-04-27 15:17:59 -0400
malbec1 Linux (Ubuntu 18.04.4 LTS) / x86_64  OK  OK  OK UNNEEDED, same version exists in internal repository
nebbiolo1 Linux (Ubuntu 20.04.1 LTS) / x86_64  OK  OK  OK 
riesling1 Windows Server 2019 Standard / x64  OK  OK  OK 
Package 236/395HostnameOS / ArchINSTALLBUILDCHECK
MOFAdata 1.5.0
Britta Velten
Last Commit: 694f3d8
Last Changed Date: 2020-04-27 16:42:56 -0400
malbec1 Linux (Ubuntu 18.04.4 LTS) / x86_64  OK  ERROR  skipped 
nebbiolo1 Linux (Ubuntu 20.04.1 LTS) / x86_64  OK  ERROR  skipped 
riesling1 Windows Server 2019 Standard / x64  OK  ERROR  skipped 
Package 237/395HostnameOS / ArchINSTALLBUILDCHECK
mosaicsExample 1.27.0
Dongjun Chung
Last Commit: 02d3be9
Last Changed Date: 2020-04-27 15:04:11 -0400
malbec1 Linux (Ubuntu 18.04.4 LTS) / x86_64  OK  OK  OK UNNEEDED, same version exists in internal repository
nebbiolo1 Linux (Ubuntu 20.04.1 LTS) / x86_64  OK  OK  OK 
riesling1 Windows Server 2019 Standard / x64  OK  OK  OK 
Package 238/395HostnameOS / ArchINSTALLBUILDCHECK
mouse4302barcodevecs 1.27.0
Matthew N. McCall
Last Commit: f7e4674
Last Changed Date: 2020-04-27 15:03:02 -0400
malbec1 Linux (Ubuntu 18.04.4 LTS) / x86_64  OK  OK  OK UNNEEDED, same version exists in internal repository
nebbiolo1 Linux (Ubuntu 20.04.1 LTS) / x86_64  OK  OK  OK 
riesling1 Windows Server 2019 Standard / x64  OK  OK  OK 
Package 239/395HostnameOS / ArchINSTALLBUILDCHECK
MouseGastrulationData 1.3.0
Jonathan Griffiths
Last Commit: f4194f4
Last Changed Date: 2020-08-28 06:45:47 -0400
malbec1 Linux (Ubuntu 18.04.4 LTS) / x86_64  OK  ERROR  skipped 
nebbiolo1 Linux (Ubuntu 20.04.1 LTS) / x86_64  OK  ERROR  skipped 
riesling1 Windows Server 2019 Standard / x64  OK  ERROR  skipped 
Package 240/395HostnameOS / ArchINSTALLBUILDCHECK
msd16s 1.9.0
Joseph N. Paulson
Last Commit: 00a17f4
Last Changed Date: 2020-04-27 15:28:49 -0400
malbec1 Linux (Ubuntu 18.04.4 LTS) / x86_64  OK  OK  OK UNNEEDED, same version exists in internal repository
nebbiolo1 Linux (Ubuntu 20.04.1 LTS) / x86_64  OK  OK  OK 
riesling1 Windows Server 2019 Standard / x64  OK  OK  OK 
Package 241/395HostnameOS / ArchINSTALLBUILDCHECK
msdata 0.29.0
Steffen Neumann , Laurent Gatto
Last Commit: b5e4287
Last Changed Date: 2020-04-27 14:57:53 -0400
malbec1 Linux (Ubuntu 18.04.4 LTS) / x86_64  OK  OK  OK UNNEEDED, same version exists in internal repository
nebbiolo1 Linux (Ubuntu 20.04.1 LTS) / x86_64  OK  OK  OK 
riesling1 Windows Server 2019 Standard / x64  OK  OK  OK 
Package 242/395HostnameOS / ArchINSTALLBUILDCHECK
MSMB 1.7.0
Wolfgang Huber
Last Commit: 58ae7e3
Last Changed Date: 2020-04-27 16:38:47 -0400
malbec1 Linux (Ubuntu 18.04.4 LTS) / x86_64  OK  ERROR  skipped 
nebbiolo1 Linux (Ubuntu 20.04.1 LTS) / x86_64  OK  ERROR  skipped 
riesling1 Windows Server 2019 Standard / x64  OK  ERROR  skipped 
Package 243/395HostnameOS / ArchINSTALLBUILDCHECK
msPurityData 1.17.0
Thomas N. Lawson
Last Commit: ce48dc7
Last Changed Date: 2020-04-27 16:16:44 -0400
malbec1 Linux (Ubuntu 18.04.4 LTS) / x86_64  OK  OK  OK UNNEEDED, same version exists in internal repository
nebbiolo1 Linux (Ubuntu 20.04.1 LTS) / x86_64  OK  OK  OK 
riesling1 Windows Server 2019 Standard / x64  OK  OK  OK 
Package 244/395HostnameOS / ArchINSTALLBUILDCHECK
msqc1 1.17.0
Christian Panse
Last Commit: 100c0e8
Last Changed Date: 2020-04-27 16:14:51 -0400
malbec1 Linux (Ubuntu 18.04.4 LTS) / x86_64  OK  ERROR  skipped 
nebbiolo1 Linux (Ubuntu 20.04.1 LTS) / x86_64  OK  ERROR  skipped 
riesling1 Windows Server 2019 Standard / x64  OK  ERROR  skipped 
Package 245/395HostnameOS / ArchINSTALLBUILDCHECK
MSstatsBioData 1.11.0
Meena Choi
Last Commit: 0142f6e
Last Changed Date: 2020-04-27 16:21:07 -0400
malbec1 Linux (Ubuntu 18.04.4 LTS) / x86_64  OK  OK  WARNINGS UNNEEDED, same version exists in internal repository
nebbiolo1 Linux (Ubuntu 20.04.1 LTS) / x86_64  OK  OK  WARNINGS 
riesling1 Windows Server 2019 Standard / x64  OK  OK  WARNINGS 
Package 246/395HostnameOS / ArchINSTALLBUILDCHECK
mtbls2 1.19.0
Steffen Neumann
Last Commit: 480ffc0
Last Changed Date: 2020-04-27 15:38:25 -0400
malbec1 Linux (Ubuntu 18.04.4 LTS) / x86_64  OK  ERROR  skipped 
nebbiolo1 Linux (Ubuntu 20.04.1 LTS) / x86_64  OK  ERROR  skipped 
riesling1 Windows Server 2019 Standard / x64  OK  ERROR  skipped 
Package 247/395HostnameOS / ArchINSTALLBUILDCHECK
MUGAExampleData 1.9.0
Daniel Gatti
Last Commit: eb924e1
Last Changed Date: 2020-04-27 15:28:54 -0400
malbec1 Linux (Ubuntu 18.04.4 LTS) / x86_64  OK  OK  OK UNNEEDED, same version exists in internal repository
nebbiolo1 Linux (Ubuntu 20.04.1 LTS) / x86_64  OK  OK  OK 
riesling1 Windows Server 2019 Standard / x64  OK  OK  OK 
Package 248/395HostnameOS / ArchINSTALLBUILDCHECK
Mulder2012 0.29.1
Xin Wang
Last Commit: 2b5cf71
Last Changed Date: 2020-06-03 08:34:00 -0400
malbec1 Linux (Ubuntu 18.04.4 LTS) / x86_64  ERROR  ERROR  skipped 
nebbiolo1 Linux (Ubuntu 20.04.1 LTS) / x86_64  ERROR  ERROR  skipped 
riesling1 Windows Server 2019 Standard / x64  ERROR  ERROR  skipped 
Package 249/395HostnameOS / ArchINSTALLBUILDCHECK
muscData 1.3.0
Helena L. Crowell
Last Commit: 1c4813c
Last Changed Date: 2020-04-27 16:43:53 -0400
malbec1 Linux (Ubuntu 18.04.4 LTS) / x86_64  OK  ERROR  skipped 
nebbiolo1 Linux (Ubuntu 20.04.1 LTS) / x86_64  OK  ERROR  skipped 
riesling1 Windows Server 2019 Standard / x64  OK  ERROR  skipped 
Package 250/395HostnameOS / ArchINSTALLBUILDCHECK
mvoutData 1.25.0
VJ Carey
Last Commit: e73e632
Last Changed Date: 2020-04-27 15:02:14 -0400
malbec1 Linux (Ubuntu 18.04.4 LTS) / x86_64  OK  OK  OK UNNEEDED, same version exists in internal repository
nebbiolo1 Linux (Ubuntu 20.04.1 LTS) / x86_64  OK  OK  OK 
riesling1 Windows Server 2019 Standard / x64  OK  OK  OK 
Package 251/395HostnameOS / ArchINSTALLBUILDCHECK
nanotubes 1.5.0
Malte Thodberg
Last Commit: 60ff6b0
Last Changed Date: 2020-04-27 16:43:02 -0400
malbec1 Linux (Ubuntu 18.04.4 LTS) / x86_64  OK  ERROR  skipped 
nebbiolo1 Linux (Ubuntu 20.04.1 LTS) / x86_64  OK  ERROR  skipped 
riesling1 Windows Server 2019 Standard / x64  OK  ERROR  skipped 
Package 252/395HostnameOS / ArchINSTALLBUILDCHECK
NCIgraphData 1.25.0
Laurent Jacob
Last Commit: 36a874f
Last Changed Date: 2020-04-27 15:05:38 -0400
malbec1 Linux (Ubuntu 18.04.4 LTS) / x86_64  OK  OK  WARNINGS UNNEEDED, same version exists in internal repository
nebbiolo1 Linux (Ubuntu 20.04.1 LTS) / x86_64  OK  OK  WARNINGS 
riesling1 Windows Server 2019 Standard / x64  OK  OK  WARNINGS 
Package 253/395HostnameOS / ArchINSTALLBUILDCHECK
NestLink 1.5.0
Lennart Opitz
Last Commit: b3d0270
Last Changed Date: 2020-04-27 16:40:59 -0400
malbec1 Linux (Ubuntu 18.04.4 LTS) / x86_64  OK  ERROR  skipped 
nebbiolo1 Linux (Ubuntu 20.04.1 LTS) / x86_64  OK  ERROR  skipped 
riesling1 Windows Server 2019 Standard / x64  OK  ERROR  skipped 
Package 254/395HostnameOS / ArchINSTALLBUILDCHECK
Neve2006 0.27.0
VJ Carey
Last Commit: a61d04d
Last Changed Date: 2020-08-12 15:45:27 -0400
malbec1 Linux (Ubuntu 18.04.4 LTS) / x86_64  OK  OK  OK UNNEEDED, same version exists in internal repository
nebbiolo1 Linux (Ubuntu 20.04.1 LTS) / x86_64  OK  OK  OK 
riesling1 Windows Server 2019 Standard / x64  OK  OK  OK 
Package 255/395HostnameOS / ArchINSTALLBUILDCHECK
NGScopyData 1.9.0
Xiaobei Zhao
Last Commit: 0c6ed99
Last Changed Date: 2020-04-27 15:30:22 -0400
malbec1 Linux (Ubuntu 18.04.4 LTS) / x86_64  OK  OK  OK UNNEEDED, same version exists in internal repository
nebbiolo1 Linux (Ubuntu 20.04.1 LTS) / x86_64  OK  OK  OK 
riesling1 Windows Server 2019 Standard / x64  OK  OK  OK 
Package 256/395HostnameOS / ArchINSTALLBUILDCHECK
oct4 1.5.0
Michael Love
Last Commit: 1bd2994
Last Changed Date: 2020-04-27 16:42:39 -0400
malbec1 Linux (Ubuntu 18.04.4 LTS) / x86_64  OK  OK  OK UNNEEDED, same version exists in internal repository
nebbiolo1 Linux (Ubuntu 20.04.1 LTS) / x86_64  OK  OK  OK 
riesling1 Windows Server 2019 Standard / x64  OK  OK  OK 
Package 257/395HostnameOS / ArchINSTALLBUILDCHECK
OMICsPCAdata 1.7.0
Subhadeep Das
Last Commit: 82d0470
Last Changed Date: 2020-04-27 16:39:46 -0400
malbec1 Linux (Ubuntu 18.04.4 LTS) / x86_64  OK  OK  OK UNNEEDED, same version exists in internal repository
nebbiolo1 Linux (Ubuntu 20.04.1 LTS) / x86_64  OK  OK  OK 
riesling1 Windows Server 2019 Standard / x64  OK  OK  OK 
Package 258/395HostnameOS / ArchINSTALLBUILDCHECK
OnassisJavaLibs 1.11.0
Eugenia Galeota
Last Commit: a93e8de
Last Changed Date: 2020-04-27 16:21:02 -0400
malbec1 Linux (Ubuntu 18.04.4 LTS) / x86_64  OK  ERROR  skipped 
nebbiolo1 Linux (Ubuntu 20.04.1 LTS) / x86_64  OK  ERROR  skipped 
riesling1 Windows Server 2019 Standard / x64  OK  ERROR  skipped 
Package 259/395HostnameOS / ArchINSTALLBUILDCHECK
optimalFlowData 1.1.0
Hristo Inouzhe
Last Commit: 5fbc14d
Last Changed Date: 2020-04-27 16:45:22 -0400
malbec1 Linux (Ubuntu 18.04.4 LTS) / x86_64  OK  ERROR  skipped 
nebbiolo1 Linux (Ubuntu 20.04.1 LTS) / x86_64  OK  ERROR  skipped 
riesling1 Windows Server 2019 Standard / x64  OK  ERROR  skipped 
Package 260/395HostnameOS / ArchINSTALLBUILDCHECK
parathyroidSE 1.27.0
Michael Love
Last Commit: 1468eb5
Last Changed Date: 2020-04-27 15:16:23 -0400
malbec1 Linux (Ubuntu 18.04.4 LTS) / x86_64  OK  OK  OK UNNEEDED, same version exists in internal repository
nebbiolo1 Linux (Ubuntu 20.04.1 LTS) / x86_64  OK  OK  OK 
riesling1 Windows Server 2019 Standard / x64  OK  OK  OK 
Package 261/395HostnameOS / ArchINSTALLBUILDCHECK
pasilla 1.17.0
Alejandro Reyes
Last Commit: 5654d65
Last Changed Date: 2020-04-27 15:06:15 -0400
malbec1 Linux (Ubuntu 18.04.4 LTS) / x86_64  OK  ERROR  skipped 
nebbiolo1 Linux (Ubuntu 20.04.1 LTS) / x86_64  OK  ERROR  skipped 
riesling1 Windows Server 2019 Standard / x64  OK  ERROR  skipped 
Package 262/395HostnameOS / ArchINSTALLBUILDCHECK
pasillaBamSubset 0.27.0
Hervé Pagès
Last Commit: 7599d37
Last Changed Date: 2020-04-27 15:09:50 -0400
malbec1 Linux (Ubuntu 18.04.4 LTS) / x86_64  OK  OK  OK UNNEEDED, same version exists in internal repository
nebbiolo1 Linux (Ubuntu 20.04.1 LTS) / x86_64  OK  OK  OK 
riesling1 Windows Server 2019 Standard / x64  OK  OK  OK 
Package 263/395HostnameOS / ArchINSTALLBUILDCHECK
PasillaTranscriptExpr 1.17.0
Malgorzata Nowicka
Last Commit: 3b93eac
Last Changed Date: 2020-04-27 16:15:59 -0400
malbec1 Linux (Ubuntu 18.04.4 LTS) / x86_64  OK  ERROR  skipped 
nebbiolo1 Linux (Ubuntu 20.04.1 LTS) / x86_64  OK  ERROR  skipped 
riesling1 Windows Server 2019 Standard / x64  OK  ERROR  skipped 
Package 264/395HostnameOS / ArchINSTALLBUILDCHECK
PathNetData 1.25.0
Ludwig Geistlinger
Last Commit: 87fa118
Last Changed Date: 2020-04-27 15:15:59 -0400
malbec1 Linux (Ubuntu 18.04.4 LTS) / x86_64  OK  OK  OK UNNEEDED, same version exists in internal repository
nebbiolo1 Linux (Ubuntu 20.04.1 LTS) / x86_64  OK  OK  OK 
riesling1 Windows Server 2019 Standard / x64  OK  OK  OK 
Package 265/395HostnameOS / ArchINSTALLBUILDCHECK
pathprintGEOData 1.19.0
Sokratis Kariotis
Last Commit: ceb722a
Last Changed Date: 2020-04-27 16:20:38 -0400
malbec1 Linux (Ubuntu 18.04.4 LTS) / x86_64  OK  OK  WARNINGS UNNEEDED, same version exists in internal repository
nebbiolo1 Linux (Ubuntu 20.04.1 LTS) / x86_64  OK  OK  WARNINGS 
riesling1 Windows Server 2019 Standard / x64  OK  OK  WARNINGS 
Package 266/395HostnameOS / ArchINSTALLBUILDCHECK
pcaGoPromoter.Hs.hg19 1.25.0
Morten Hansen
Last Commit: 9f40609
Last Changed Date: 2020-04-27 15:07:36 -0400
malbec1 Linux (Ubuntu 18.04.4 LTS) / x86_64  OK  OK  OK UNNEEDED, same version exists in internal repository
nebbiolo1 Linux (Ubuntu 20.04.1 LTS) / x86_64  OK  OK  OK 
riesling1 Windows Server 2019 Standard / x64  OK  OK  OK 
Package 267/395HostnameOS / ArchINSTALLBUILDCHECK
pcaGoPromoter.Mm.mm9 1.25.0
Morten Hansen
Last Commit: ed8d848
Last Changed Date: 2020-04-27 15:07:41 -0400
malbec1 Linux (Ubuntu 18.04.4 LTS) / x86_64  OK  OK  OK UNNEEDED, same version exists in internal repository
nebbiolo1 Linux (Ubuntu 20.04.1 LTS) / x86_64  OK  OK  OK 
riesling1 Windows Server 2019 Standard / x64  OK  OK  OK 
Package 268/395HostnameOS / ArchINSTALLBUILDCHECK
pcaGoPromoter.Rn.rn4 1.25.0
Morten Hansen,
Last Commit: 1fce62f
Last Changed Date: 2020-04-27 15:07:51 -0400
malbec1 Linux (Ubuntu 18.04.4 LTS) / x86_64  OK  OK  OK UNNEEDED, same version exists in internal repository
nebbiolo1 Linux (Ubuntu 20.04.1 LTS) / x86_64  OK  OK  OK 
riesling1 Windows Server 2019 Standard / x64  OK  OK  OK 
Package 269/395HostnameOS / ArchINSTALLBUILDCHECK
PCHiCdata 1.17.0
Paula Freire-Pritchett
Last Commit: 8b76ebd
Last Changed Date: 2020-04-27 15:39:23 -0400
malbec1 Linux (Ubuntu 18.04.4 LTS) / x86_64  OK  ERROR  skipped 
nebbiolo1 Linux (Ubuntu 20.04.1 LTS) / x86_64  OK  ERROR  skipped 
riesling1 Windows Server 2019 Standard / x64  OK  ERROR  skipped 
Package 270/395HostnameOS / ArchINSTALLBUILDCHECK
pcxnData 2.11.0
Sokratis Kariotis
Last Commit: 4976153
Last Changed Date: 2020-04-27 16:22:09 -0400
malbec1 Linux (Ubuntu 18.04.4 LTS) / x86_64  OK  OK  WARNINGS UNNEEDED, same version exists in internal repository
nebbiolo1 Linux (Ubuntu 20.04.1 LTS) / x86_64  OK  OK  WARNINGS 
riesling1 Windows Server 2019 Standard / x64  OK  OK  WARNINGS 
Package 271/395HostnameOS / ArchINSTALLBUILDCHECK
pd.atdschip.tiling 0.27.0
Kristof De Beuf
Last Commit: a067e2a
Last Changed Date: 2020-04-27 15:12:04 -0400
malbec1 Linux (Ubuntu 18.04.4 LTS) / x86_64  OK  OK  WARNINGS UNNEEDED, same version exists in internal repository
nebbiolo1 Linux (Ubuntu 20.04.1 LTS) / x86_64  OK  OK  WARNINGS 
riesling1 Windows Server 2019 Standard / x64  OK  OK  WARNINGS 
Package 272/395HostnameOS / ArchINSTALLBUILDCHECK
pepDat 1.9.0
Renan Sauteraud
Last Commit: 5ee8673
Last Changed Date: 2020-04-27 15:28:59 -0400
malbec1 Linux (Ubuntu 18.04.4 LTS) / x86_64  OK  OK  OK UNNEEDED, same version exists in internal repository
nebbiolo1 Linux (Ubuntu 20.04.1 LTS) / x86_64  OK  OK  OK 
riesling1 Windows Server 2019 Standard / x64  OK  OK  OK 
Package 273/395HostnameOS / ArchINSTALLBUILDCHECK
PepsNMRData 1.7.0
Manon Martin
Last Commit: 5068d7d
Last Changed Date: 2020-04-27 16:40:36 -0400
malbec1 Linux (Ubuntu 18.04.4 LTS) / x86_64  OK  OK  OK UNNEEDED, same version exists in internal repository
nebbiolo1 Linux (Ubuntu 20.04.1 LTS) / x86_64  OK  OK  OK 
riesling1 Windows Server 2019 Standard / x64  OK  OK  OK 
Package 274/395HostnameOS / ArchINSTALLBUILDCHECK
PhyloProfileData 1.3.0
Vinh Tran
Last Commit: 679cbef
Last Changed Date: 2020-04-27 16:44:13 -0400
malbec1 Linux (Ubuntu 18.04.4 LTS) / x86_64  OK  ERROR  skipped 
nebbiolo1 Linux (Ubuntu 20.04.1 LTS) / x86_64  OK  ERROR  skipped 
riesling1 Windows Server 2019 Standard / x64  OK  ERROR  skipped 
Package 275/395HostnameOS / ArchINSTALLBUILDCHECK
plasFIA 1.17.0
Alexis Delabriere
Last Commit: 7946a2f
Last Changed Date: 2020-04-27 16:20:06 -0400
malbec1 Linux (Ubuntu 18.04.4 LTS) / x86_64  OK  OK  OK UNNEEDED, same version exists in internal repository
nebbiolo1 Linux (Ubuntu 20.04.1 LTS) / x86_64  OK  OK  OK 
riesling1 Windows Server 2019 Standard / x64  OK  OK  OK 
Package 276/395HostnameOS / ArchINSTALLBUILDCHECK
ppiData 0.27.0
Bioconductor Package Maintainer
Last Commit: e5ea42f
Last Changed Date: 2020-04-27 14:55:03 -0400
malbec1 Linux (Ubuntu 18.04.4 LTS) / x86_64  OK  OK  WARNINGS UNNEEDED, same version exists in internal repository
nebbiolo1 Linux (Ubuntu 20.04.1 LTS) / x86_64  OK  OK  WARNINGS 
riesling1 Windows Server 2019 Standard / x64  OK  OK  WARNINGS 
Package 277/395HostnameOS / ArchINSTALLBUILDCHECK
prebsdata 1.25.0
Karolis Uziela
Last Commit: 11eef4e
Last Changed Date: 2020-04-27 15:18:18 -0400
malbec1 Linux (Ubuntu 18.04.4 LTS) / x86_64  OK  OK  OK UNNEEDED, same version exists in internal repository
nebbiolo1 Linux (Ubuntu 20.04.1 LTS) / x86_64  OK  OK  OK 
riesling1 Windows Server 2019 Standard / x64  OK  OK  OK 
Package 278/395HostnameOS / ArchINSTALLBUILDCHECK
PREDAsampledata 0.29.0
Francesco Ferrari
Last Commit: b85e57c
Last Changed Date: 2020-04-27 15:06:33 -0400
malbec1 Linux (Ubuntu 18.04.4 LTS) / x86_64  OK  OK  OK UNNEEDED, same version exists in internal repository
nebbiolo1 Linux (Ubuntu 20.04.1 LTS) / x86_64  OK  OK  OK 
riesling1 Windows Server 2019 Standard / x64  OK  OK  OK 
Package 279/395HostnameOS / ArchINSTALLBUILDCHECK
ProData 1.27.0
Xiaochun Li
Last Commit: d9e3b98
Last Changed Date: 2020-04-27 14:55:06 -0400
malbec1 Linux (Ubuntu 18.04.4 LTS) / x86_64  OK  OK  OK UNNEEDED, same version exists in internal repository
nebbiolo1 Linux (Ubuntu 20.04.1 LTS) / x86_64  OK  OK  OK 
riesling1 Windows Server 2019 Standard / x64  OK  OK  OK 
Package 280/395HostnameOS / ArchINSTALLBUILDCHECK
pRolocdata 1.27.1
Laurent Gatto
Last Commit: e555fcf
Last Changed Date: 2020-09-10 14:03:52 -0400
malbec1 Linux (Ubuntu 18.04.4 LTS) / x86_64  OK  OK  OK UNNEEDED, same version exists in internal repository
nebbiolo1 Linux (Ubuntu 20.04.1 LTS) / x86_64  OK  OK  OK 
riesling1 Windows Server 2019 Standard / x64  OK  OK  OK 
Package 281/395HostnameOS / ArchINSTALLBUILDCHECK
prostateCancerCamcap 1.17.0
Mark Dunning
Last Commit: 4ebc5a2
Last Changed Date: 2020-04-27 16:14:55 -0400
malbec1 Linux (Ubuntu 18.04.4 LTS) / x86_64  OK  OK  OK UNNEEDED, same version exists in internal repository
nebbiolo1 Linux (Ubuntu 20.04.1 LTS) / x86_64  OK  OK  OK 
riesling1 Windows Server 2019 Standard / x64  OK  OK  OK 
Package 282/395HostnameOS / ArchINSTALLBUILDCHECK
prostateCancerGrasso 1.17.0
Mark Dunning
Last Commit: 442bec4
Last Changed Date: 2020-04-27 16:15:08 -0400
malbec1 Linux (Ubuntu 18.04.4 LTS) / x86_64  OK  OK  OK UNNEEDED, same version exists in internal repository
nebbiolo1 Linux (Ubuntu 20.04.1 LTS) / x86_64  OK  OK  OK 
riesling1 Windows Server 2019 Standard / x64  OK  OK  OK 
Package 283/395HostnameOS / ArchINSTALLBUILDCHECK
prostateCancerStockholm 1.17.0
Mark Dunning
Last Commit: 790d46b
Last Changed Date: 2020-04-27 16:15:02 -0400
malbec1 Linux (Ubuntu 18.04.4 LTS) / x86_64  OK  OK  OK UNNEEDED, same version exists in internal repository
nebbiolo1 Linux (Ubuntu 20.04.1 LTS) / x86_64  OK  OK  OK 
riesling1 Windows Server 2019 Standard / x64  OK  OK  OK 
Package 284/395HostnameOS / ArchINSTALLBUILDCHECK
prostateCancerTaylor 1.17.0
Mark Dunning
Last Commit: 5bc2dda
Last Changed Date: 2020-04-27 16:14:58 -0400
malbec1 Linux (Ubuntu 18.04.4 LTS) / x86_64  OK  OK  OK UNNEEDED, same version exists in internal repository
nebbiolo1 Linux (Ubuntu 20.04.1 LTS) / x86_64  OK  OK  OK 
riesling1 Windows Server 2019 Standard / x64  OK  OK  OK 
Package 285/395HostnameOS / ArchINSTALLBUILDCHECK
prostateCancerVarambally 1.17.0
Mark Dunning
Last Commit: 8700ed4
Last Changed Date: 2020-04-27 16:15:12 -0400
malbec1 Linux (Ubuntu 18.04.4 LTS) / x86_64  OK  OK  OK UNNEEDED, same version exists in internal repository
nebbiolo1 Linux (Ubuntu 20.04.1 LTS) / x86_64  OK  OK  OK 
riesling1 Windows Server 2019 Standard / x64  OK  OK  OK 
Package 286/395HostnameOS / ArchINSTALLBUILDCHECK
PtH2O2lipids 1.15.0
James Collins
Last Commit: d1ed731
Last Changed Date: 2020-04-27 16:19:23 -0400
malbec1 Linux (Ubuntu 18.04.4 LTS) / x86_64  OK  OK  WARNINGS UNNEEDED, same version exists in internal repository
nebbiolo1 Linux (Ubuntu 20.04.1 LTS) / x86_64  OK  OK  WARNINGS 
riesling1 Windows Server 2019 Standard / x64  OK  OK  WARNINGS 
Package 287/395HostnameOS / ArchINSTALLBUILDCHECK
pumadata 2.25.0
Xuejun liu
Last Commit: e052997
Last Changed Date: 2020-09-07 17:16:28 -0400
malbec1 Linux (Ubuntu 18.04.4 LTS) / x86_64  OK  OK  OK UNNEEDED, same version exists in internal repository
nebbiolo1 Linux (Ubuntu 20.04.1 LTS) / x86_64  OK  OK  OK 
riesling1 Windows Server 2019 Standard / x64  OK  OK  WARNINGS 
Package 288/395HostnameOS / ArchINSTALLBUILDCHECK
PWMEnrich.Dmelanogaster.background 4.23.3
Diego Diez
Last Commit: f31dc1a
Last Changed Date: 2020-09-02 11:09:03 -0400
malbec1 Linux (Ubuntu 18.04.4 LTS) / x86_64  OK  OK  WARNINGS UNNEEDED, same version exists in internal repository
nebbiolo1 Linux (Ubuntu 20.04.1 LTS) / x86_64  OK  OK  WARNINGS 
riesling1 Windows Server 2019 Standard / x64  OK  OK  WARNINGS 
Package 289/395HostnameOS / ArchINSTALLBUILDCHECK
PWMEnrich.Hsapiens.background 4.23.2
Diego Diez
Last Commit: 1127743
Last Changed Date: 2020-09-02 11:10:33 -0400
malbec1 Linux (Ubuntu 18.04.4 LTS) / x86_64  OK  OK  WARNINGS UNNEEDED, same version exists in internal repository
nebbiolo1 Linux (Ubuntu 20.04.1 LTS) / x86_64  OK  OK  WARNINGS 
riesling1 Windows Server 2019 Standard / x64  OK  OK  WARNINGS 
Package 290/395HostnameOS / ArchINSTALLBUILDCHECK
PWMEnrich.Mmusculus.background 4.23.2
Diego Diez
Last Commit: 2e089ee
Last Changed Date: 2020-09-02 11:09:56 -0400
malbec1 Linux (Ubuntu 18.04.4 LTS) / x86_64  OK  OK  OK UNNEEDED, same version exists in internal repository
nebbiolo1 Linux (Ubuntu 20.04.1 LTS) / x86_64  OK  OK  OK 
riesling1 Windows Server 2019 Standard / x64  OK  OK  OK 
Package 291/395HostnameOS / ArchINSTALLBUILDCHECK
pwrEWAS.data 1.3.0
Stefan Graw
Last Commit: 7104224
Last Changed Date: 2020-04-27 16:44:23 -0400
malbec1 Linux (Ubuntu 18.04.4 LTS) / x86_64  OK  OK  OK UNNEEDED, same version exists in internal repository
nebbiolo1 Linux (Ubuntu 20.04.1 LTS) / x86_64  OK  OK  OK 
riesling1 Windows Server 2019 Standard / x64  OK  OK  OK 
Package 292/395HostnameOS / ArchINSTALLBUILDCHECK
QDNAseq.hg19 1.19.0
Daoud Sie
Last Commit: 372a083
Last Changed Date: 2020-04-27 15:39:00 -0400
malbec1 Linux (Ubuntu 18.04.4 LTS) / x86_64  OK  OK  OK UNNEEDED, same version exists in internal repository
nebbiolo1 Linux (Ubuntu 20.04.1 LTS) / x86_64  OK  OK  OK 
riesling1 Windows Server 2019 Standard / x64  OK  OK  WARNINGS 
Package 293/395HostnameOS / ArchINSTALLBUILDCHECK
QDNAseq.mm10 1.19.0
Daoud Sie
Last Commit: 30bc3eb
Last Changed Date: 2020-04-27 15:39:04 -0400
malbec1 Linux (Ubuntu 18.04.4 LTS) / x86_64  OK  OK  OK UNNEEDED, same version exists in internal repository
nebbiolo1 Linux (Ubuntu 20.04.1 LTS) / x86_64  OK  OK  OK 
riesling1 Windows Server 2019 Standard / x64  OK  OK  WARNINGS 
Package 294/395HostnameOS / ArchINSTALLBUILDCHECK
qPLEXdata 1.7.0
Kamal Kishore Developer
Last Commit: d6d76c6
Last Changed Date: 2020-04-27 16:38:57 -0400
malbec1 Linux (Ubuntu 18.04.4 LTS) / x86_64  OK  OK  WARNINGS UNNEEDED, same version exists in internal repository
nebbiolo1 Linux (Ubuntu 20.04.1 LTS) / x86_64  OK  OK  WARNINGS 
riesling1 Windows Server 2019 Standard / x64  OK  OK  WARNINGS 
Package 295/395HostnameOS / ArchINSTALLBUILDCHECK
QUBICdata 1.17.0
Yu Zhang
Last Commit: 15a7887
Last Changed Date: 2020-04-27 16:16:03 -0400
malbec1 Linux (Ubuntu 18.04.4 LTS) / x86_64  OK  OK  OK UNNEEDED, same version exists in internal repository
nebbiolo1 Linux (Ubuntu 20.04.1 LTS) / x86_64  OK  OK  OK 
riesling1 Windows Server 2019 Standard / x64  OK  OK  OK 
Package 296/395HostnameOS / ArchINSTALLBUILDCHECK
rcellminerData 2.11.2
Augustin Luna , Vinodh Rajapakse
Last Commit: 1e649ee
Last Changed Date: 2020-08-19 09:23:01 -0400
malbec1 Linux (Ubuntu 18.04.4 LTS) / x86_64  OK  ERROR  skipped 
nebbiolo1 Linux (Ubuntu 20.04.1 LTS) / x86_64  OK  ERROR  skipped 
riesling1 Windows Server 2019 Standard / x64  OK  ERROR  skipped 
Package 297/395HostnameOS / ArchINSTALLBUILDCHECK
RcisTarget.hg19.motifDBs.cisbpOnly.500bp 1.9.0
Sara Aibar
Last Commit: c7995e5
Last Changed Date: 2020-04-27 16:31:43 -0400
malbec1 Linux (Ubuntu 18.04.4 LTS) / x86_64  OK  OK  OK UNNEEDED, same version exists in internal repository
nebbiolo1 Linux (Ubuntu 20.04.1 LTS) / x86_64  OK  OK  OK 
riesling1 Windows Server 2019 Standard / x64  OK  OK  OK 
Package 298/395HostnameOS / ArchINSTALLBUILDCHECK
ReactomeGSA.data 1.3.0
Johannes Griss
Last Commit: d58156f
Last Changed Date: 2020-04-27 16:44:19 -0400
malbec1 Linux (Ubuntu 18.04.4 LTS) / x86_64  OK  OK  OK UNNEEDED, same version exists in internal repository
nebbiolo1 Linux (Ubuntu 20.04.1 LTS) / x86_64  OK  OK  OK 
riesling1 Windows Server 2019 Standard / x64  OK  OK  OK 
Package 299/395HostnameOS / ArchINSTALLBUILDCHECK
RegParallel 1.7.6
Kevin Blighe
Last Commit: 5ee4ed8
Last Changed Date: 2020-09-19 13:02:17 -0400
malbec1 Linux (Ubuntu 18.04.4 LTS) / x86_64  OK  OK  OK UNNEEDED, same version exists in internal repository
nebbiolo1 Linux (Ubuntu 20.04.1 LTS) / x86_64  OK  OK  OK 
riesling1 Windows Server 2019 Standard / x64  OK  OK  OK 
Package 300/395HostnameOS / ArchINSTALLBUILDCHECK
restfulSEData 1.11.0
Bioconductor Package Maintainer
Last Commit: d9e4589
Last Changed Date: 2020-04-27 16:21:10 -0400
malbec1 Linux (Ubuntu 18.04.4 LTS) / x86_64  OK  ERROR  skipped 
nebbiolo1 Linux (Ubuntu 20.04.1 LTS) / x86_64  OK  ERROR  skipped 
riesling1 Windows Server 2019 Standard / x64  OK  ERROR  skipped 
Package 301/395HostnameOS / ArchINSTALLBUILDCHECK
RforProteomics 1.27.1
Laurent Gatto
Last Commit: 6d81c85
Last Changed Date: 2020-06-13 11:03:17 -0400
malbec1 Linux (Ubuntu 18.04.4 LTS) / x86_64  OK  ERROR  skipped 
nebbiolo1 Linux (Ubuntu 20.04.1 LTS) / x86_64  OK  ERROR  skipped 
riesling1 Windows Server 2019 Standard / x64  OK  ERROR  skipped 
Package 302/395HostnameOS / ArchINSTALLBUILDCHECK
RGMQLlib 1.9.0
Simone Pallotta
Last Commit: 4441677
Last Changed Date: 2020-04-27 16:30:32 -0400
malbec1 Linux (Ubuntu 18.04.4 LTS) / x86_64  OK  OK  OK UNNEEDED, same version exists in internal repository
nebbiolo1 Linux (Ubuntu 20.04.1 LTS) / x86_64  OK  OK  OK 
riesling1 Windows Server 2019 Standard / x64  OK  OK  OK 
Package 303/395HostnameOS / ArchINSTALLBUILDCHECK
rheumaticConditionWOLLBOLD 1.27.0
Alejandro Quiroz-Zarate
Last Commit: e27ac8c
Last Changed Date: 2020-04-27 15:07:56 -0400
malbec1 Linux (Ubuntu 18.04.4 LTS) / x86_64  OK  OK  OK UNNEEDED, same version exists in internal repository
nebbiolo1 Linux (Ubuntu 20.04.1 LTS) / x86_64  OK  OK  OK 
riesling1 Windows Server 2019 Standard / x64  OK  OK  OK 
Package 304/395HostnameOS / ArchINSTALLBUILDCHECK
RITANdata 1.13.0
Michael Zimmermann
Last Commit: 1d3d716
Last Changed Date: 2020-04-27 16:20:54 -0400
malbec1 Linux (Ubuntu 18.04.4 LTS) / x86_64  OK  OK  OK UNNEEDED, same version exists in internal repository
nebbiolo1 Linux (Ubuntu 20.04.1 LTS) / x86_64  OK  OK  OK 
riesling1 Windows Server 2019 Standard / x64  OK  OK  OK 
Package 305/395HostnameOS / ArchINSTALLBUILDCHECK
RMassBankData 1.27.0
Michael Stravs, Emma Schymanski
Last Commit: 29e22e7
Last Changed Date: 2020-04-27 15:11:31 -0400
malbec1 Linux (Ubuntu 18.04.4 LTS) / x86_64  OK  OK  OK UNNEEDED, same version exists in internal repository
nebbiolo1 Linux (Ubuntu 20.04.1 LTS) / x86_64  OK  OK  OK 
riesling1 Windows Server 2019 Standard / x64  OK  OK  OK 
Package 306/395HostnameOS / ArchINSTALLBUILDCHECK
RNAinteractMAPK 1.27.1
Bernd Fischer
Last Commit: db49658
Last Changed Date: 2020-06-03 08:35:03 -0400
malbec1 Linux (Ubuntu 18.04.4 LTS) / x86_64  OK  ERROR  skipped 
nebbiolo1 Linux (Ubuntu 20.04.1 LTS) / x86_64  OK  ERROR  skipped 
riesling1 Windows Server 2019 Standard / x64  OK  ERROR  skipped 
Package 307/395HostnameOS / ArchINSTALLBUILDCHECK
RNAmodR.Data 1.3.0
Felix G.M. Ernst
Last Commit: e63f557
Last Changed Date: 2020-04-27 16:43:24 -0400
malbec1 Linux (Ubuntu 18.04.4 LTS) / x86_64  OK  ERROR  skipped 
nebbiolo1 Linux (Ubuntu 20.04.1 LTS) / x86_64  OK  ERROR  skipped 
riesling1 Windows Server 2019 Standard / x64  OK  ERROR  skipped 
Package 308/395HostnameOS / ArchINSTALLBUILDCHECK
RNAseqData.HNRNPC.bam.chr14 0.27.0
Hervé Pagès
Last Commit: 7f235ea
Last Changed Date: 2020-04-27 15:18:38 -0400
malbec1 Linux (Ubuntu 18.04.4 LTS) / x86_64  OK  OK  OK UNNEEDED, same version exists in internal repository
nebbiolo1 Linux (Ubuntu 20.04.1 LTS) / x86_64  OK  OK  OK 
riesling1 Windows Server 2019 Standard / x64  OK  OK  WARNINGS 
Package 309/395HostnameOS / ArchINSTALLBUILDCHECK
RNASeqRData 1.7.0
Kuan-Hao Chao
Last Commit: cf1b427
Last Changed Date: 2020-04-27 16:39:54 -0400
malbec1 Linux (Ubuntu 18.04.4 LTS) / x86_64  OK  OK  OK UNNEEDED, same version exists in internal repository
nebbiolo1 Linux (Ubuntu 20.04.1 LTS) / x86_64  OK  OK  OK 
riesling1 Windows Server 2019 Standard / x64  OK  OK  OK 
Package 310/395HostnameOS / ArchINSTALLBUILDCHECK
RnaSeqSampleSizeData 1.21.1
Shilin Zhao
Last Commit: 3ce8934
Last Changed Date: 2020-06-03 08:39:05 -0400
malbec1 Linux (Ubuntu 18.04.4 LTS) / x86_64  OK  ERROR  skipped 
nebbiolo1 Linux (Ubuntu 20.04.1 LTS) / x86_64  OK  ERROR  skipped 
riesling1 Windows Server 2019 Standard / x64  OK  ERROR  skipped 
Package 311/395HostnameOS / ArchINSTALLBUILDCHECK
RnBeads.hg19 1.21.0
RnBeadsAnnotationCreator
Last Commit: a971dc6
Last Changed Date: 2020-04-27 15:34:33 -0400
malbec1 Linux (Ubuntu 18.04.4 LTS) / x86_64  OK  OK  WARNINGS UNNEEDED, same version exists in internal repository
nebbiolo1 Linux (Ubuntu 20.04.1 LTS) / x86_64  OK  OK  WARNINGS 
riesling1 Windows Server 2019 Standard / x64  OK  OK  WARNINGS 
Package 312/395HostnameOS / ArchINSTALLBUILDCHECK
RnBeads.hg38 1.21.0
RnBeadsAnnotationCreator
Last Commit: c2c8dbf
Last Changed Date: 2020-04-27 15:36:57 -0400
malbec1 Linux (Ubuntu 18.04.4 LTS) / x86_64  OK  OK  OK UNNEEDED, same version exists in internal repository
nebbiolo1 Linux (Ubuntu 20.04.1 LTS) / x86_64  OK  OK  OK 
riesling1 Windows Server 2019 Standard / x64  OK  OK  OK 
Package 313/395HostnameOS / ArchINSTALLBUILDCHECK
RnBeads.mm10 1.21.0
RnBeadsAnnotationCreator
Last Commit: 5697771
Last Changed Date: 2020-04-27 15:34:53 -0400
malbec1 Linux (Ubuntu 18.04.4 LTS) / x86_64  OK  OK  OK UNNEEDED, same version exists in internal repository
nebbiolo1 Linux (Ubuntu 20.04.1 LTS) / x86_64  OK  OK  OK 
riesling1 Windows Server 2019 Standard / x64  OK  OK  OK 
Package 314/395HostnameOS / ArchINSTALLBUILDCHECK
RnBeads.mm9 1.21.0
RnBeadsAnnotationCreator
Last Commit: 951f3bf
Last Changed Date: 2020-04-27 15:35:03 -0400
malbec1 Linux (Ubuntu 18.04.4 LTS) / x86_64  OK  OK  WARNINGS UNNEEDED, same version exists in internal repository
nebbiolo1 Linux (Ubuntu 20.04.1 LTS) / x86_64  OK  OK  WARNINGS 
riesling1 Windows Server 2019 Standard / x64  OK  OK  WARNINGS 
Package 315/395HostnameOS / ArchINSTALLBUILDCHECK
RnBeads.rn5 1.21.0
RnBeadsAnnotationCreator
Last Commit: 728e7e0
Last Changed Date: 2020-04-27 15:35:10 -0400
malbec1 Linux (Ubuntu 18.04.4 LTS) / x86_64  OK  OK  OK UNNEEDED, same version exists in internal repository
nebbiolo1 Linux (Ubuntu 20.04.1 LTS) / x86_64  OK  OK  OK 
riesling1 Windows Server 2019 Standard / x64  OK  OK  OK 
Package 316/395HostnameOS / ArchINSTALLBUILDCHECK
RRBSdata 1.9.0
Katja Hebestreit
Last Commit: 6332326
Last Changed Date: 2020-04-27 15:31:03 -0400
malbec1 Linux (Ubuntu 18.04.4 LTS) / x86_64  OK  OK  OK UNNEEDED, same version exists in internal repository
nebbiolo1 Linux (Ubuntu 20.04.1 LTS) / x86_64  OK  OK  OK 
riesling1 Windows Server 2019 Standard / x64  OK  OK  OK 
Package 317/395HostnameOS / ArchINSTALLBUILDCHECK
rRDPData 1.9.0
Michael Hahsler
Last Commit: 9090090
Last Changed Date: 2020-04-27 15:30:30 -0400
malbec1 Linux (Ubuntu 18.04.4 LTS) / x86_64  OK  OK  OK UNNEEDED, same version exists in internal repository
nebbiolo1 Linux (Ubuntu 20.04.1 LTS) / x86_64  OK  OK  OK 
riesling1 Windows Server 2019 Standard / x64  OK  OK  ERROR 
Package 318/395HostnameOS / ArchINSTALLBUILDCHECK
RTCGA.clinical 20151101.19.0
Marcin Kosinski
Last Commit: c3f5fe9
Last Changed Date: 2020-04-27 15:37:11 -0400
malbec1 Linux (Ubuntu 18.04.4 LTS) / x86_64  OK  OK  OK UNNEEDED, same version exists in internal repository
nebbiolo1 Linux (Ubuntu 20.04.1 LTS) / x86_64  OK  OK  OK 
riesling1 Windows Server 2019 Standard / x64  OK  OK  OK 
Package 319/395HostnameOS / ArchINSTALLBUILDCHECK
RTCGA.CNV 1.17.0
Marcin Kosinski
Last Commit: 59cccc3
Last Changed Date: 2020-04-27 15:42:36 -0400
malbec1 Linux (Ubuntu 18.04.4 LTS) / x86_64  OK  OK  OK UNNEEDED, same version exists in internal repository
nebbiolo1 Linux (Ubuntu 20.04.1 LTS) / x86_64  OK  OK  OK 
riesling1 Windows Server 2019 Standard / x64  OK  OK  OK 
Package 320/395HostnameOS / ArchINSTALLBUILDCHECK
RTCGA.methylation 1.17.0
Marcin Kosinski
Last Commit: 4684ffb
Last Changed Date: 2020-04-27 15:42:01 -0400
malbec1 Linux (Ubuntu 18.04.4 LTS) / x86_64  OK  OK  OK UNNEEDED, same version exists in internal repository
nebbiolo1 Linux (Ubuntu 20.04.1 LTS) / x86_64  OK  OK  OK 
riesling1 Windows Server 2019 Standard / x64  OK  OK  OK 
Package 321/395HostnameOS / ArchINSTALLBUILDCHECK
RTCGA.miRNASeq 1.17.0
Marcin Kosinski
Last Commit: 44b8cee
Last Changed Date: 2020-04-27 15:42:11 -0400
malbec1 Linux (Ubuntu 18.04.4 LTS) / x86_64  OK  OK  OK UNNEEDED, same version exists in internal repository
nebbiolo1 Linux (Ubuntu 20.04.1 LTS) / x86_64  OK  OK  OK 
riesling1 Windows Server 2019 Standard / x64  OK  OK  OK 
Package 322/395HostnameOS / ArchINSTALLBUILDCHECK
RTCGA.mRNA 1.17.0
Marcin Kosinski
Last Commit: 279d808
Last Changed Date: 2020-04-27 15:42:17 -0400
malbec1 Linux (Ubuntu 18.04.4 LTS) / x86_64  OK  OK  OK UNNEEDED, same version exists in internal repository
nebbiolo1 Linux (Ubuntu 20.04.1 LTS) / x86_64  OK  OK  OK 
riesling1 Windows Server 2019 Standard / x64  OK  OK  OK 
Package 323/395HostnameOS / ArchINSTALLBUILDCHECK
RTCGA.mutations 20151101.19.0
Marcin Kosinski
Last Commit: e00d7a0
Last Changed Date: 2020-04-27 15:37:21 -0400
malbec1 Linux (Ubuntu 18.04.4 LTS) / x86_64  OK  OK  OK UNNEEDED, same version exists in internal repository
nebbiolo1 Linux (Ubuntu 20.04.1 LTS) / x86_64  OK  OK  OK 
riesling1 Windows Server 2019 Standard / x64  OK  OK  OK 
Package 324/395HostnameOS / ArchINSTALLBUILDCHECK
RTCGA.PANCAN12 1.17.0
Marcin Kosinski
Last Commit: b6bd72d
Last Changed Date: 2020-04-27 15:42:24 -0400
malbec1 Linux (Ubuntu 18.04.4 LTS) / x86_64  OK  OK  OK UNNEEDED, same version exists in internal repository
nebbiolo1 Linux (Ubuntu 20.04.1 LTS) / x86_64  OK  OK  OK 
riesling1 Windows Server 2019 Standard / x64  OK  OK  OK 
Package 325/395HostnameOS / ArchINSTALLBUILDCHECK
RTCGA.rnaseq 20151101.19.0
Marcin Kosinski
Last Commit: 3dd7568
Last Changed Date: 2020-04-27 15:37:42 -0400
malbec1 Linux (Ubuntu 18.04.4 LTS) / x86_64  OK  OK  OK UNNEEDED, same version exists in internal repository
nebbiolo1 Linux (Ubuntu 20.04.1 LTS) / x86_64  OK  OK  OK 
riesling1 Windows Server 2019 Standard / x64  OK  OK  OK 
Package 326/395HostnameOS / ArchINSTALLBUILDCHECK
RTCGA.RPPA 1.17.0
Marcin Kosinski
Last Commit: ac0b696
Last Changed Date: 2020-04-27 15:42:32 -0400
malbec1 Linux (Ubuntu 18.04.4 LTS) / x86_64  OK  OK  OK UNNEEDED, same version exists in internal repository
nebbiolo1 Linux (Ubuntu 20.04.1 LTS) / x86_64  OK  OK  OK 
riesling1 Windows Server 2019 Standard / x64  OK  OK  OK 
Package 327/395HostnameOS / ArchINSTALLBUILDCHECK
RUVnormalizeData 1.9.0
Laurent Jacob
Last Commit: 86da06e
Last Changed Date: 2020-04-27 15:29:39 -0400
malbec1 Linux (Ubuntu 18.04.4 LTS) / x86_64  OK  OK  OK UNNEEDED, same version exists in internal repository
nebbiolo1 Linux (Ubuntu 20.04.1 LTS) / x86_64  OK  OK  OK 
riesling1 Windows Server 2019 Standard / x64  OK  OK  OK 
Package 328/395HostnameOS / ArchINSTALLBUILDCHECK
sampleClassifierData 1.13.0
Khadija El Amrani
Last Commit: 393618e
Last Changed Date: 2020-04-27 16:20:30 -0400
malbec1 Linux (Ubuntu 18.04.4 LTS) / x86_64  OK  OK  OK UNNEEDED, same version exists in internal repository
nebbiolo1 Linux (Ubuntu 20.04.1 LTS) / x86_64  OK  OK  OK 
riesling1 Windows Server 2019 Standard / x64  OK  OK  OK 
Package 329/395HostnameOS / ArchINSTALLBUILDCHECK
SBGNview.data 1.3.0
Xiaoxi Dong
Last Commit: d25263f
Last Changed Date: 2020-04-27 16:44:01 -0400
malbec1 Linux (Ubuntu 18.04.4 LTS) / x86_64  OK  OK  OK UNNEEDED, same version exists in internal repository
nebbiolo1 Linux (Ubuntu 20.04.1 LTS) / x86_64  OK  OK  OK 
riesling1 Windows Server 2019 Standard / x64  OK  OK  OK 
Package 330/395HostnameOS / ArchINSTALLBUILDCHECK
SCATEData 0.99.5
Wenpin Hou
Last Commit: 57f3047
Last Changed Date: 2020-07-08 23:37:05 -0400
malbec1 Linux (Ubuntu 18.04.4 LTS) / x86_64  OK  ERROR  skipped 
nebbiolo1 Linux (Ubuntu 20.04.1 LTS) / x86_64  OK  ERROR  skipped 
riesling1 Windows Server 2019 Standard / x64  OK  ERROR  skipped 
Package 331/395HostnameOS / ArchINSTALLBUILDCHECK
SCLCBam 1.21.0
Oscar Krijgsman
Last Commit: cc25910
Last Changed Date: 2020-04-27 15:34:24 -0400
malbec1 Linux (Ubuntu 18.04.4 LTS) / x86_64  OK  OK  OK UNNEEDED, same version exists in internal repository
nebbiolo1 Linux (Ubuntu 20.04.1 LTS) / x86_64  OK  OK  OK 
riesling1 Windows Server 2019 Standard / x64  OK  OK  OK 
Package 332/395HostnameOS / ArchINSTALLBUILDCHECK
scRNAseq 2.3.13
Aaron Lun
Last Commit: e43e540
Last Changed Date: 2020-08-31 11:49:25 -0400
malbec1 Linux (Ubuntu 18.04.4 LTS) / x86_64  OK  ERROR  skipped 
nebbiolo1 Linux (Ubuntu 20.04.1 LTS) / x86_64  OK  ERROR  skipped 
riesling1 Windows Server 2019 Standard / x64  OK  ERROR  skipped 
Package 333/395HostnameOS / ArchINSTALLBUILDCHECK
scTHI.data 1.1.0
Michele Ceccarelli
Last Commit: 6acfc20
Last Changed Date: 2020-04-27 16:44:52 -0400
malbec1 Linux (Ubuntu 18.04.4 LTS) / x86_64  OK  OK  OK UNNEEDED, same version exists in internal repository
nebbiolo1 Linux (Ubuntu 20.04.1 LTS) / x86_64  OK  OK  OK 
riesling1 Windows Server 2019 Standard / x64  OK  OK  OK 
Package 334/395HostnameOS / ArchINSTALLBUILDCHECK
seq2pathway.data 1.21.0
Xinan Holly Yang
Last Commit: e1aee0a
Last Changed Date: 2020-04-27 15:32:30 -0400
malbec1 Linux (Ubuntu 18.04.4 LTS) / x86_64  OK  OK