Back to Build/check report for BioC 3.12 annotations

INSTALL report for rat2302frmavecs on malbec1

This page was generated on 2020-08-05 15:30:06 -0400 (Wed, 05 Aug 2020).

TO THE DEVELOPERS/MAINTAINERS OF THE rat2302frmavecs PACKAGE: Please make sure to use the following settings in order to reproduce any error or warning you see on this page.
Package 11/11HostnameOS / ArchINSTALLBUILDCHECK
rat2302frmavecs 0.99.11
Sylvain Gubian
Snapshot Date: 2020-08-05 08:00:01 -0400 (Wed, 05 Aug 2020)
URL: https://git.bioconductor.org/packages/rat2302frmavecs
Branch: master
Last Commit: 68b05d4
Last Changed Date: 2019-02-07 03:01:49 -0400 (Thu, 07 Feb 2019)
malbec1 Linux (Ubuntu 18.04.4 LTS) / x86_64 [ ERROR ] ERROR  skipped 

Summary

Package: rat2302frmavecs
Version: 0.99.11
Command: /home/biocbuild/bbs-3.12-bioc/R/bin/R CMD INSTALL rat2302frmavecs
StartedAt: 2020-08-05 09:00:07 -0400 (Wed, 05 Aug 2020)
EndedAt: 2020-08-05 09:00:17 -0400 (Wed, 05 Aug 2020)
EllapsedTime: 9.9 seconds
RetCode: 1
Status:  ERROR 

Command output

##############################################################################
##############################################################################
###
### Running command:
###
###   /home/biocbuild/bbs-3.12-bioc/R/bin/R CMD INSTALL rat2302frmavecs
###
##############################################################################
##############################################################################


* installing to library ‘/home/biocbuild/bbs-3.12-bioc/R/library’
* installing *source* package ‘rat2302frmavecs’ ...
** using staged installation
** data
** inst
** help
*** installing help indices
** building package indices
** installing vignettes
** testing if installed package can be loaded from temporary location
Error: package or namespace load failed for ‘rat2302frmavecs’:
 object ‘clone’ is not exported by 'namespace:ff'
Error: loading failed
Execution halted
ERROR: loading failed
* removing ‘/home/biocbuild/bbs-3.12-bioc/R/library/rat2302frmavecs’
* restoring previous ‘/home/biocbuild/bbs-3.12-bioc/R/library/rat2302frmavecs’