Back to Build/check report for BioC 3.12 annotations

BUILD report for rat2302frmavecs on malbec1

This page was generated on 2020-08-05 15:30:06 -0400 (Wed, 05 Aug 2020).

TO THE DEVELOPERS/MAINTAINERS OF THE rat2302frmavecs PACKAGE: Please make sure to use the following settings in order to reproduce any error or warning you see on this page.
Package 11/11HostnameOS / ArchINSTALLBUILDCHECK
rat2302frmavecs 0.99.11
Sylvain Gubian
Snapshot Date: 2020-08-05 08:00:01 -0400 (Wed, 05 Aug 2020)
URL: https://git.bioconductor.org/packages/rat2302frmavecs
Branch: master
Last Commit: 68b05d4
Last Changed Date: 2019-02-07 03:01:49 -0400 (Thu, 07 Feb 2019)
malbec1 Linux (Ubuntu 18.04.4 LTS) / x86_64  ERROR [ ERROR ] skipped 

Summary

Package: rat2302frmavecs
Version: 0.99.11
Command: /home/biocbuild/bbs-3.12-bioc/R/bin/R CMD build --keep-empty-dirs --no-resave-data rat2302frmavecs
StartedAt: 2020-08-05 09:01:00 -0400 (Wed, 05 Aug 2020)
EndedAt: 2020-08-05 09:01:10 -0400 (Wed, 05 Aug 2020)
EllapsedTime: 9.3 seconds
RetCode: 1
Status:  ERROR 
PackageFile: None
PackageFileSize: NA

Command output

##############################################################################
##############################################################################
###
### Running command:
###
###   /home/biocbuild/bbs-3.12-bioc/R/bin/R CMD build --keep-empty-dirs --no-resave-data rat2302frmavecs
###
##############################################################################
##############################################################################


* checking for file ‘rat2302frmavecs/DESCRIPTION’ ... OK
* preparing ‘rat2302frmavecs’:
* checking DESCRIPTION meta-information ... OK
* installing the package to build vignettes
      -----------------------------------
* installing *source* package ‘rat2302frmavecs’ ...
** using staged installation
** data
** inst
** help
*** installing help indices
** building package indices
** installing vignettes
** testing if installed package can be loaded from temporary location
Error: package or namespace load failed for ‘rat2302frmavecs’:
 object ‘clone’ is not exported by 'namespace:ff'
Error: loading failed
Execution halted
ERROR: loading failed
* removing ‘/tmp/Rtmp4PJPlP/Rinst3bad7d3ec7d2/rat2302frmavecs’
      -----------------------------------
ERROR: package installation failed