Back to Build/check report for BioC 3.12 annotations

INSTALL report for org.Mxanthus.db on malbec1

This page was generated on 2020-08-05 15:30:06 -0400 (Wed, 05 Aug 2020).

TO THE DEVELOPERS/MAINTAINERS OF THE org.Mxanthus.db PACKAGE: Please make sure to use the following settings in order to reproduce any error or warning you see on this page.
Package 9/11HostnameOS / ArchINSTALLBUILDCHECK
org.Mxanthus.db 1.0.27
Eduardo Illueca Fernández
Snapshot Date: 2020-08-05 08:00:01 -0400 (Wed, 05 Aug 2020)
URL: https://git.bioconductor.org/packages/org.Mxanthus.db
Branch: master
Last Commit: a17100f
Last Changed Date: 2020-01-20 09:44:36 -0400 (Mon, 20 Jan 2020)
malbec1 Linux (Ubuntu 18.04.4 LTS) / x86_64 [ OK ] OK  OK UNNEEDED, same version exists in internal repository

Summary

Package: org.Mxanthus.db
Version: 1.0.27
Command: /home/biocbuild/bbs-3.12-bioc/R/bin/R CMD INSTALL org.Mxanthus.db
StartedAt: 2020-08-05 09:00:20 -0400 (Wed, 05 Aug 2020)
EndedAt: 2020-08-05 09:00:32 -0400 (Wed, 05 Aug 2020)
EllapsedTime: 11.5 seconds
RetCode: 0
Status:  OK 

Command output

##############################################################################
##############################################################################
###
### Running command:
###
###   /home/biocbuild/bbs-3.12-bioc/R/bin/R CMD INSTALL org.Mxanthus.db
###
##############################################################################
##############################################################################


* installing to library ‘/home/biocbuild/bbs-3.12-bioc/R/library’
* installing *source* package ‘org.Mxanthus.db’ ...
** using staged installation
** R
** inst
** byte-compile and prepare package for lazy loading
** help
*** installing help indices
** building package indices
** installing vignettes
   ‘org.Mxanthus.db.Rmd’ using ‘UTF-8’ 
** testing if installed package can be loaded from temporary location
** testing if installed package can be loaded from final location
** testing if installed package keeps a record of temporary installation path
* DONE (org.Mxanthus.db)