Back to Build/check report for BioC 3.12 annotations

CHECK report for org.Mxanthus.db on malbec1

This page was generated on 2020-08-05 15:30:06 -0400 (Wed, 05 Aug 2020).

TO THE DEVELOPERS/MAINTAINERS OF THE org.Mxanthus.db PACKAGE: Please make sure to use the following settings in order to reproduce any error or warning you see on this page.
Package 9/11HostnameOS / ArchINSTALLBUILDCHECK
org.Mxanthus.db 1.0.27
Eduardo Illueca Fernández
Snapshot Date: 2020-08-05 08:00:01 -0400 (Wed, 05 Aug 2020)
URL: https://git.bioconductor.org/packages/org.Mxanthus.db
Branch: master
Last Commit: a17100f
Last Changed Date: 2020-01-20 09:44:36 -0400 (Mon, 20 Jan 2020)
malbec1 Linux (Ubuntu 18.04.4 LTS) / x86_64  OK  OK [ OK ]UNNEEDED, same version exists in internal repository

Summary

Package: org.Mxanthus.db
Version: 1.0.27
Command: /home/biocbuild/bbs-3.12-bioc/R/bin/R CMD check --install=check:org.Mxanthus.db.install-out.txt --library=/home/biocbuild/bbs-3.12-bioc/R/library --no-vignettes --timings org.Mxanthus.db_1.0.27.tar.gz
StartedAt: 2020-08-05 09:02:59 -0400 (Wed, 05 Aug 2020)
EndedAt: 2020-08-05 09:04:52 -0400 (Wed, 05 Aug 2020)
EllapsedTime: 112.5 seconds
RetCode: 0
Status:  OK 
CheckDir: org.Mxanthus.db.Rcheck
Warnings: 0

Command output

##############################################################################
##############################################################################
###
### Running command:
###
###   /home/biocbuild/bbs-3.12-bioc/R/bin/R CMD check --install=check:org.Mxanthus.db.install-out.txt --library=/home/biocbuild/bbs-3.12-bioc/R/library --no-vignettes --timings org.Mxanthus.db_1.0.27.tar.gz
###
##############################################################################
##############################################################################


* using log directory ‘/home/biocbuild/bbs-3.12-data-annotation/meat/org.Mxanthus.db.Rcheck’
* using R version 4.0.2 (2020-06-22)
* using platform: x86_64-pc-linux-gnu (64-bit)
* using session charset: UTF-8
* using option ‘--no-vignettes’
* checking for file ‘org.Mxanthus.db/DESCRIPTION’ ... OK
* this is package ‘org.Mxanthus.db’ version ‘1.0.27’
* package encoding: UTF-8
* checking package namespace information ... OK
* checking package dependencies ... OK
* checking if this is a source package ... OK
* checking if there is a namespace ... OK
* checking for hidden files and directories ... OK
* checking for portable file names ... OK
* checking for sufficient/correct file permissions ... OK
* checking whether package ‘org.Mxanthus.db’ can be installed ... OK
* checking installed package size ... OK
* checking package directory ... OK
* checking ‘build’ directory ... OK
* checking DESCRIPTION meta-information ... OK
* checking top-level files ... OK
* checking for left-over files ... OK
* checking index information ... OK
* checking package subdirectories ... OK
* checking R files for non-ASCII characters ... OK
* checking R files for syntax errors ... OK
* checking whether the package can be loaded ... OK
* checking whether the package can be loaded with stated dependencies ... OK
* checking whether the package can be unloaded cleanly ... OK
* checking whether the namespace can be loaded with stated dependencies ... OK
* checking whether the namespace can be unloaded cleanly ... OK
* checking dependencies in R code ... OK
* checking S3 generic/method consistency ... OK
* checking replacement functions ... OK
* checking foreign function calls ... OK
* checking R code for possible problems ... OK
* checking Rd files ... OK
* checking Rd metadata ... OK
* checking Rd cross-references ... OK
* checking for missing documentation entries ... OK
* checking for code/documentation mismatches ... OK
* checking Rd \usage sections ... OK
* checking Rd contents ... OK
* checking for unstated dependencies in examples ... OK
* checking installed files from ‘inst/doc’ ... OK
* checking files in ‘vignettes’ ... OK
* checking examples ... OK
* checking for unstated dependencies in vignettes ... OK
* checking package vignettes in ‘inst/doc’ ... OK
* checking running R code from vignettes ... SKIPPED
* checking re-building of vignette outputs ... SKIPPED
* checking PDF version of manual ... OK
* DONE

Status: OK


Installation output

org.Mxanthus.db.Rcheck/00install.out

##############################################################################
##############################################################################
###
### Running command:
###
###   /home/biocbuild/bbs-3.12-bioc/R/bin/R CMD INSTALL org.Mxanthus.db
###
##############################################################################
##############################################################################


* installing to library ‘/home/biocbuild/bbs-3.12-bioc/R/library’
* installing *source* package ‘org.Mxanthus.db’ ...
** using staged installation
** R
** inst
** byte-compile and prepare package for lazy loading
** help
*** installing help indices
** building package indices
** installing vignettes
   ‘org.Mxanthus.db.Rmd’ using ‘UTF-8’ 
** testing if installed package can be loaded from temporary location
** testing if installed package can be loaded from final location
** testing if installed package keeps a record of temporary installation path
* DONE (org.Mxanthus.db)

Tests output


Example timings

org.Mxanthus.db.Rcheck/org.Mxanthus.db-Ex.timings

nameusersystemelapsed
exampleGene000
loadOldData2.8160.1363.475
loadOrgMxanthusDb000
org.Mxanthus.db2.5280.1042.908
org.Mxanthus.dbBASE0.0080.0000.009
org.Mxanthus.dbORGANISM000
versions2.1600.0682.384