Back to Build/check report for BioC 3.12 annotations

BUILD report for org.Mxanthus.db on malbec1

This page was generated on 2020-08-05 15:30:06 -0400 (Wed, 05 Aug 2020).

TO THE DEVELOPERS/MAINTAINERS OF THE org.Mxanthus.db PACKAGE: Please make sure to use the following settings in order to reproduce any error or warning you see on this page.
Package 9/11HostnameOS / ArchINSTALLBUILDCHECK
org.Mxanthus.db 1.0.27
Eduardo Illueca Fernández
Snapshot Date: 2020-08-05 08:00:01 -0400 (Wed, 05 Aug 2020)
URL: https://git.bioconductor.org/packages/org.Mxanthus.db
Branch: master
Last Commit: a17100f
Last Changed Date: 2020-01-20 09:44:36 -0400 (Mon, 20 Jan 2020)
malbec1 Linux (Ubuntu 18.04.4 LTS) / x86_64  OK [ OK ] OK UNNEEDED, same version exists in internal repository

Summary

Package: org.Mxanthus.db
Version: 1.0.27
Command: /home/biocbuild/bbs-3.12-bioc/R/bin/R CMD build --keep-empty-dirs --no-resave-data org.Mxanthus.db
StartedAt: 2020-08-05 09:01:01 -0400 (Wed, 05 Aug 2020)
EndedAt: 2020-08-05 09:01:29 -0400 (Wed, 05 Aug 2020)
EllapsedTime: 29.0 seconds
RetCode: 0
Status:  OK 
PackageFile: org.Mxanthus.db_1.0.27.tar.gz
PackageFileSize: 393.9 KiB

Command output

##############################################################################
##############################################################################
###
### Running command:
###
###   /home/biocbuild/bbs-3.12-bioc/R/bin/R CMD build --keep-empty-dirs --no-resave-data org.Mxanthus.db
###
##############################################################################
##############################################################################


* checking for file ‘org.Mxanthus.db/DESCRIPTION’ ... OK
* preparing ‘org.Mxanthus.db’:
* checking DESCRIPTION meta-information ... OK
* installing the package to build vignettes
* creating vignettes ... OK
Warning: ‘inst/doc’ files
    ‘org.Mxanthus.db.Rmd’, ‘org.Mxanthus.db.html’
  ignored as vignettes have been rebuilt.
  Run R CMD build with --no-build-vignettes to prevent rebuilding.
* checking for LF line-endings in source and make files and shell scripts
* checking for empty or unneeded directories
* building ‘org.Mxanthus.db_1.0.27.tar.gz’