Back to Build/check report for BioC 3.12 annotations

INSTALL report for metaboliteIDmapping on malbec1

This page was generated on 2020-08-05 15:30:06 -0400 (Wed, 05 Aug 2020).

TO THE DEVELOPERS/MAINTAINERS OF THE metaboliteIDmapping PACKAGE: Please make sure to use the following settings in order to reproduce any error or warning you see on this page.
Package 8/11HostnameOS / ArchINSTALLBUILDCHECK
metaboliteIDmapping 0.99.8
Sebastian Canzler
Snapshot Date: 2020-08-05 08:00:01 -0400 (Wed, 05 Aug 2020)
URL: https://git.bioconductor.org/packages/metaboliteIDmapping
Branch: master
Last Commit: 8cd3cc5
Last Changed Date: 2020-07-10 03:55:44 -0400 (Fri, 10 Jul 2020)
malbec1 Linux (Ubuntu 18.04.4 LTS) / x86_64 [ OK ] OK  OK YES, new version is higher than in internal repository

Summary

Package: metaboliteIDmapping
Version: 0.99.8
Command: /home/biocbuild/bbs-3.12-bioc/R/bin/R CMD INSTALL metaboliteIDmapping
StartedAt: 2020-08-05 09:00:07 -0400 (Wed, 05 Aug 2020)
EndedAt: 2020-08-05 09:00:57 -0400 (Wed, 05 Aug 2020)
EllapsedTime: 50.2 seconds
RetCode: 0
Status:  OK 

Command output

##############################################################################
##############################################################################
###
### Running command:
###
###   /home/biocbuild/bbs-3.12-bioc/R/bin/R CMD INSTALL metaboliteIDmapping
###
##############################################################################
##############################################################################


* installing to library ‘/home/biocbuild/bbs-3.12-bioc/R/library’
* installing *source* package ‘metaboliteIDmapping’ ...
** using staged installation
** R
** inst
** byte-compile and prepare package for lazy loading
** help
*** installing help indices
** building package indices
** installing vignettes
** testing if installed package can be loaded from temporary location
snapshotDate(): 2020-07-20
loading from cache
** testing if installed package can be loaded from final location
snapshotDate(): 2020-07-20
loading from cache
** testing if installed package keeps a record of temporary installation path
* DONE (metaboliteIDmapping)