Back to Build/check report for BioC 3.12 annotations

INSTALL report for PANTHER.db on malbec1

This page was generated on 2020-08-05 15:30:06 -0400 (Wed, 05 Aug 2020).

TO THE DEVELOPERS/MAINTAINERS OF THE PANTHER.db PACKAGE: Please make sure to use the following settings in order to reproduce any error or warning you see on this page.
Package 10/11HostnameOS / ArchINSTALLBUILDCHECK
PANTHER.db 1.0.10
Julius Muller
Snapshot Date: 2020-08-05 08:00:01 -0400 (Wed, 05 Aug 2020)
URL: https://git.bioconductor.org/packages/PANTHER.db
Branch: master
Last Commit: d4fa888
Last Changed Date: 2019-11-14 04:31:27 -0400 (Thu, 14 Nov 2019)
malbec1 Linux (Ubuntu 18.04.4 LTS) / x86_64 [ OK ] OK  OK UNNEEDED, same version exists in internal repository

Summary

Package: PANTHER.db
Version: 1.0.10
Command: /home/biocbuild/bbs-3.12-bioc/R/bin/R CMD INSTALL PANTHER.db
StartedAt: 2020-08-05 09:00:07 -0400 (Wed, 05 Aug 2020)
EndedAt: 2020-08-05 09:00:20 -0400 (Wed, 05 Aug 2020)
EllapsedTime: 13.2 seconds
RetCode: 0
Status:  OK 

Command output

##############################################################################
##############################################################################
###
### Running command:
###
###   /home/biocbuild/bbs-3.12-bioc/R/bin/R CMD INSTALL PANTHER.db
###
##############################################################################
##############################################################################


* installing to library ‘/home/biocbuild/bbs-3.12-bioc/R/library’
* installing *source* package ‘PANTHER.db’ ...
** using staged installation
** R
** inst
** byte-compile and prepare package for lazy loading
** help
*** installing help indices
** building package indices
** installing vignettes
** testing if installed package can be loaded from temporary location
** testing if installed package can be loaded from final location
** testing if installed package keeps a record of temporary installation path
* DONE (PANTHER.db)