Back to Build/check report for BioC 3.12 annotations

INSTALL report for JASPAR2020 on malbec1

This page was generated on 2020-08-05 15:30:06 -0400 (Wed, 05 Aug 2020).

TO THE DEVELOPERS/MAINTAINERS OF THE JASPAR2020 PACKAGE: Please make sure to use the following settings in order to reproduce any error or warning you see on this page.
Package 7/11HostnameOS / ArchINSTALLBUILDCHECK
JASPAR2020 0.99.8
Damir Baranasic
Snapshot Date: 2020-08-05 08:00:01 -0400 (Wed, 05 Aug 2020)
URL: https://git.bioconductor.org/packages/JASPAR2020
Branch: master
Last Commit: 2299aa5
Last Changed Date: 2019-10-20 15:15:44 -0400 (Sun, 20 Oct 2019)
malbec1 Linux (Ubuntu 18.04.4 LTS) / x86_64 [ OK ] OK  OK NO, built version is LOWER than in internal repository!!!

Summary

Package: JASPAR2020
Version: 0.99.8
Command: /home/biocbuild/bbs-3.12-bioc/R/bin/R CMD INSTALL JASPAR2020
StartedAt: 2020-08-05 09:00:07 -0400 (Wed, 05 Aug 2020)
EndedAt: 2020-08-05 09:00:09 -0400 (Wed, 05 Aug 2020)
EllapsedTime: 1.6 seconds
RetCode: 0
Status:  OK 

Command output

##############################################################################
##############################################################################
###
### Running command:
###
###   /home/biocbuild/bbs-3.12-bioc/R/bin/R CMD INSTALL JASPAR2020
###
##############################################################################
##############################################################################


* installing to library ‘/home/biocbuild/bbs-3.12-bioc/R/library’
* installing *source* package ‘JASPAR2020’ ...
** using staged installation
** R
** inst
** byte-compile and prepare package for lazy loading
** help
*** installing help indices
** building package indices
** installing vignettes
** testing if installed package can be loaded from temporary location
** testing if installed package can be loaded from final location
** testing if installed package keeps a record of temporary installation path
* DONE (JASPAR2020)