Back to Build/check report for BioC 3.12 annotations

CHECK report for JASPAR2020 on malbec1

This page was generated on 2020-08-05 15:30:06 -0400 (Wed, 05 Aug 2020).

TO THE DEVELOPERS/MAINTAINERS OF THE JASPAR2020 PACKAGE: Please make sure to use the following settings in order to reproduce any error or warning you see on this page.
Package 7/11HostnameOS / ArchINSTALLBUILDCHECK
JASPAR2020 0.99.8
Damir Baranasic
Snapshot Date: 2020-08-05 08:00:01 -0400 (Wed, 05 Aug 2020)
URL: https://git.bioconductor.org/packages/JASPAR2020
Branch: master
Last Commit: 2299aa5
Last Changed Date: 2019-10-20 15:15:44 -0400 (Sun, 20 Oct 2019)
malbec1 Linux (Ubuntu 18.04.4 LTS) / x86_64  OK  OK [ OK ]NO, built version is LOWER than in internal repository!!!

Summary

Package: JASPAR2020
Version: 0.99.8
Command: /home/biocbuild/bbs-3.12-bioc/R/bin/R CMD check --install=check:JASPAR2020.install-out.txt --library=/home/biocbuild/bbs-3.12-bioc/R/library --no-vignettes --timings JASPAR2020_0.99.8.tar.gz
StartedAt: 2020-08-05 09:02:59 -0400 (Wed, 05 Aug 2020)
EndedAt: 2020-08-05 09:03:25 -0400 (Wed, 05 Aug 2020)
EllapsedTime: 25.5 seconds
RetCode: 0
Status:  OK 
CheckDir: JASPAR2020.Rcheck
Warnings: 0

Command output

##############################################################################
##############################################################################
###
### Running command:
###
###   /home/biocbuild/bbs-3.12-bioc/R/bin/R CMD check --install=check:JASPAR2020.install-out.txt --library=/home/biocbuild/bbs-3.12-bioc/R/library --no-vignettes --timings JASPAR2020_0.99.8.tar.gz
###
##############################################################################
##############################################################################


* using log directory ‘/home/biocbuild/bbs-3.12-data-annotation/meat/JASPAR2020.Rcheck’
* using R version 4.0.2 (2020-06-22)
* using platform: x86_64-pc-linux-gnu (64-bit)
* using session charset: UTF-8
* using option ‘--no-vignettes’
* checking for file ‘JASPAR2020/DESCRIPTION’ ... OK
* checking extension type ... Package
* this is package ‘JASPAR2020’ version ‘0.99.8’
* checking package namespace information ... OK
* checking package dependencies ... OK
* checking if this is a source package ... OK
* checking if there is a namespace ... OK
* checking for hidden files and directories ... OK
* checking for portable file names ... OK
* checking for sufficient/correct file permissions ... OK
* checking whether package ‘JASPAR2020’ can be installed ... OK
* checking installed package size ... NOTE
  installed size is 23.5Mb
  sub-directories of 1Mb or more:
    extdata  23.4Mb
* checking package directory ... OK
* checking ‘build’ directory ... OK
* checking DESCRIPTION meta-information ... OK
* checking top-level files ... OK
* checking for left-over files ... OK
* checking index information ... OK
* checking package subdirectories ... OK
* checking R files for non-ASCII characters ... OK
* checking R files for syntax errors ... OK
* checking whether the package can be loaded ... OK
* checking whether the package can be loaded with stated dependencies ... OK
* checking whether the package can be unloaded cleanly ... OK
* checking whether the namespace can be loaded with stated dependencies ... OK
* checking whether the namespace can be unloaded cleanly ... OK
* checking dependencies in R code ... OK
* checking S3 generic/method consistency ... OK
* checking replacement functions ... OK
* checking foreign function calls ... OK
* checking R code for possible problems ... OK
* checking Rd files ... OK
* checking Rd metadata ... OK
* checking Rd cross-references ... OK
* checking for missing documentation entries ... OK
* checking for code/documentation mismatches ... OK
* checking Rd \usage sections ... OK
* checking Rd contents ... OK
* checking for unstated dependencies in examples ... OK
* checking files in ‘vignettes’ ... OK
* checking examples ... OK
Examples with CPU (user + system) or elapsed time > 5s
                   user system elapsed
JASPAR2020-class 12.108  0.356  12.482
* checking for unstated dependencies in vignettes ... OK
* checking package vignettes in ‘inst/doc’ ... OK
* checking running R code from vignettes ... SKIPPED
* checking re-building of vignette outputs ... SKIPPED
* checking PDF version of manual ... OK
* DONE

Status: 1 NOTE
See
  ‘/home/biocbuild/bbs-3.12-data-annotation/meat/JASPAR2020.Rcheck/00check.log’
for details.



Installation output

JASPAR2020.Rcheck/00install.out

##############################################################################
##############################################################################
###
### Running command:
###
###   /home/biocbuild/bbs-3.12-bioc/R/bin/R CMD INSTALL JASPAR2020
###
##############################################################################
##############################################################################


* installing to library ‘/home/biocbuild/bbs-3.12-bioc/R/library’
* installing *source* package ‘JASPAR2020’ ...
** using staged installation
** R
** inst
** byte-compile and prepare package for lazy loading
** help
*** installing help indices
** building package indices
** installing vignettes
** testing if installed package can be loaded from temporary location
** testing if installed package can be loaded from final location
** testing if installed package keeps a record of temporary installation path
* DONE (JASPAR2020)

Tests output


Example timings

JASPAR2020.Rcheck/JASPAR2020-Ex.timings

nameusersystemelapsed
JASPAR2020-class12.108 0.35612.482