Back to Build/check report for BioC 3.12 annotations

BUILD report for GenomicState on malbec1

This page was generated on 2020-08-05 15:30:06 -0400 (Wed, 05 Aug 2020).

TO THE DEVELOPERS/MAINTAINERS OF THE GenomicState PACKAGE: Please make sure to use the following settings in order to reproduce any error or warning you see on this page.
Package 6/11HostnameOS / ArchINSTALLBUILDCHECK
GenomicState 0.99.12
Leonardo Collado-Torres
Snapshot Date: 2020-08-05 08:00:01 -0400 (Wed, 05 Aug 2020)
URL: https://git.bioconductor.org/packages/GenomicState
Branch: master
Last Commit: e5d07a1
Last Changed Date: 2020-05-27 00:59:22 -0400 (Wed, 27 May 2020)
malbec1 Linux (Ubuntu 18.04.4 LTS) / x86_64  OK [ OK ] OK YES, new version is higher than in internal repository

Summary

Package: GenomicState
Version: 0.99.12
Command: /home/biocbuild/bbs-3.12-bioc/R/bin/R CMD build --keep-empty-dirs --no-resave-data GenomicState
StartedAt: 2020-08-05 09:01:01 -0400 (Wed, 05 Aug 2020)
EndedAt: 2020-08-05 09:02:21 -0400 (Wed, 05 Aug 2020)
EllapsedTime: 80.6 seconds
RetCode: 0
Status:  OK 
PackageFile: GenomicState_0.99.12.tar.gz
PackageFileSize: 892.9 KiB

Command output

##############################################################################
##############################################################################
###
### Running command:
###
###   /home/biocbuild/bbs-3.12-bioc/R/bin/R CMD build --keep-empty-dirs --no-resave-data GenomicState
###
##############################################################################
##############################################################################


* checking for file ‘GenomicState/DESCRIPTION’ ... OK
* preparing ‘GenomicState’:
* checking DESCRIPTION meta-information ... OK
* installing the package to build vignettes
* creating vignettes ... OK
* checking for LF line-endings in source and make files and shell scripts
* checking for empty or unneeded directories
* building ‘GenomicState_0.99.12.tar.gz’