Back to Build/check report for BioC 3.12 annotations

INSTALL report for EuPathDB on malbec1

This page was generated on 2020-08-05 15:30:06 -0400 (Wed, 05 Aug 2020).

TO THE DEVELOPERS/MAINTAINERS OF THE EuPathDB PACKAGE: Please make sure to use the following settings in order to reproduce any error or warning you see on this page.
Package 5/11HostnameOS / ArchINSTALLBUILDCHECK
EuPathDB 1.0.1
Keith Hughitt
Snapshot Date: 2020-08-05 08:00:01 -0400 (Wed, 05 Aug 2020)
URL: https://git.bioconductor.org/packages/EuPathDB
Branch: master
Last Commit: 94b4c46
Last Changed Date: 2018-11-13 11:26:46 -0400 (Tue, 13 Nov 2018)
malbec1 Linux (Ubuntu 18.04.4 LTS) / x86_64 [ OK ] ERROR  skipped 

Summary

Package: EuPathDB
Version: 1.0.1
Command: /home/biocbuild/bbs-3.12-bioc/R/bin/R CMD INSTALL EuPathDB
StartedAt: 2020-08-05 09:00:07 -0400 (Wed, 05 Aug 2020)
EndedAt: 2020-08-05 09:00:43 -0400 (Wed, 05 Aug 2020)
EllapsedTime: 35.5 seconds
RetCode: 0
Status:  OK 

Command output

##############################################################################
##############################################################################
###
### Running command:
###
###   /home/biocbuild/bbs-3.12-bioc/R/bin/R CMD INSTALL EuPathDB
###
##############################################################################
##############################################################################


* installing to library ‘/home/biocbuild/bbs-3.12-bioc/R/library’
* installing *source* package ‘EuPathDB’ ...
** using staged installation
** R
** inst
** byte-compile and prepare package for lazy loading
** help
*** installing help indices
** building package indices
** installing vignettes
** testing if installed package can be loaded from temporary location
** testing if installed package can be loaded from final location
** testing if installed package keeps a record of temporary installation path
* DONE (EuPathDB)