Back to Build/check report for BioC 3.12 annotations

INSTALL report for EpiTxDb.Sc.sacCer3 on malbec1

This page was generated on 2020-08-05 15:30:06 -0400 (Wed, 05 Aug 2020).

TO THE DEVELOPERS/MAINTAINERS OF THE EpiTxDb.Sc.sacCer3 PACKAGE: Please make sure to use the following settings in order to reproduce any error or warning you see on this page.
Package 4/11HostnameOS / ArchINSTALLBUILDCHECK
EpiTxDb.Sc.sacCer3 0.99.3
Felix G.M. Ernst
Snapshot Date: 2020-08-05 08:00:01 -0400 (Wed, 05 Aug 2020)
URL: https://git.bioconductor.org/packages/EpiTxDb.Sc.sacCer3
Branch: master
Last Commit: b8c61c9
Last Changed Date: 2020-03-07 10:41:37 -0400 (Sat, 07 Mar 2020)
malbec1 Linux (Ubuntu 18.04.4 LTS) / x86_64 [ OK ] OK  OK UNNEEDED, same version exists in internal repository

Summary

Package: EpiTxDb.Sc.sacCer3
Version: 0.99.3
Command: /home/biocbuild/bbs-3.12-bioc/R/bin/R CMD INSTALL EpiTxDb.Sc.sacCer3
StartedAt: 2020-08-05 09:00:09 -0400 (Wed, 05 Aug 2020)
EndedAt: 2020-08-05 09:00:42 -0400 (Wed, 05 Aug 2020)
EllapsedTime: 33.4 seconds
RetCode: 0
Status:  OK 

Command output

##############################################################################
##############################################################################
###
### Running command:
###
###   /home/biocbuild/bbs-3.12-bioc/R/bin/R CMD INSTALL EpiTxDb.Sc.sacCer3
###
##############################################################################
##############################################################################


* installing to library ‘/home/biocbuild/bbs-3.12-bioc/R/library’
* installing *source* package ‘EpiTxDb.Sc.sacCer3’ ...
** using staged installation
** R
** inst
** byte-compile and prepare package for lazy loading
** help
*** installing help indices
** building package indices
** installing vignettes
** testing if installed package can be loaded from temporary location
** testing if installed package can be loaded from final location
** testing if installed package keeps a record of temporary installation path
* DONE (EpiTxDb.Sc.sacCer3)