Back to Build/check report for BioC 3.12 annotations

BUILD report for EpiTxDb.Sc.sacCer3 on malbec1

This page was generated on 2020-08-05 15:30:06 -0400 (Wed, 05 Aug 2020).

TO THE DEVELOPERS/MAINTAINERS OF THE EpiTxDb.Sc.sacCer3 PACKAGE: Please make sure to use the following settings in order to reproduce any error or warning you see on this page.
Package 4/11HostnameOS / ArchINSTALLBUILDCHECK
EpiTxDb.Sc.sacCer3 0.99.3
Felix G.M. Ernst
Snapshot Date: 2020-08-05 08:00:01 -0400 (Wed, 05 Aug 2020)
URL: https://git.bioconductor.org/packages/EpiTxDb.Sc.sacCer3
Branch: master
Last Commit: b8c61c9
Last Changed Date: 2020-03-07 10:41:37 -0400 (Sat, 07 Mar 2020)
malbec1 Linux (Ubuntu 18.04.4 LTS) / x86_64  OK [ OK ] OK UNNEEDED, same version exists in internal repository

Summary

Package: EpiTxDb.Sc.sacCer3
Version: 0.99.3
Command: /home/biocbuild/bbs-3.12-bioc/R/bin/R CMD build --keep-empty-dirs --no-resave-data EpiTxDb.Sc.sacCer3
StartedAt: 2020-08-05 09:01:24 -0400 (Wed, 05 Aug 2020)
EndedAt: 2020-08-05 09:02:12 -0400 (Wed, 05 Aug 2020)
EllapsedTime: 48.0 seconds
RetCode: 0
Status:  OK 
PackageFile: EpiTxDb.Sc.sacCer3_0.99.3.tar.gz
PackageFileSize: 289 KiB

Command output

##############################################################################
##############################################################################
###
### Running command:
###
###   /home/biocbuild/bbs-3.12-bioc/R/bin/R CMD build --keep-empty-dirs --no-resave-data EpiTxDb.Sc.sacCer3
###
##############################################################################
##############################################################################


* checking for file ‘EpiTxDb.Sc.sacCer3/DESCRIPTION’ ... OK
* preparing ‘EpiTxDb.Sc.sacCer3’:
* checking DESCRIPTION meta-information ... OK
* installing the package to build vignettes
* creating vignettes ... OK
* checking for LF line-endings in source and make files and shell scripts
* checking for empty or unneeded directories
* building ‘EpiTxDb.Sc.sacCer3_0.99.3.tar.gz’