Back to Build/check report for BioC 3.12 annotations

BUILD report for EpiTxDb.Mm.mm10 on malbec1

This page was generated on 2020-08-05 15:30:06 -0400 (Wed, 05 Aug 2020).

TO THE DEVELOPERS/MAINTAINERS OF THE EpiTxDb.Mm.mm10 PACKAGE: Please make sure to use the following settings in order to reproduce any error or warning you see on this page.
Package 3/11HostnameOS / ArchINSTALLBUILDCHECK
EpiTxDb.Mm.mm10 0.99.4
Felix G.M. Ernst
Snapshot Date: 2020-08-05 08:00:01 -0400 (Wed, 05 Aug 2020)
URL: https://git.bioconductor.org/packages/EpiTxDb.Mm.mm10
Branch: master
Last Commit: 681e9ec
Last Changed Date: 2020-03-07 08:08:03 -0400 (Sat, 07 Mar 2020)
malbec1 Linux (Ubuntu 18.04.4 LTS) / x86_64  OK [ OK ] OK UNNEEDED, same version exists in internal repository

Summary

Package: EpiTxDb.Mm.mm10
Version: 0.99.4
Command: /home/biocbuild/bbs-3.12-bioc/R/bin/R CMD build --keep-empty-dirs --no-resave-data EpiTxDb.Mm.mm10
StartedAt: 2020-08-05 09:01:30 -0400 (Wed, 05 Aug 2020)
EndedAt: 2020-08-05 09:02:17 -0400 (Wed, 05 Aug 2020)
EllapsedTime: 47.0 seconds
RetCode: 0
Status:  OK 
PackageFile: EpiTxDb.Mm.mm10_0.99.4.tar.gz
PackageFileSize: 290.2 KiB

Command output

##############################################################################
##############################################################################
###
### Running command:
###
###   /home/biocbuild/bbs-3.12-bioc/R/bin/R CMD build --keep-empty-dirs --no-resave-data EpiTxDb.Mm.mm10
###
##############################################################################
##############################################################################


* checking for file ‘EpiTxDb.Mm.mm10/DESCRIPTION’ ... OK
* preparing ‘EpiTxDb.Mm.mm10’:
* checking DESCRIPTION meta-information ... OK
* installing the package to build vignettes
* creating vignettes ... OK
* checking for LF line-endings in source and make files and shell scripts
* checking for empty or unneeded directories
* building ‘EpiTxDb.Mm.mm10_0.99.4.tar.gz’