Back to Build/check report for BioC 3.12 annotations

BUILD report for ENCODExplorerData on malbec1

This page was generated on 2020-08-05 15:30:06 -0400 (Wed, 05 Aug 2020).

TO THE DEVELOPERS/MAINTAINERS OF THE ENCODExplorerData PACKAGE: Please make sure to use the following settings in order to reproduce any error or warning you see on this page.
Package 1/11HostnameOS / ArchINSTALLBUILDCHECK
ENCODExplorerData 0.99.5
Eric Fournier
Snapshot Date: 2020-08-05 08:00:01 -0400 (Wed, 05 Aug 2020)
URL: https://git.bioconductor.org/packages/ENCODExplorerData
Branch: master
Last Commit: c69d7b9
Last Changed Date: 2019-12-04 22:43:28 -0400 (Wed, 04 Dec 2019)
malbec1 Linux (Ubuntu 18.04.4 LTS) / x86_64  OK [ OK ] OK UNNEEDED, same version exists in internal repository

Summary

Package: ENCODExplorerData
Version: 0.99.5
Command: /home/biocbuild/bbs-3.12-bioc/R/bin/R CMD build --keep-empty-dirs --no-resave-data ENCODExplorerData
StartedAt: 2020-08-05 09:01:01 -0400 (Wed, 05 Aug 2020)
EndedAt: 2020-08-05 09:01:05 -0400 (Wed, 05 Aug 2020)
EllapsedTime: 4.5 seconds
RetCode: 0
Status:  OK 
PackageFile: ENCODExplorerData_0.99.5.tar.gz
PackageFileSize: 231 KiB

Command output

##############################################################################
##############################################################################
###
### Running command:
###
###   /home/biocbuild/bbs-3.12-bioc/R/bin/R CMD build --keep-empty-dirs --no-resave-data ENCODExplorerData
###
##############################################################################
##############################################################################


* checking for file ‘ENCODExplorerData/DESCRIPTION’ ... OK
* preparing ‘ENCODExplorerData’:
* checking DESCRIPTION meta-information ... OK
* installing the package to build vignettes
* creating vignettes ... OK
* checking for LF line-endings in source and make files and shell scripts
* checking for empty or unneeded directories
* building ‘ENCODExplorerData_0.99.5.tar.gz’