Build/check report for BioC 3.12 annotations

This page was generated on 2020-07-08 16:30:07 -0400 (Wed, 08 Jul 2020).

Approx. Package Snapshot Date (git pull): 2020-07-08 09:00:02 -0400 (Wed, 08 Jul 2020)

HostnameOSArch (*)Platform label (**)R versionInstalled pkgs
malbec1Linux (Ubuntu 18.04.4 LTS)x86_64x86_64-linux-gnu4.0.2 (2020-06-22) -- "Taking Off Again" 3816
Click on any hostname to see more info about the system (e.g. compilers)      (*) as reported by 'uname -p', except on Windows and Mac OS X      (**) as reported by 'gcc -v'

Package status is indicated by one of the following glyphs
 TIMEOUT  INSTALL, BUILD, CHECK or BUILD BIN of package took more than 40 minutes Use the check boxes to show only packages with the selected status types.
 ERROR  Bad DESCRIPTION file or INSTALL, BUILD or BUILD BIN of package failed, or CHECK produced errors
 WARNINGS  CHECK of package produced warnings
 OK  INSTALL, BUILD, CHECK or BUILD BIN of package was OK
 skipped  CHECK or BUILD BIN of package was skipped because the BUILD step failed
 NA  BUILD, CHECK or BUILD BIN result is not available because of an anomaly in the Build System
Click on any glyph in the report below to access the detailed results.
Package propagation status is indicated by one of the following LEDs
YES YES: Package was propagated because it didn't previously exist or version was bumped
NO NO: Package was not propagated because of a problem (impossible dependencies, or version lower than what is already propagated)
UNNEEDED UNNEEDED: Package was not propagated because it is already in the repository with this version. A version bump is required in order to propagate it

A crossed-out package name indicates the package is deprecated


SUMMARYOS / ArchINSTALLBUILDCHECK
malbec1 Linux (Ubuntu 18.04.4 LTS) / x86_64 
0011
0110
0109
PackageMaintainerINSTALLBUILDCHECK
1/11ENCODExplorerData 0.99.5Eric Fournier OK  OK  OK UNNEEDED, same version exists in internal repository
2/11EpiTxDb.Hs.hg38 0.99.3Felix G.M. Ernst OK  OK  OK UNNEEDED, same version exists in internal repository
3/11EpiTxDb.Mm.mm10 0.99.4Felix G.M. Ernst OK  OK  OK UNNEEDED, same version exists in internal repository
4/11EpiTxDb.Sc.sacCer3 0.99.3Felix G.M. Ernst OK  OK  OK UNNEEDED, same version exists in internal repository
5/11EuPathDB 1.0.1Keith Hughitt OK  ERROR  skipped 
6/11GenomicState 0.99.12Leonardo Collado-Torres OK  OK  ERROR 
7/11JASPAR2020 0.99.8Damir Baranasic OK  OK  OK NO, built version is LOWER than in internal repository!!!
8/11metaboliteIDmapping 0.99.7Sebastian Canzler OK  OK  OK UNNEEDED, same version exists in internal repository
9/11org.Mxanthus.db 1.0.27Eduardo Illueca Fern├índez OK  OK  OK UNNEEDED, same version exists in internal repository
10/11PANTHER.db 1.0.10Julius Muller OK  OK  OK UNNEEDED, same version exists in internal repository
11/11rat2302frmavecs 0.99.11Sylvain Gubian OK  OK  OK UNNEEDED, same version exists in internal repository