Books build report for BioC 3.12

This page was generated on 2020-09-22 16:45:06 -0400 (Tue, 22 Sep 2020).

Approx. Package Snapshot Date (git pull): 2020-09-22 08:45:02 -0400 (Tue, 22 Sep 2020)

HostnameOSArch (*)Platform label (**)R versionInstalled pkgs
malbec1Linux (Ubuntu 18.04.4 LTS)x86_64x86_64-linux-gnu4.0.2 (2020-06-22) -- "Taking Off Again" 3904
nebbiolo1Linux (Ubuntu 20.04.1 LTS)x86_64x86_64-linux-gnu4.0.2 (2020-06-22) -- "Taking Off Again" 3894
riesling1Windows Server 2019 Standardx64mingw32 / x86_64-w64-mingw324.0.2 (2020-06-22) -- "Taking Off Again" 3854
Click on any hostname to see more info about the system (e.g. compilers)      (*) as reported by 'uname -p', except on Windows and Mac OS X      (**) as reported by 'gcc -v'

Package status is indicated by one of the following glyphs
 TIMEOUT  INSTALL or BUILD of package took more than 40 or 300 minutes, respectively Use the check boxes to show only packages with the selected status types.
 ERROR  Bad DESCRIPTION file or INSTALL or BUILD of package failed
 OK  INSTALL or BUILD of package was OK
 skipped  CHECK or BUILD BIN of package was skipped because the BUILD step failed
 NA  BUILD result is not available because of an anomaly in the Build System
Click on any glyph in the report below to access the detailed results.
Package propagation status is indicated by one of the following LEDs
YES YES: Package was propagated because it didn't previously exist or version was bumped
NO NO: Package was not propagated because of a problem (impossible dependencies, or version lower than what is already propagated)
UNNEEDED UNNEEDED: Package was not propagated because it is already in the repository with this version. A version bump is required in order to propagate it

A crossed-out package name indicates the package is deprecated


SUMMARYOS / ArchINSTALLBUILD
malbec1 Linux (Ubuntu 18.04.4 LTS) / x86_64 
001
001
nebbiolo1 Linux (Ubuntu 20.04.1 LTS) / x86_64 
001
001
riesling1 Windows Server 2019 Standard / x64 
001
010
Package 1/1HostnameOS / ArchINSTALLBUILD
OSCA 0.99.10
Aaron Lun
Last Commit: 55152ef
Last Changed Date: 2020-09-21 04:22:27 -0400
malbec1 Linux (Ubuntu 18.04.4 LTS) / x86_64  OK  OK YES, new version is higher than in internal repository
nebbiolo1 Linux (Ubuntu 20.04.1 LTS) / x86_64  OK  OK 
riesling1 Windows Server 2019 Standard / x64  OK  ERROR