Long Tests report for BioC 3.12

See here for how to subscribe to these builds.

This page was generated on 2020-09-26 17:30:04 -0400 (Sat, 26 Sep 2020).

Approx. Package Snapshot Date (git pull): 2020-09-26 08:45:03 -0400 (Sat, 26 Sep 2020)

HostnameOSArch (*)Platform label (**)R versionInstalled pkgs
malbec1Linux (Ubuntu 18.04.4 LTS)x86_64x86_64-linux-gnu4.0.2 (2020-06-22) -- "Taking Off Again" 3913
nebbiolo1Linux (Ubuntu 20.04.1 LTS)x86_64x86_64-linux-gnu4.0.2 (2020-06-22) -- "Taking Off Again" 3903
tokay1Windows Server 2012 R2 Standardx64mingw32 / x86_64-w64-mingw324.0.2 (2020-06-22) -- "Taking Off Again" 3687
riesling1Windows Server 2019 Standardx64mingw32 / x86_64-w64-mingw324.0.2 (2020-06-22) -- "Taking Off Again" 3864
merida1macOS 10.14.6 Mojavex86_64x86_64-apple-darwin18.7.04.0.2 (2020-06-22) -- "Taking Off Again" 3709
Click on any hostname to see more info about the system (e.g. compilers)      (*) as reported by 'uname -p', except on Windows and Mac OS X      (**) as reported by 'gcc -v'

Package status is indicated by one of the following glyphs
 TIMEOUT  CHECK of package took more than 360 minutes Use the check boxes to show only packages with the selected status types.
 ERROR  Bad DESCRIPTION file or CHECK of package produced errors
 WARNINGS  CHECK of package produced warnings
 OK  CHECK of package was OK
 NA  CHECK result is not available because of an anomaly in the Build System
Click on any glyph in the report below to access the detailed results.

SUMMARYOS / ArchCHECK
malbec1 Linux (Ubuntu 18.04.4 LTS) / x86_64 
0026
nebbiolo1 Linux (Ubuntu 20.04.1 LTS) / x86_64 
0035
tokay1 Windows Server 2012 R2 Standard / x64 
0233
riesling1 Windows Server 2019 Standard / x64 
0233
merida1 macOS 10.14.6 Mojave / x86_64 
0025
Package 1/8HostnameOS / ArchCHECK
APAlyzer 1.3.3
Ruijia Wang
Last Commit: db11964
Last Changed Date: 2020-07-20 22:58:05 -0400
malbec1 Linux (Ubuntu 18.04.4 LTS) / x86_64  OK 
nebbiolo1 Linux (Ubuntu 20.04.1 LTS) / x86_64  OK 
tokay1 Windows Server 2012 R2 Standard / x64  OK 
riesling1 Windows Server 2019 Standard / x64  OK 
merida1 macOS 10.14.6 Mojave / x86_64  OK 
Package 2/8HostnameOS / ArchCHECK
beachmat 2.5.5
Aaron Lun
Last Commit: aaaa782
Last Changed Date: 2020-09-24 01:27:58 -0400
malbec1 Linux (Ubuntu 18.04.4 LTS) / x86_64  OK 
nebbiolo1 Linux (Ubuntu 20.04.1 LTS) / x86_64  OK 
tokay1 Windows Server 2012 R2 Standard / x64  OK 
riesling1 Windows Server 2019 Standard / x64  OK 
merida1 macOS 10.14.6 Mojave / x86_64  NA 
Package 3/8HostnameOS / ArchCHECK
cBioPortalData 2.1.41
Marcel Ramos
Last Commit: 27e2e7e
Last Changed Date: 2020-09-25 16:27:39 -0400
malbec1 Linux (Ubuntu 18.04.4 LTS) / x86_64  WARNINGS 
nebbiolo1 Linux (Ubuntu 20.04.1 LTS) / x86_64  WARNINGS 
tokay1 Windows Server 2012 R2 Standard / x64  WARNINGS 
riesling1 Windows Server 2019 Standard / x64  WARNINGS 
merida1 macOS 10.14.6 Mojave / x86_64  WARNINGS 
Package 4/8HostnameOS / ArchCHECK
DropletUtils 1.9.11
Aaron Lun
Last Commit: 5e6d650
Last Changed Date: 2020-09-08 00:45:58 -0400
malbec1 Linux (Ubuntu 18.04.4 LTS) / x86_64  OK 
nebbiolo1 Linux (Ubuntu 20.04.1 LTS) / x86_64  OK 
tokay1 Windows Server 2012 R2 Standard / x64  ERROR 
riesling1 Windows Server 2019 Standard / x64  ERROR 
merida1 macOS 10.14.6 Mojave / x86_64  OK 
Package 5/8HostnameOS / ArchCHECK
GenomicFeatures 1.41.3
Bioconductor Package Maintainer
Last Commit: 5682a31
Last Changed Date: 2020-09-03 13:46:03 -0400
malbec1 Linux (Ubuntu 18.04.4 LTS) / x86_64  WARNINGS 
nebbiolo1 Linux (Ubuntu 20.04.1 LTS) / x86_64  WARNINGS 
tokay1 Windows Server 2012 R2 Standard / x64  WARNINGS 
riesling1 Windows Server 2019 Standard / x64  WARNINGS 
merida1 macOS 10.14.6 Mojave / x86_64  WARNINGS 
Package 6/8HostnameOS / ArchCHECK
HDF5Array 1.17.7
Hervé Pagès
Last Commit: ca46992
Last Changed Date: 2020-09-25 22:45:01 -0400
malbec1 Linux (Ubuntu 18.04.4 LTS) / x86_64  OK 
nebbiolo1 Linux (Ubuntu 20.04.1 LTS) / x86_64  OK 
tokay1 Windows Server 2012 R2 Standard / x64  WARNINGS 
riesling1 Windows Server 2019 Standard / x64  WARNINGS 
merida1 macOS 10.14.6 Mojave / x86_64  OK 
Package 7/8HostnameOS / ArchCHECK
rhdf5 2.33.9
Mike Smith
Last Commit: 1af753a
Last Changed Date: 2020-09-24 10:56:27 -0400
malbec1 Linux (Ubuntu 18.04.4 LTS) / x86_64  OK 
nebbiolo1 Linux (Ubuntu 20.04.1 LTS) / x86_64  WARNINGS 
tokay1 Windows Server 2012 R2 Standard / x64  ERROR 
riesling1 Windows Server 2019 Standard / x64  ERROR 
merida1 macOS 10.14.6 Mojave / x86_64  OK 
Package 8/8HostnameOS / ArchCHECK
xcms 3.11.7
Steffen Neumann
Last Commit: e5389a8
Last Changed Date: 2020-09-18 05:26:41 -0400
malbec1 Linux (Ubuntu 18.04.4 LTS) / x86_64  OK 
nebbiolo1 Linux (Ubuntu 20.04.1 LTS) / x86_64  OK 
tokay1 Windows Server 2012 R2 Standard / x64  OK 
riesling1 Windows Server 2019 Standard / x64  OK 
merida1 macOS 10.14.6 Mojave / x86_64  OK